Workbook

Sheet Página Inicial
A6: Caro usuário, | C6: Seu Nome
A8: Essa planilha foi feita para ajudar no seu Controle Financeiro.
A9: Ficaremos gratos pela sua ajuda com sugestões e comentários
A10: através do e-mail contato@markcontabil.com.br
B13: Mês Janeiro a Dezembro | F13: Gráficos Comparativos

Sheet Ano 2026
B2: Controle 2026 | D2: Janeiro | G2: Fevereiro | J2: Março | M2: Abril | P2: Maio | S2: Junho | V2: Julho | Y2: Agosto | AB2: Setembro | AE2: Outubro | AH2: Novembro | AK2: Dezembro | AR2: Total Ano | AU2: Média Ano
B3: Discriminação dos itens | D3: =G3 -> Seu Nome | E3: Total | G3: ='Página Inicial'!C6 -> Seu Nome | H3: Total | J3: =G3 -> Seu Nome | K3: Total | M3: =J3 -> Seu Nome | N3: Total | P3: =M3 -> Seu Nome | Q3: Total | S3: =P3 -> Seu Nome | T3: Total | V3: =S3 -> Seu Nome | W3: Total | Y3: =V3 -> Seu Nome | Z3: Total | AB3: =Y3 -> Seu Nome | AC3: Total | AE3: =AB3 -> Seu Nome | AF3: Total | AH3: =AE3 -> Seu Nome | AI3: Total | AK3: =AH3 -> Seu Nome | AL3: Total | AR3: =AK3 -> Seu Nome | AS3: Total | AU3: =AR3 -> Seu Nome | AV3: Total
B4: Mesadas | AR4: =D4+G4+J4+M4+P4+S4+V4+Y4+AB4+AE4+AH4+AK4 -> 0 | AU4: =AR4/12 -> 0
B5: Bolsa de Estágio | AR5: =D5+G5+J5+M5+P5+S5+V5+Y5+AB5+AE5+AH5+AK5 -> 0 | AU5: =AR5/12 -> 0
AR6: =D6+G6+J6+M6+P6+S6+V6+Y6+AB6+AE6+AH6+AK6 -> 0 | AU6: =AR6/12 -> 0
B7: Extras 1 | AR7: =D7+G7+J7+M7+P7+S7+V7+Y7+AB7+AE7+AH7+AK7 -> 0 | AU7: =AR7/12 -> 0
B8: Extras 2 | AR8: =D8+G8+J8+M8+P8+S8+V8+Y8+AB8+AE8+AH8+AK8 -> 0 | AU8: =AR8/12 -> 0
AR9: =D9+G9+J9+M9+P9+S9+V9+Y9+AB9+AE9+AH9+AK9 -> 0 | AU9: =AR9/12 -> 0
AR10: =D10+G10+J10+M10+P10+S10+V10+Y10+AB10+AE10+AH10+AK10 -> 0 | AU10: =AR10/12 -> 0
B11: Total Receitas: | D11: =SUM(D4:D10) -> 0 | G11: =SUM(G4:G10) -> 0 | J11: =SUM(J4:J10) -> 0 | M11: =SUM(M4:M10) -> 0 | P11: =SUM(P4:P10) -> 0 | S11: =SUM(S4:S10) -> 0 | V11: =SUM(V4:V10) -> 0 | Y11: =SUM(Y4:Y10) -> 0 | AB11: =SUM(AB4:AB10) -> 0 | AE11: =SUM(AE4:AE10) -> 0 | AH11: =SUM(AH4:AH10) -> 0 | AK11: =SUM(AK4:AK10) -> 0 | AR11: =SUM(AR4:AR10) -> 0 | AU11: =SUM(AU4:AU10) -> 0
B12: Despesas por Grupo
B13: 1) Despesas Pessoais | D13: R$ | E13: Percentual despesa total | G13: R$ | H13: Percentual despesa total | J13: R$ | K13: Percentual despesa total | M13: R$ | N13: Percentual despesa total | P13: R$ | Q13: Percentual despesa total | S13: R$ | T13: Percentual despesa total | V13: R$ | W13: Percentual despesa total | Y13: R$ | Z13: Percentual despesa total | AB13: R$ | AC13: Percentual despesa total | AE13: R$ | AF13: Percentual despesa total | AH13: R$ | AI13: Percentual despesa total | AK13: R$ | AL13: Percentual despesa total | AR13: R$ | AS13: Percentual despesa total | AU13: R$ | AV13: Percentual despesa total
B14: Academia / Esporte | E14: =IF(D22=0,"",D22/D74) | H14: =IF(G22=0,"",G22/G74) | K14: =IF(J22=0,"",J22/J74) | N14: =IF(M22=0,"",M22/M74) | Q14: =IF(P22=0,"",P22/P74) | T14: =IF(S22=0,"",S22/S74) | W14: =IF(V22=0,"",V22/V74) | Z14: =IF(Y22=0,"",Y22/Y74) | AC14: =IF(AB22=0,"",AB22/AB74) | AF14: =IF(AE22=0,"",AE22/AE74) | AI14: =IF(AH22=0,"",AH22/AH74) | AL14: =IF(AK22=0,"",AK22/AK74) | AR14: =D14+G14+J14+M14+P14+S14+V14+Y14+AB14+AE14+AH14+AK14 -> 0 | AS14: =IF(AR22=0,"",AR22/AR74) | AU14: =AR14/12 -> 0 | AV14: =IF(AU22=0,"",AU22/AU74)
B15: Salão de Beleza | AR15: =D15+G15+J15+M15+P15+S15+V15+Y15+AB15+AE15+AH15+AK15 -> 0 | AU15: =AR15/12 -> 0
B16: Telefone Celular | AR16: =D16+G16+J16+M16+P16+S16+V16+Y16+AB16+AE16+AH16+AK16 -> 0 | AU16: =AR16/12 -> 0
B17: Roupas e acessórios | AR17: =D17+G17+J17+M17+P17+S17+V17+Y17+AB17+AE17+AH17+AK17 -> 0 | AU17: =AR17/12 -> 0
B18: Internet / Comunicação | AR18: =D18+G18+J18+M18+P18+S18+V18+Y18+AB18+AE18+AH18+AK18 -> 0 | AU18: =AR18/12 -> 0
AR19: =D19+G19+J19+M19+P19+S19+V19+Y19+AB19+AE19+AH19+AK19 -> 0 | AU19: =AR19/12 -> 0
AR20: =D20+G20+J20+M20+P20+S20+V20+Y20+AB20+AE20+AH20+AK20 -> 0 | AU20: =AR20/12 -> 0
AR21: =D21+G21+J21+M21+P21+S21+V21+Y21+AB21+AE21+AH21+AK21 -> 0 | AU21: =AR21/12 -> 0
B22: Total Grupo 1: | D22: =SUM(D14:D21) -> 0 | G22: =SUM(G14:G21) -> 0 | J22: =SUM(J14:J21) -> 0 | M22: =SUM(M14:M21) -> 0 | P22: =SUM(P14:P21) -> 0 | S22: =SUM(S14:S21) -> 0 | V22: =SUM(V14:V21) -> 0 | Y22: =SUM(Y14:Y21) -> 0 | AB22: =SUM(AB14:AB21) -> 0 | AE22: =SUM(AE14:AE21) -> 0 | AH22: =SUM(AH14:AH21) -> 0 | AK22: =SUM(AK14:AK21) -> 0 | AR22: =SUM(AR14:AR21) -> 0 | AU22: =SUM(AU14:AU21) -> 0
B23: 2) Despesas escolares / estudantis | D23: R$ | E23: Percentual despesa total | G23: R$ | H23: Percentual despesa total | J23: R$ | K23: Percentual despesa total | M23: R$ | N23: Percentual despesa total | P23: R$ | Q23: Percentual despesa total | S23: R$ | T23: Percentual despesa total | V23: R$ | W23: Percentual despesa total | Y23: R$ | Z23: Percentual despesa total | AB23: R$ | AC23: Percentual despesa total | AE23: R$ | AF23: Percentual despesa total | AH23: R$ | AI23: Percentual despesa total | AK23: R$ | AL23: Percentual despesa total | AR23: R$ | AS23: Percentual despesa total | AU23: R$ | AV23: Percentual despesa total
B24: Xerox / Impressões | E24: =IF(D32=0,"",D32/D74) | H24: =IF(G32=0,"",G32/G74) | K24: =IF(J32=0,"",J32/J74) | N24: =IF(M32=0,"",M32/M74) | Q24: =IF(P32=0,"",P32/P74) | T24: =IF(S32=0,"",S32/S74) | W24: =IF(V32=0,"",V32/V74) | Z24: =IF(Y32=0,"",Y32/Y74) | AC24: =IF(AB32=0,"",AB32/AB74) | AF24: =IF(AE32=0,"",AE32/AE74) | AI24: =IF(AH32=0,"",AH32/AH74) | AL24: =IF(AK32=0,"",AK32/AK74) | AR24: =D24+G24+J24+M24+P24+S24+V24+Y24+AB24+AE24+AH24+AK24 -> 0 | AS24: =IF(AR32=0,"",AR32/AR74) | AU24: =AR24/12 -> 0 | AV24: =IF(AU32=0,"",AU32/AU74)
B25: Encadernação | AR25: =D25+G25+J25+M25+P25+S25+V25+Y25+AB25+AE25+AH25+AK25 -> 0 | AU25: =AR25/12 -> 0
B26: Material de Papelaria | AR26: =D26+G26+J26+M26+P26+S26+V26+Y26+AB26+AE26+AH26+AK26 -> 0 | AU26: =AR26/12 -> 0
B27: Cursos | AR27: =D27+G27+J27+M27+P27+S27+V27+Y27+AB27+AE27+AH27+AK27 -> 0 | AU27: =AR27/12 -> 0
B28: Livros | AR28: =D28+G28+J28+M28+P28+S28+V28+Y28+AB28+AE28+AH28+AK28 -> 0 | AU28: =AR28/12 -> 0
AR29: =D29+G29+J29+M29+P29+S29+V29+Y29+AB29+AE29+AH29+AK29 -> 0 | AU29: =AR29/12 -> 0
AR30: =D30+G30+J30+M30+P30+S30+V30+Y30+AB30+AE30+AH30+AK30 -> 0 | AU30: =AR30/12 -> 0
AR31: =D31+G31+J31+M31+P31+S31+V31+Y31+AB31+AE31+AH31+AK31 -> 0 | AU31: =AR31/12 -> 0
B32: Total Grupo 2: | D32: =SUM(D24:D31) -> 0 | G32: =SUM(G24:G31) -> 0 | J32: =SUM(J24:J31) -> 0 | M32: =SUM(M24:M31) -> 0 | P32: =SUM(P24:P31) -> 0 | S32: =SUM(S24:S31) -> 0 | V32: =SUM(V24:V31) -> 0 | Y32: =SUM(Y24:Y31) -> 0 | AB32: =SUM(AB24:AB31) -> 0 | AE32: =SUM(AE24:AE31) -> 0 | AH32: =SUM(AH24:AH31) -> 0 | AK32: =SUM(AK24:AK31) -> 0 | AR32: =SUM(AR24:AR31) -> 0 | AU32: =SUM(AU24:AU31) -> 0
B33: 3) Alimentação fora de casa | D33: R$ | E33: Percentual despesa total | G33: R$ | H33: Percentual despesa total | J33: R$ | K33: Percentual despesa total | M33: R$ | N33: Percentual despesa total | P33: R$ | Q33: Percentual despesa total | S33: R$ | T33: Percentual despesa total | V33: R$ | W33: Percentual despesa total | Y33: R$ | Z33: Percentual despesa total | AB33: R$ | AC33: Percentual despesa total | AE33: R$ | AF33: Percentual despesa total | AH33: R$ | AI33: Percentual despesa total | AK33: R$ | AL33: Percentual despesa total | AR33: R$ | AS33: Percentual despesa total | AU33: R$ | AV33: Percentual despesa total
B34: Lanches / Lanchonetes | E34: =IF(D42=0,"",D42/D74) | H34: =IF(G42=0,"",G42/G74) | K34: =IF(J42=0,"",J42/J74) | N34: =IF(M42=0,"",M42/M74) | Q34: =IF(P42=0,"",P42/P74) | T34: =IF(S42=0,"",S42/S74) | W34: =IF(V42=0,"",V42/V74) | Z34: =IF(Y42=0,"",Y42/Y74) | AC34: =IF(AB42=0,"",AB42/AB74) | AF34: =IF(AE42=0,"",AE42/AE74) | AI34: =IF(AH42=0,"",AH42/AH74) | AL34: =IF(AK42=0,"",AK42/AK74) | AR34: =D34+G34+J34+M34+P34+S34+V34+Y34+AB34+AE34+AH34+AK34 -> 0 | AS34: =IF(AR42=0,"",AR42/AR74) | AU34: =AR34/12 -> 0 | AV34: =IF(AU42=0,"",AU42/AU74)
B35: Restaurantes | AR35: =D35+G35+J35+M35+P35+S35+V35+Y35+AB35+AE35+AH35+AK35 -> 0 | AU35: =AR35/12 -> 0
B36: Outros 1 - | AR36: =D36+G36+J36+M36+P36+S36+V36+Y36+AB36+AE36+AH36+AK36 -> 0 | AU36: =AR36/12 -> 0
AR37: =D37+G37+J37+M37+P37+S37+V37+Y37+AB37+AE37+AH37+AK37 -> 0 | AU37: =AR37/12 -> 0
AR38: =D38+G38+J38+M38+P38+S38+V38+Y38+AB38+AE38+AH38+AK38 -> 0 | AU38: =AR38/12 -> 0
AR39: =D39+G39+J39+M39+P39+S39+V39+Y39+AB39+AE39+AH39+AK39 -> 0 | AU39: =AR39/12 -> 0
AR40: =D40+G40+J40+M40+P40+S40+V40+Y40+AB40+AE40+AH40+AK40 -> 0 | AU40: =AR40/12 -> 0
AR41: =D41+G41+J41+M41+P41+S41+V41+Y41+AB41+AE41+AH41+AK41 -> 0 | AU41: =AR41/12 -> 0
...

Sheet Gráficos
A1: Planilha com Gráficos Comparativos - Ano 2026
A4: Meses | B4: Receitas | C4: Despesas | D4: Diferença
A5: Janeiro | B5: ='Ano 2026'!D11 -> 0 | C5: ='Ano 2026'!D74 -> 0 | D5: =B5-C5 -> 0
A6: Fevereiro | B6: ='Ano 2026'!G11 -> 0 | C6: ='Ano 2026'!G74 -> 0 | D6: =B6-C6 -> 0
A7: Março | B7: ='Ano 2026'!J11 -> 0 | C7: ='Ano 2026'!J74 -> 0 | D7: =B7-C7 -> 0
A8: Abril | B8: ='Ano 2026'!M11 -> 0 | C8: ='Ano 2026'!M74 -> 0 | D8: =B8-C8 -> 0
A9: Maio | B9: ='Ano 2026'!P11 -> 0 | C9: ='Ano 2026'!P74 -> 0 | D9: =B9-C9 -> 0
A10: Junho | B10: ='Ano 2026'!S11 -> 0 | C10: ='Ano 2026'!S74 -> 0 | D10: =B10-C10 -> 0
A11: Julho | B11: ='Ano 2026'!V11 -> 0 | C11: ='Ano 2026'!V74 -> 0 | D11: =B11-C11 -> 0
A12: Agosto | B12: ='Ano 2026'!Y11 -> 0 | C12: ='Ano 2026'!Y74 -> 0 | D12: =B12-C12 -> 0
A13: Setembro | B13: ='Ano 2026'!AB11 -> 0 | C13: ='Ano 2026'!AB74 -> 0 | D13: =B13-C13 -> 0
A14: Outubro | B14: ='Ano 2026'!AE11 -> 0 | C14: ='Ano 2026'!AE74 -> 0 | D14: =B14-C14 -> 0
A15: Novembro | B15: ='Ano 2026'!AH11 -> 0 | C15: ='Ano 2026'!AH74 -> 0 | D15: =B15-C15 -> 0
A16: Dezembro | B16: ='Ano 2026'!AK11 -> 0 | C16: ='Ano 2026'!AK74 -> 0 | D16: =B16-C16 -> 0
