Workbook

Sheet Página Inicial
A6: Caro usuário, | C6: Seu Nome
A8: Essa planilha foi feita para ajudar no seu Controle Financeiro.
A9: Ficaremos gratos pela sua ajuda com sugestões e comentários
A10: através do e-mail contato@markcontabil.com.br
B13: Mês Janeiro a Dezembro | F13: Gráficos Comparativos

Sheet Ano 2026
B2: Controle 2026 | D2: Janeiro | G2: Fevereiro | J2: Março | M2: Abril | P2: Maio | S2: Junho | V2: Julho | Y2: Agosto | AB2: Setembro | AE2: Outubro | AH2: Novembro | AK2: Dezembro | AR2: Total Ano | AU2: Média Ano
B3: Discriminação dos itens | D3: =G3 -> Seu Nome | E3: Total | G3: ='Página Inicial'!C6 -> Seu Nome | H3: Total | J3: =G3 -> Seu Nome | K3: Total | M3: =J3 -> Seu Nome | N3: Total | P3: =M3 -> Seu Nome | Q3: Total | S3: =P3 -> Seu Nome | T3: Total | V3: =S3 -> Seu Nome | W3: Total | Y3: =V3 -> Seu Nome | Z3: Total | AB3: =Y3 -> Seu Nome | AC3: Total | AE3: =AB3 -> Seu Nome | AF3: Total | AH3: =AE3 -> Seu Nome | AI3: Total | AK3: =AH3 -> Seu Nome | AL3: Total | AR3: =AK3 -> Seu Nome | AS3: Total | AU3: =AR3 -> Seu Nome | AV3: Total
B4: Mesadas | AR4: =D4+G4+J4+M4+P4+S4+V4+Y4+AB4+AE4+AH4+AK4 -> 0 | AU4: =AR4/12 -> 0
B5: Bolsa de Estágio | AR5: =D5+G5+J5+M5+P5+S5+V5+Y5+AB5+AE5+AH5+AK5 -> 0 | AU5: =AR5/12 -> 0
AR6: =D6+G6+J6+M6+P6+S6+V6+Y6+AB6+AE6+AH6+AK6 -> 0 | AU6: =AR6/12 -> 0
B7: Extras 1 | AR7: =D7+G7+J7+M7+P7+S7+V7+Y7+AB7+AE7+AH7+AK7 -> 0 | AU7: =AR7/12 -> 0
B8: Extras 2 | AR8: =D8+G8+J8+M8+P8+S8+V8+Y8+AB8+AE8+AH8+AK8 -> 0 | AU8: =AR8/12 -> 0
AR9: =D9+G9+J9+M9+P9+S9+V9+Y9+AB9+AE9+AH9+AK9 -> 0 | AU9: =AR9/12 -> 0
AR10: =D10+G10+J10+M10+P10+S10+V10+Y10+AB10+AE10+AH10+AK10 -> 0 | AU10: =AR10/12 -> 0
B11: Total Receitas: | D11: =SUM(D4:D10) -> 0 | G11: =SUM(G4:G10) -> 0 | J11: =SUM(J4:J10) -> 0 | M11: =SUM(M4:M10) -> 0 | P11: =SUM(P4:P10) -> 0 | S11: =SUM(S4:S10) -> 0 | V11: =SUM(V4:V10) -> 0 | Y11: =SUM(Y4:Y10) -> 0 | AB11: =SUM(AB4:AB10) -> 0 | AE11: =SUM(AE4:AE10) -> 0 | AH11: =SUM(AH4:AH10) -> 0 | AK11: =SUM(AK4:AK10) -> 0 | AR11: =SUM(AR4:AR10) -> 0 | AU11: =SUM(AU4:AU10) -> 0
B12: Despesas por Grupo
B13: 1) Despesas Pessoais | D13: R$ | E13: Percentual despesa total | G13: R$ | H13: Percentual despesa total | J13: R$ | K13: Percentual despesa total | M13: R$ | N13: Percentual despesa total | P13: R$ | Q13: Percentual despesa total | S13: R$ | T13: Percentual despesa total | V13: R$ | W13: Percentual despesa total | Y13: R$ | Z13: Percentual despesa total | AB13: R$ | AC13: Percentual despesa total | AE13: R$ | AF13: Percentual despesa total | AH13: R$ | AI13: Percentual despesa total | AK13: R$ | AL13: Percentual despesa total | AR13: R$ | AS13: Percentual despesa total | AU13: R$ | AV13: Percentual despesa total
B14: Academia / Esporte | E14: =IF(D22=0,"",D22/D74) | H14: =IF(G22=0,"",G22/G74) | K14: =IF(J22=0,"",J22/J74) | N14: =IF(M22=0,"",M22/M74) | Q14: =IF(P22=0,"",P22/P74) | T14: =IF(S22=0,"",S22/S74) | W14: =IF(V22=0,"",V22/V74) | Z14: =IF(Y22=0,"",Y22/Y74) | AC14: =IF(AB22=0,"",AB22/AB74) | AF14: =IF(AE22=0,"",AE22/AE74) | AI14: =IF(AH22=0,"",AH22/AH74) | AL14: =IF(AK22=0,"",AK22/AK74) | AR14: =D14+G14+J14+M14+P14+S14+V14+Y14+AB14+AE14+AH14+AK14 -> 0 | AS14: =IF(AR22=0,"",AR22/AR74) | AU14: =AR14/12 -> 0 | AV14: =IF(AU22=0,"",AU22/AU74)
B15: Salão de Beleza | AR15: =D15+G15+J15+M15+P15+S15+V15+Y15+AB15+AE15+AH15+AK15 -> 0 | AU15: =AR15/12 -> 0
B16: Telefone Celular | AR16: =D16+G16+J16+M16+P16+S16+V16+Y16+AB16+AE16+AH16+AK16 -> 0 | AU16: =AR16/12 -> 0
B17: Roupas e acessórios | AR17: =D17+G17+J17+M17+P17+S17+V17+Y17+AB17+AE17+AH17+AK17 -> 0 | AU17: =AR17/12 -> 0
B18: Internet / Comunicação | AR18: =D18+G18+J18+M18+P18+S18+V18+Y18+AB18+AE18+AH18+AK18 -> 0 | AU18: =AR18/12 -> 0
AR19: =D19+G19+J19+M19+P19+S19+V19+Y19+AB19+AE19+AH19+AK19 -> 0 | AU19: =AR19/12 -> 0
AR20: =D20+G20+J20+M20+P20+S20+V20+Y20+AB20+AE20+AH20+AK20 -> 0 | AU20: =AR20/12 -> 0
AR21: =D21+G21+J21+M21+P21+S21+V21+Y21+AB21+AE21+AH21+AK21 -> 0 | AU21: =AR21/12 -> 0
B22: Total Grupo 1: | D22: =SUM(D14:D21) -> 0 | G22: =SUM(G14:G21) -> 0 | J22: =SUM(J14:J21) -> 0 | M22: =SUM(M14:M21) -> 0 | P22: =SUM(P14:P21) -> 0 | S22: =SUM(S14:S21) -> 0 | V22: =SUM(V14:V21) -> 0 | Y22: =SUM(Y14:Y21) -> 0 | AB22: =SUM(AB14:AB21) -> 0 | AE22: =SUM(AE14:AE21) -> 0 | AH22: =SUM(AH14:AH21) -> 0 | AK22: =SUM(AK14:AK21) -> 0 | AR22: =SUM(AR14:AR21) -> 0 | AU22: =SUM(AU14:AU21) -> 0
B23: 2) Despesas escolares / estudantis | D23: R$ | E23: Percentual despesa total | G23: R$ | H23: Percentual despesa total | J23: R$ | K23: Percentual despesa total | M23: R$ | N23: Percentual despesa total | P23: R$ | Q23: Percentual despesa total | S23: R$ | T23: Percentual despesa total | V23: R$ | W23: Percentual despesa total | Y23: R$ | Z23: Percentual despesa total | AB23: R$ | AC23: Percentual despesa total | AE23: R$ | AF23: Percentual despesa total | AH23: R$ | AI23: Percentual despesa total | AK23: R$ | AL23: Percentual despesa total | AR23: R$ | AS23: Percentual despesa total | AU23: R$ | AV23: Percentual despesa total
B24: Xerox / Impressões | E24: =IF(D32=0,"",D32/D74) | H24: =IF(G32=0,"",G32/G74) | K24: =IF(J32=0,"",J32/J74) | N24: =IF(M32=0,"",M32/M74) | Q24: =IF(P32=0,"",P32/P74) | T24: =IF(S32=0,"",S32/S74) | W24: =IF(V32=0,"",V32/V74) | Z24: =IF(Y32=0,"",Y32/Y74) | AC24: =IF(AB32=0,"",AB32/AB74) | AF24: =IF(AE32=0,"",AE32/AE74) | AI24: =IF(AH32=0,"",AH32/AH74) | AL24: =IF(AK32=0,"",AK32/AK74) | AR24: =D24+G24+J24+M24+P24+S24+V24+Y24+AB24+AE24+AH24+AK24 -> 0 | AS24: =IF(AR32=0,"",AR32/AR74) | AU24: =AR24/12 -> 0 | AV24: =IF(AU32=0,"",AU32/AU74)
B25: Encadernação | AR25: =D25+G25+J25+M25+P25+S25+V25+Y25+AB25+AE25+AH25+AK25 -> 0 | AU25: =AR25/12 -> 0
B26: Material de Papelaria | AR26: =D26+G26+J26+M26+P26+S26+V26+Y26+AB26+AE26+AH26+AK26 -> 0 | AU26: =AR26/12 -> 0
B27: Cursos | AR27: =D27+G27+J27+M27+P27+S27+V27+Y27+AB27+AE27+AH27+AK27 -> 0 | AU27: =AR27/12 -> 0
B28: Livros | AR28: =D28+G28+J28+M28+P28+S28+V28+Y28+AB28+AE28+AH28+AK28 -> 0 | AU28: =AR28/12 -> 0
AR29: =D29+G29+J29+M29+P29+S29+V29+Y29+AB29+AE29+AH29+AK29 -> 0 | AU29: =AR29/12 -> 0
AR30: =D30+G30+J30+M30+P30+S30+V30+Y30+AB30+AE30+AH30+AK30 -> 0 | AU30: =AR30/12 -> 0
AR31: =D31+G31+J31+M31+P31+S31+V31+Y31+AB31+AE31+AH31+AK31 -> 0 | AU31: =AR31/12 -> 0
B32: Total Grupo 2: | D32: =SUM(D24:D31) -> 0 | G32: =SUM(G24:G31) -> 0 | J32: =SUM(J24:J31) -> 0 | M32: =SUM(M24:M31) -> 0 | P32: =SUM(P24:P31) -> 0 | S32: =SUM(S24:S31) -> 0 | V32: =SUM(V24:V31) -> 0 | Y32: =SUM(Y24:Y31) -> 0 | AB32: =SUM(AB24:AB31) -> 0 | AE32: =SUM(AE24:AE31) -> 0 | AH32: =SUM(AH24:AH31) -> 0 | AK32: =SUM(AK24:AK31) -> 0 | AR32: =SUM(AR24:AR31) -> 0 | AU32: =SUM(AU24:AU31) -> 0
B33: 3) Alimentação fora de casa | D33: R$ | E33: Percentual despesa total | G33: R$ | H33: Percentual despesa total | J33: R$ | K33: Percentual despesa total | M33: R$ | N33: Percentual despesa total | P33: R$ | Q33: Percentual despesa total | S33: R$ | T33: Percentual despesa total | V33: R$ | W33: Percentual despesa total | Y33: R$ | Z33: Percentual despesa total | AB33: R$ | AC33: Percentual despesa total | AE33: R$ | AF33: Percentual despesa total | AH33: R$ | AI33: Percentual despesa total | AK33: R$ | AL33: Percentual despesa total | AR33: R$ | AS33: Percentual despesa total | AU33: R$ | AV33: Percentual despesa total
B34: Lanches / Lanchonetes | E34: =IF(D42=0,"",D42/D74) | H34: =IF(G42=0,"",G42/G74) | K34: =IF(J42=0,"",J42/J74) | N34: =IF(M42=0,"",M42/M74) | Q34: =IF(P42=0,"",P42/P74) | T34: =IF(S42=0,"",S42/S74) | W34: =IF(V42=0,"",V42/V74) | Z34: =IF(Y42=0,"",Y42/Y74) | AC34: =IF(AB42=0,"",AB42/AB74) | AF34: =IF(AE42=0,"",AE42/AE74) | AI34: =IF(AH42=0,"",AH42/AH74) | AL34: =IF(AK42=0,"",AK42/AK74) | AR34: =D34+G34+J34+M34+P34+S34+V34+Y34+AB34+AE34+AH34+AK34 -> 0 | AS34: =IF(AR42=0,"",AR42/AR74) | AU34: =AR34/12 -> 0 | AV34: =IF(AU42=0,"",AU42/AU74)
B35: Restaurantes | AR35: =D35+G35+J35+M35+P35+S35+V35+Y35+AB35+AE35+AH35+AK35 -> 0 | AU35: =AR35/12 -> 0
B36: Outros 1 - | AR36: =D36+G36+J36+M36+P36+S36+V36+Y36+AB36+AE36+AH36+AK36 -> 0 | AU36: =AR36/12 -> 0
AR37: =D37+G37+J37+M37+P37+S37+V37+Y37+AB37+AE37+AH37+AK37 -> 0 | AU37: =AR37/12 -> 0
AR38: =D38+G38+J38+M38+P38+S38+V38+Y38+AB38+AE38+AH38+AK38 -> 0 | AU38: =AR38/12 -> 0
AR39: =D39+G39+J39+M39+P39+S39+V39+Y39+AB39+AE39+AH39+AK39 -> 0 | AU39: =AR39/12 -> 0
AR40: =D40+G40+J40+M40+P40+S40+V40+Y40+AB40+AE40+AH40+AK40 -> 0 | AU40: =AR40/12 -> 0
AR41: =D41+G41+J41+M41+P41+S41+V41+Y41+AB41+AE41+AH41+AK41 -> 0 | AU41: =AR41/12 -> 0
B42: Total Grupo 3: | D42: =SUM(D34:D41) -> 0 | G42: =SUM(G34:G41) -> 0 | J42: =SUM(J34:J41) -> 0 | M42: =SUM(M34:M41) -> 0 | P42: =SUM(P34:P41) -> 0 | S42: =SUM(S34:S41) -> 0 | V42: =SUM(V34:V41) -> 0 | Y42: =SUM(Y34:Y41) -> 0 | AB42: =SUM(AB34:AB41) -> 0 | AE42: =SUM(AE34:AE41) -> 0 | AH42: =SUM(AH34:AH41) -> 0 | AK42: =SUM(AK34:AK41) -> 0 | AR42: =SUM(AR34:AR41) -> 0 | AU42: =SUM(AU34:AU41) -> 0
B44: 4) Transporte | D44: R$ | E44: Percentual despesa total | G44: R$ | H44: Percentual despesa total | J44: R$ | K44: Percentual despesa total | M44: R$ | N44: Percentual despesa total | P44: R$ | Q44: Percentual despesa total | S44: R$ | T44: Percentual despesa total | V44: R$ | W44: Percentual despesa total | Y44: R$ | Z44: Percentual despesa total | AB44: R$ | AC44: Percentual despesa total | AE44: R$ | AF44: Percentual despesa total | AH44: R$ | AI44: Percentual despesa total | AK44: R$ | AL44: Percentual despesa total | AR44: R$ | AS44: Percentual despesa total | AU44: R$ | AV44: Percentual despesa total
B45: Ônibus / Metrô | E45: =IF(D53=0,"",D53/D74) | H45: =IF(G53=0,"",G53/G74) | K45: =IF(J53=0,"",J53/J74) | N45: =IF(M53=0,"",M53/M74) | Q45: =IF(P53=0,"",P53/P74) | T45: =IF(S53=0,"",S53/S74) | W45: =IF(V53=0,"",V53/V74) | Z45: =IF(Y53=0,"",Y53/Y74) | AC45: =IF(AB53=0,"",AB53/AB74) | AF45: =IF(AE53=0,"",AE53/AE74) | AI45: =IF(AH53=0,"",AH53/AH74) | AL45: =IF(AK53=0,"",AK53/AK74) | AR45: =D45+G45+J45+M45+P45+S45+V45+Y45+AB45+AE45+AH45+AK45 -> 0 | AS45: =IF(AR53=0,"",AR53/AR74) | AU45: =AR45/12 -> 0 | AV45: =IF(AU53=0,"",AU53/AU74)
B46: Combustível | AR46: =D46+G46+J46+M46+P46+S46+V46+Y46+AB46+AE46+AH46+AK46 -> 0 | AU46: =AR46/12 -> 0
B47: Estacionamentos | AR47: =D47+G47+J47+M47+P47+S47+V47+Y47+AB47+AE47+AH47+AK47 -> 0 | AU47: =AR47/12 -> 0
B48: Táxi | AR48: =D48+G48+J48+M48+P48+S48+V48+Y48+AB48+AE48+AH48+AK48 -> 0 | AU48: =AR48/12 -> 0
B49: Outros 1 - | AR49: =D49+G49+J49+M49+P49+S49+V49+Y49+AB49+AE49+AH49+AK49 -> 0 | AU49: =AR49/12 -> 0
AR50: =D50+G50+J50+M50+P50+S50+V50+Y50+AB50+AE50+AH50+AK50 -> 0 | AU50: =AR50/12 -> 0
AR51: =D51+G51+J51+M51+P51+S51+V51+Y51+AB51+AE51+AH51+AK51 -> 0 | AU51: =AR51/12 -> 0
AR52: =D52+G52+J52+M52+P52+S52+V52+Y52+AB52+AE52+AH52+AK52 -> 0 | AU52: =AR52/12 -> 0
B53: Total Grupo 4: | D53: =SUM(D45:D52) -> 0 | G53: =SUM(G45:G52) -> 0 | J53: =SUM(J45:J52) -> 0 | M53: =SUM(M45:M52) -> 0 | P53: =SUM(P45:P52) -> 0 | S53: =SUM(S45:S52) -> 0 | V53: =SUM(V45:V52) -> 0 | Y53: =SUM(Y45:Y52) -> 0 | AB53: =SUM(AB45:AB52) -> 0 | AE53: =SUM(AE45:AE52) -> 0 | AH53: =SUM(AH45:AH52) -> 0 | AK53: =SUM(AK45:AK52) -> 0 | AR53: =SUM(AR45:AR52) -> 0 | AU53: =SUM(AU45:AU52) -> 0
B54: 5) Lazer | D54: R$ | E54: Percentual despesa total | G54: R$ | H54: Percentual despesa total | J54: R$ | K54: Percentual despesa total | M54: R$ | N54: Percentual despesa total | P54: R$ | Q54: Percentual despesa total | S54: R$ | T54: Percentual despesa total | V54: R$ | W54: Percentual despesa total | Y54: R$ | Z54: Percentual despesa total | AB54: R$ | AC54: Percentual despesa total | AE54: R$ | AF54: Percentual despesa total | AH54: R$ | AI54: Percentual despesa total | AK54: R$ | AL54: Percentual despesa total | AR54: R$ | AS54: Percentual despesa total | AU54: R$ | AV54: Percentual despesa total
B55: Festas | E55: =IF(D63=0,"",D63/D74) | H55: =IF(G63=0,"",G63/G74) | K55: =IF(J63=0,"",J63/J74) | N55: =IF(M63=0,"",M63/M74) | Q55: =IF(P63=0,"",P63/P74) | T55: =IF(S63=0,"",S63/S74) | W55: =IF(V63=0,"",V63/V74) | Z55: =IF(Y63=0,"",Y63/Y74) | AC55: =IF(AB63=0,"",AB63/AB74) | AF55: =IF(AE63=0,"",AE63/AE74) | AI55: =IF(AH63=0,"",AH63/AH74) | AL55: =IF(AK63=0,"",AK63/AK74) | AR55: =D55+G55+J55+M55+P55+S55+V55+Y55+AB55+AE55+AH55+AK55 -> 0 | AS55: =IF(AR63=0,"",AR63/AR74) | AU55: =AR55/12 -> 0 | AV55: =IF(AU63=0,"",AU63/AU74)
B56: Barzinhos | AR56: =D56+G56+J56+M56+P56+S56+V56+Y56+AB56+AE56+AH56+AK56 -> 0 | AU56: =AR56/12 -> 0
B57: Viagens (Hospedagem, passagem, etc) | AR57: =D57+G57+J57+M57+P57+S57+V57+Y57+AB57+AE57+AH57+AK57 -> 0 | AU57: =AR57/12 -> 0
B58: Cinema | AR58: =D58+G58+J58+M58+P58+S58+V58+Y58+AB58+AE58+AH58+AK58 -> 0 | AU58: =AR58/12 -> 0
B59: Shopping | AR59: =D59+G59+J59+M59+P59+S59+V59+Y59+AB59+AE59+AH59+AK59 -> 0 | AU59: =AR59/12 -> 0
B60: Outros 1 - | AR60: =D60+G60+J60+M60+P60+S60+V60+Y60+AB60+AE60+AH60+AK60 -> 0 | AU60: =AR60/12 -> 0
AR61: =D61+G61+J61+M61+P61+S61+V61+Y61+AB61+AE61+AH61+AK61 -> 0 | AU61: =AR61/12 -> 0
AR62: =D62+G62+J62+M62+P62+S62+V62+Y62+AB62+AE62+AH62+AK62 -> 0 | AU62: =AR62/12 -> 0
B63: Total Grupo 5: | D63: =SUM(D55:D62) -> 0 | G63: =SUM(G55:G62) -> 0 | J63: =SUM(J55:J62) -> 0 | M63: =SUM(M55:M62) -> 0 | P63: =SUM(P55:P62) -> 0 | S63: =SUM(S55:S62) -> 0 | V63: =SUM(V55:V62) -> 0 | Y63: =SUM(Y55:Y62) -> 0 | AB63: =SUM(AB55:AB62) -> 0 | AE63: =SUM(AE55:AE62) -> 0 | AH63: =SUM(AH55:AH62) -> 0 | AK63: =SUM(AK55:AK62) -> 0 | AR63: =SUM(AR55:AR62) -> 0 | AU63: =SUM(AU55:AU62) -> 0
B65: 6) Outras Despesas / Variáveis | D65: R$ | E65: Percentual despesa total | G65: R$ | H65: Percentual despesa total | J65: R$ | K65: Percentual despesa total | M65: R$ | N65: Percentual despesa total | P65: R$ | Q65: Percentual despesa total | S65: R$ | T65: Percentual despesa total | V65: R$ | W65: Percentual despesa total | Y65: R$ | Z65: Percentual despesa total | AB65: R$ | AC65: Percentual despesa total | AE65: R$ | AF65: Percentual despesa total | AH65: R$ | AI65: Percentual despesa total | AK65: R$ | AL65: Percentual despesa total | AR65: R$ | AS65: Percentual despesa total | AU65: R$ | AV65: Percentual despesa total
B66: Presentes | E66: =IF(D72=0,"",D72/D74) | H66: =IF(G72=0,"",G72/G74) | K66: =IF(J72=0,"",J72/J74) | N66: =IF(M72=0,"",M72/M74) | Q66: =IF(P72=0,"",P72/P74) | T66: =IF(S72=0,"",S72/S74) | W66: =IF(V72=0,"",V72/V74) | Z66: =IF(Y72=0,"",Y72/Y74) | AC66: =IF(AB72=0,"",AB72/AB74) | AF66: =IF(AE72=0,"",AE72/AE74) | AI66: =IF(AH72=0,"",AH72/AH74) | AL66: =IF(AK72=0,"",AK72/AK74) | AR66: =D66+G66+J66+M66+P66+S66+V66+Y66+AB66+AE66+AH66+AK66 -> 0 | AS66: =IF(AR72=0,"",AR72/AR74) | AU66: =AR66/12 -> 0 | AV66: =IF(AU72=0,"",AU72/AU74)
B67: Outros 1 - | AR67: =D67+G67+J67+M67+P67+S67+V67+Y67+AB67+AE67+AH67+AK67 -> 0 | AU67: =AR67/12 -> 0
AR68: =D68+G68+J68+M68+P68+S68+V68+Y68+AB68+AE68+AH68+AK68 -> 0 | AU68: =AR68/12 -> 0
AR69: =D69+G69+J69+M69+P69+S69+V69+Y69+AB69+AE69+AH69+AK69 -> 0 | AU69: =AR69/12 -> 0
AR70: =D70+G70+J70+M70+P70+S70+V70+Y70+AB70+AE70+AH70+AK70 -> 0 | AU70: =AR70/12 -> 0
AR71: =D71+G71+J71+M71+P71+S71+V71+Y71+AB71+AE71+AH71+AK71 -> 0 | AU71: =AR71/12 -> 0
B72: Total Grupo 6: | D72: =SUM(D66:D71) -> 0 | G72: =SUM(G66:G71) -> 0 | J72: =SUM(J66:J71) -> 0 | M72: =SUM(M66:M71) -> 0 | P72: =SUM(P66:P71) -> 0 | S72: =SUM(S66:S71) -> 0 | V72: =SUM(V66:V71) -> 0 | Y72: =SUM(Y66:Y71) -> 0 | AB72: =SUM(AB66:AB71) -> 0 | AE72: =SUM(AE66:AE71) -> 0 | AH72: =SUM(AH66:AH71) -> 0 | AK72: =SUM(AK66:AK71) -> 0 | AR72: =SUM(AR66:AR71) -> 0 | AU72: =SUM(AU66:AU71) -> 0
B74: Total Despesas por Grupos: | D74: =D63+D22+D42+D53+D32+D72 -> 0 | G74: =G63+G22+G42+G53+G32+G72 -> 0 | J74: =J63+J22+J42+J53+J32+J72 -> 0 | M74: =M63+M22+M42+M53+M32+M72 -> 0 | P74: =P63+P22+P42+P53+P32+P72 -> 0 | S74: =S63+S22+S42+S53+S32+S72 -> 0 | V74: =V63+V22+V42+V53+V32+V72 -> 0 | Y74: =Y63+Y22+Y42+Y53+Y32+Y72 -> 0 | AB74: =AB63+AB22+AB42+AB53+AB32+AB72 -> 0 | AE74: =AE63+AE22+AE42+AE53+AE32+AE72 -> 0 | AH74: =AH63+AH22+AH42+AH53+AH32+AH72 -> 0 | AK74: =AK63+AK22+AK42+AK53+AK32+AK72 -> 0 | AR74: =AR63+AR22+AR42+AR53+AR32+AR72 -> 0 | AU74: =AU63+AU22+AU42+AU53+AU32+AU72 -> 0
B76: Disponível final do mês: | D76: =D11-D74 -> 0 | G76: =G11-G74 -> 0 | J76: =J11-J74 -> 0 | M76: =M11-M74 -> 0 | P76: =P11-P74 -> 0 | S76: =S11-S74 -> 0 | V76: =V11-V74 -> 0 | Y76: =Y11-Y74 -> 0 | AB76: =AB11-AB74 -> 0 | AE76: =AE11-AE74 -> 0 | AH76: =AH11-AH74 -> 0 | AK76: =AK11-AK74 -> 0 | AR76: =AR11-AR74 -> 0 | AU76: =AU11-AU74 -> 0
B80: Receitas versus Despesas | D80: Resumo do Mês | G80: Resumo do Mês | J80: Resumo do Mês | M80: Resumo do Mês | P80: Resumo do Mês | S80: Resumo do Mês | V80: Resumo do Mês | Y80: Resumo do Mês | AB80: Resumo do Mês | AE80: Resumo do Mês | AH80: Resumo do Mês | AK80: Resumo do Mês | AR80: Resumo do Ano | AU80: Resumo Média Ano
B81: Soma Receitas | D81: =IF((D11)=0,"",D11) | G81: =IF((G11)=0,"",G11) | J81: =IF((J11)=0,"",J11) | M81: =IF((M11)=0,"",M11) | P81: =IF((P11)=0,"",P11) | S81: =IF((S11)=0,"",S11) | V81: =IF((V11)=0,"",V11) | Y81: =IF((Y11)=0,"",Y11) | AB81: =IF((AB11)=0,"",AB11) | AE81: =IF((AE11)=0,"",AE11) | AH81: =IF((AH11)=0,"",AH11) | AK81: =IF((AK11)=0,"",AK11) | AR81: =IF((AR11)=0,"",AR11) | AU81: =IF((AU11)=0,"",AU11)
B82: Soma Despesas | D82: =IF((D74)=0,"",D74) | G82: =IF((G74)=0,"",G74) | J82: =IF((J74)=0,"",J74) | M82: =IF((M74)=0,"",M74) | P82: =IF((P74)=0,"",P74) | S82: =IF((S74)=0,"",S74) | V82: =IF((V74)=0,"",V74) | Y82: =IF((Y74)=0,"",Y74) | AB82: =IF((AB74)=0,"",AB74) | AE82: =IF((AE74)=0,"",AE74) | AH82: =IF((AH74)=0,"",AH74) | AK82: =IF((AK74)=0,"",AK74) | AR82: =IF((AR74)=0,"",AR74) | AU82: =IF((AU74)=0,"",AU74)
B83: Diferença - Receitas X Despesas | D83: =IF(D11=0,"",(IF(D74=0,"",(D81-D82)))) | G83: =IF(G11=0,"",(IF(G74=0,"",(G81-G82)))) | J83: =IF(J11=0,"",(IF(J74=0,"",(J81-J82)))) | M83: =IF(M11=0,"",(IF(M74=0,"",(M81-M82)))) | P83: =IF(P11=0,"",(IF(P74=0,"",(P81-P82)))) | S83: =IF(S11=0,"",(IF(S74=0,"",(S81-S82)))) | V83: =IF(V11=0,"",(IF(V74=0,"",(V81-V82)))) | Y83: =IF(Y11=0,"",(IF(Y74=0,"",(Y81-Y82)))) | AB83: =IF(AB11=0,"",(IF(AB74=0,"",(AB81-AB82)))) | AE83: =IF(AE11=0,"",(IF(AE74=0,"",(AE81-AE82)))) | AH83: =IF(AH11=0,"",(IF(AH74=0,"",(AH81-AH82)))) | AK83: =IF(AK11=0,"",(IF(AK74=0,"",(AK81-AK82)))) | AR83: =IF(AR11=0,"",(IF(AR74=0,"",(AR81-AR82)))) | AU83: =IF(AU11=0,"",(IF(AU74=0,"",(AU81-AU82))))
B85: Observações automáticas 1: | D85: =IF(D83="","",IF(D83<0,"Toma de Conta Informa:",IF(D83=0,"Toma de Conta Informa:","Toma de Conta Informa:"))) | G85: =IF(G83="","",IF(G83<0,"Toma de Conta Informa:",IF(G83=0,"Toma de Conta Informa:","Toma de Conta Informa:"))) | J85: =IF(J83="","",IF(J83<0,"Toma de Conta Informa:",IF(J83=0,"Toma de Conta Informa:","Toma de Conta Informa:"))) | M85: =IF(M83="","",IF(M83<0,"Toma de Conta Informa:",IF(M83=0,"Toma de Conta Informa:","Toma de Conta Informa:"))) | P85: =IF(P83="","",IF(P83<0,"Toma de Conta Informa:",IF(P83=0,"Toma de Conta Informa:","Toma de Conta Informa:"))) | S85: =IF(S83="","",IF(S83<0,"Toma de Conta Informa:",IF(S83=0,"Toma de Conta Informa:","Toma de Conta Informa:"))) | V85: =IF(V83="","",IF(V83<0,"Toma de Conta Informa:",IF(V83=0,"Toma de Conta Informa:","Toma de Conta Informa:"))) | Y85: =IF(Y83="","",IF(Y83<0,"Toma de Conta Informa:",IF(Y83=0,"Toma de Conta Informa:","Toma de Conta Informa:"))) | AB85: =IF(AB83="","",IF(AB83<0,"Toma de Conta Informa:",IF(AB83=0,"Toma de Conta Informa:","Toma de Conta Informa:"))) | AE85: =IF(AE83="","",IF(AE83<0,"Toma de Conta Informa:",IF(AE83=0,"Toma de Conta Informa:","Toma de Conta Informa:"))) | AH85: =IF(AH83="","",IF(AH83<0,"Toma de Conta Informa:",IF(AH83=0,"Toma de Conta Informa:","Toma de Conta Informa:"))) | AK85: =IF(AK83="","",IF(AK83<0,"Toma de Conta Informa:",IF(AK83=0,"Toma de Conta Informa:","Toma de Conta Informa:"))) | AR85: =IF(AR83="","",IF(AR83<0,"Toma de Conta Informa:",IF(AR83=0,"Toma de Conta Informa:","Toma de Conta Informa:"))) | AU85: =IF(AU83="","",IF(AU83<0,"Toma de Conta Informa:",IF(AU83=0,"Toma de Conta Informa:","Toma de Conta Informa:")))
D86: =IF(D83="","",IF(D83<0,"Atenção - Resultado Mensal Negativo",IF(D83=0,"Nem Positivo nem Negativo - No Limite","Parabéns - Resultado Mensal Positivo"))) | G86: =IF(G83="","",IF(G83<0,"Atenção - Resultado Mensal Negativo",IF(G83=0,"Nem Positivo nem Negativo - No Limite","Parabéns - Resultado Mensal Positivo"))) | J86: =IF(J83="","",IF(J83<0,"Atenção - Resultado Mensal Negativo",IF(J83=0,"Nem Positivo nem Negativo - No Limite","Parabéns - Resultado Mensal Positivo"))) | M86: =IF(M83="","",IF(M83<0,"Atenção - Resultado Mensal Negativo",IF(M83=0,"Nem Positivo nem Negativo - No Limite","Parabéns - Resultado Mensal Positivo"))) | P86: =IF(P83="","",IF(P83<0,"Atenção - Resultado Mensal Negativo",IF(P83=0,"Nem Positivo nem Negativo - No Limite","Parabéns - Resultado Mensal Positivo"))) | S86: =IF(S83="","",IF(S83<0,"Atenção - Resultado Mensal Negativo",IF(S83=0,"Nem Positivo nem Negativo - No Limite","Parabéns - Resultado Mensal Positivo"))) | V86: =IF(V83="","",IF(V83<0,"Atenção - Resultado Mensal Negativo",IF(V83=0,"Nem Positivo nem Negativo - No Limite","Parabéns - Resultado Mensal Positivo"))) | Y86: =IF(Y83="","",IF(Y83<0,"Atenção - Resultado Mensal Negativo",IF(Y83=0,"Nem Positivo nem Negativo - No Limite","Parabéns - Resultado Mensal Positivo"))) | AB86: =IF(AB83="","",IF(AB83<0,"Atenção - Resultado Mensal Negativo",IF(AB83=0,"Nem Positivo nem Negativo - No Limite","Parabéns - Resultado Mensal Positivo"))) | AE86: =IF(AE83="","",IF(AE83<0,"Atenção - Resultado Mensal Negativo",IF(AE83=0,"Nem Positivo nem Negativo - No Limite","Parabéns - Resultado Mensal Positivo"))) | AH86: =IF(AH83="","",IF(AH83<0,"Atenção - Resultado Mensal Negativo",IF(AH83=0,"Nem Positivo nem Negativo - No Limite","Parabéns - Resultado Mensal Positivo"))) | AK86: =IF(AK83="","",IF(AK83<0,"Atenção - Resultado Mensal Negativo",IF(AK83=0,"Nem Positivo nem Negativo - No Limite","Parabéns - Resultado Mensal Positivo"))) | AR86: =IF(AR83="","",IF(AR83<0,"Atenção - Resultado Mensal Negativo",IF(AR83=0,"Nem Positivo nem Negativo - No Limite","Parabéns - Resultado Mensal Positivo"))) | AU86: =IF(AU83="","",IF(AU83<0,"Atenção - Resultado Mensal Negativo",IF(AU83=0,"Nem Positivo nem Negativo - No Limite","Parabéns - Resultado Mensal Positivo")))
B90: Meta de economia mensal - Manual ( Sugestão: mínimo 20% ) | D90: Percentual estabelecido: | G90: Percentual estabelecido: | J90: Percentual estabelecido: | M90: Percentual estabelecido: | P90: Percentual estabelecido: | S90: Percentual estabelecido: | V90: Percentual estabelecido: | Y90: Percentual estabelecido: | AB90: Percentual estabelecido: | AE90: Percentual estabelecido: | AH90: Percentual estabelecido: | AK90: Percentual estabelecido: | AR90: Percentual estabelecido: | AU90: Percentual estabelecido:
B91: Digitar o valor manual: | D91: 0.2 | G91: 0.2 | J91: 0.2 | M91: 0.2 | P91: 0.2 | S91: 0.2 | V91: 0.2 | Y91: 0.2 | AB91: 0.2 | AE91: 0.2 | AH91: 0.2 | AK91: 0.2 | AR91: =D91+G91+J91+M91+P91+S91+V91+Y91+AB91+AE91+AH91+AK91 -> 2.4 | AU91: =AR91/12 -> 0.2
B93: Valor aplicado no mês - Manual | D93: Valor aplicado - R$ | G93: Valor aplicado - R$ | J93: Valor aplicado - R$ | M93: Valor aplicado - R$ | P93: Valor aplicado - R$ | S93: Valor aplicado - R$ | V93: Valor aplicado - R$ | Y93: Valor aplicado - R$ | AB93: Valor aplicado - R$ | AE93: Valor aplicado - R$ | AH93: Valor aplicado - R$ | AK93: Valor aplicado - R$ | AR93: Valor aplicado - R$ | AU93: Valor aplicado - R$
B94: Digitar o valor manual: Aplicação | D94: 0 | G94: 0 | J94: 0 | M94: 0 | P94: 0 | S94: 0 | V94: 0 | Y94: 0 | AB94: 0 | AE94: 0 | AH94: 0 | AK94: 0 | AR94: =D94+G94+J94+M94+P94+S94+V94+Y94+AB94+AE94+AH94+AK94 -> 0 | AU94: =AR94/12 -> 0
B96: Percentual automático / Observação | D96: 0.2 | G96: 0.2 | J96: 0.2 | M96: 0.2 | P96: 0.2 | S96: 0.2 | V96: 0.2 | Y96: 0.2 | AB96: 0.2 | AE96: 0.2 | AH96: 0.2 | AK96: 0.2 | AR96: =D96+G96+J96+M96+P96+S96+V96+Y96+AB96+AE96+AH96+AK96 -> 2.4 | AU96: =AR96/12 -> 0.2
B98: Observações automáticas 2: | D98: =IF(D83<0,"",IF(D94<=0,"",IF(D96<D91,"Atenção - Meta não cumprida","Parabéns - Meta cumprida"))) | G98: =IF(G83<0,"",IF(G94<=0,"",IF(G96<G91,"Atenção - Meta não cumprida","Parabéns - Meta cumprida"))) | J98: =IF(J83<0,"",IF(J94<=0,"",IF(J96<J91,"Atenção - Meta não cumprida","Parabéns - Meta cumprida"))) | M98: =IF(M83<0,"",IF(M94<=0,"",IF(M96<M91,"Atenção - Meta não cumprida","Parabéns - Meta cumprida"))) | P98: =IF(P83<0,"",IF(P94<=0,"",IF(P96<P91,"Atenção - Meta não cumprida","Parabéns - Meta cumprida"))) | S98: =IF(S83<0,"",IF(S94<=0,"",IF(S96<S91,"Atenção - Meta não cumprida","Parabéns - Meta cumprida"))) | V98: =IF(V83<0,"",IF(V94<=0,"",IF(V96<V91,"Atenção - Meta não cumprida","Parabéns - Meta cumprida"))) | Y98: =IF(Y83<0,"",IF(Y94<=0,"",IF(Y96<Y91,"Atenção - Meta não cumprida","Parabéns - Meta cumprida"))) | AB98: =IF(AB83<0,"",IF(AB94<=0,"",IF(AB96<AB91,"Atenção - Meta não cumprida","Parabéns - Meta cumprida"))) | AE98: =IF(AE83<0,"",IF(AE94<=0,"",IF(AE96<AE91,"Atenção - Meta não cumprida","Parabéns - Meta cumprida"))) | AH98: =IF(AH83<0,"",IF(AH94<=0,"",IF(AH96<AH91,"Atenção - Meta não cumprida","Parabéns - Meta cumprida"))) | AK98: =IF(AK83<0,"",IF(AK94<=0,"",IF(AK96<AK91,"Atenção - Meta não cumprida","Parabéns - Meta cumprida"))) | AR98: =IF(AR83<0,"",IF(AR94<=0,"",IF(AR96<AR91,"Atenção - Meta não cumprida","Parabéns - Meta cumprida"))) | AU98: =IF(AU83<0,"",IF(AU94<=0,"",IF(AU96<AU91,"Atenção - Meta não cumprida","Parabéns - Meta cumprida")))
B101: Resumo Aplicação / Economias | D101: Resumo Aplicação / Reserva | G101: Resumo Aplicação / Reserva | J101: Resumo Aplicação / Reserva | M101: Resumo Aplicação / Reserva | P101: Resumo Aplicação / Reserva | S101: Resumo Aplicação / Reserva | V101: Resumo Aplicação / Reserva | Y101: Resumo Aplicação / Reserva | AB101: Resumo Aplicação / Reserva | AE101: Resumo Aplicação / Reserva | AH101: Resumo Aplicação / Reserva | AK101: Resumo Aplicação / Reserva | AR101: Resumo Aplicação / Reserva | AU101: Resumo Aplicação / Reserva
D102: 0 | E102: Saldo Inicial (Manual) | G102: =D106 -> 0 | H102: Saldo Anterior | J102: =G106 -> 0 | K102: Saldo Anterior | M102: =J106 -> 0 | N102: Saldo Anterior | P102: =M106 -> 0 | Q102: Saldo Anterior | S102: =P106 -> 0 | T102: Saldo Anterior | V102: =S106 -> 0 | W102: Saldo Anterior | Y102: =V106 -> 0 | Z102: Saldo Anterior | AB102: =Y106 -> 0 | AC102: Saldo Anterior | AE102: =AB106 -> 0 | AF102: Saldo Anterior | AH102: =AE106 -> 0 | AI102: Saldo Anterior | AK102: =AH106 -> 0 | AL102: Saldo Anterior | AR102: =D102 -> 0 | AS102: Saldo Anterior | AU102: =AR102/12 -> 0 | AV102: Saldo Anterior
D103: 0 | E103: Aplicação (Manual) | G103: 0 | H103: Aplicação (Manual) | J103: 0 | K103: Aplicação (Manual) | M103: 0 | N103: Aplicação (Manual) | P103: 0 | Q103: Aplicação (Manual) | S103: 0 | T103: Aplicação (Manual) | V103: 0 | W103: Aplicação (Manual) | Y103: 0 | Z103: Aplicação (Manual) | AB103: 0 | AC103: Aplicação (Manual) | AE103: 0 | AF103: Aplicação (Manual) | AH103: 0 | AI103: Aplicação (Manual) | AK103: 0 | AL103: Aplicação (Manual) | AR103: =D103+G103+J103+M103+P103+S103+V103+Y103+AB103+AE103+AH103+AK103 -> 0 | AS103: Aplicação (Manual) | AU103: =AR103/12 -> 0 | AV103: Aplicação (Manual)
D104: 0 | E104: Resgate (Manual) | G104: 0 | H104: Resgate (Manual) | J104: 0 | K104: Resgate (Manual) | M104: 0 | N104: Resgate (Manual) | P104: 0 | Q104: Resgate (Manual) | S104: 0 | T104: Resgate (Manual) | V104: 0 | W104: Resgate (Manual) | Y104: 0 | Z104: Resgate (Manual) | AB104: 0 | AC104: Resgate (Manual) | AE104: 0 | AF104: Resgate (Manual) | AH104: 0 | AI104: Resgate (Manual) | AK104: 0 | AL104: Resgate (Manual) | AR104: =D104+G104+J104+M104+P104+S104+V104+Y104+AB104+AE104+AH104+AK104 -> 0 | AS104: Resgate (Manual) | AU104: =AR104/12 -> 0 | AV104: Resgate (Manual)
D105: 0 | E105: Rendimento (Manual) | G105: 0 | H105: Rendimento (Manual) | J105: 0 | K105: Rendimento (Manual) | M105: 0 | N105: Rendimento (Manual) | P105: 0 | Q105: Rendimento (Manual) | S105: 0 | T105: Rendimento (Manual) | V105: 0 | W105: Rendimento (Manual) | Y105: 0 | Z105: Rendimento (Manual) | AB105: 0 | AC105: Rendimento (Manual) | AE105: 0 | AF105: Rendimento (Manual) | AH105: 0 | AI105: Rendimento (Manual) | AK105: 0 | AL105: Rendimento (Manual) | AR105: =D105+G105+J105+M105+P105+S105+V105+Y105+AB105+AE105+AH105+AK105 -> 0 | AS105: Rendimento (Manual) | AU105: =AR105/12 -> 0 | AV105: Rendimento (Manual)
D106: =D102+D103-D104+D105 -> 0 | E106: Saldo Final | G106: =G102+G103-G104+G105 -> 0 | H106: Saldo Final | J106: =J102+J103-J104+J105 -> 0 | K106: Saldo Final | M106: =M102+M103-M104+M105 -> 0 | N106: Saldo Final | P106: =P102+P103-P104+P105 -> 0 | Q106: Saldo Final | S106: =S102+S103-S104+S105 -> 0 | T106: Saldo Final | V106: =V102+V103-V104+V105 -> 0 | W106: Saldo Final | Y106: =Y102+Y103-Y104+Y105 -> 0 | Z106: Saldo Final | AB106: =AB102+AB103-AB104+AB105 -> 0 | AC106: Saldo Final | AE106: =AE102+AE103-AE104+AE105 -> 0 | AF106: Saldo Final | AH106: =AH102+AH103-AH104+AH105 -> 0 | AI106: Saldo Final | AK106: =AK102+AK103-AK104+AK105 -> 0 | AL106: Saldo Final | AR106: =AR102+AR103-AR104+AR105 -> 0 | AS106: Saldo Final | AU106: =AR106/12 -> 0 | AV106: Saldo Final

Sheet Gráficos
A1: Planilha com Gráficos Comparativos - Ano 2026
A4: Meses | B4: Receitas | C4: Despesas | D4: Diferença
A5: Janeiro | B5: ='Ano 2026'!D11 -> 0 | C5: ='Ano 2026'!D74 -> 0 | D5: =B5-C5 -> 0
A6: Fevereiro | B6: ='Ano 2026'!G11 -> 0 | C6: ='Ano 2026'!G74 -> 0 | D6: =B6-C6 -> 0
A7: Março | B7: ='Ano 2026'!J11 -> 0 | C7: ='Ano 2026'!J74 -> 0 | D7: =B7-C7 -> 0
A8: Abril | B8: ='Ano 2026'!M11 -> 0 | C8: ='Ano 2026'!M74 -> 0 | D8: =B8-C8 -> 0
A9: Maio | B9: ='Ano 2026'!P11 -> 0 | C9: ='Ano 2026'!P74 -> 0 | D9: =B9-C9 -> 0
A10: Junho | B10: ='Ano 2026'!S11 -> 0 | C10: ='Ano 2026'!S74 -> 0 | D10: =B10-C10 -> 0
A11: Julho | B11: ='Ano 2026'!V11 -> 0 | C11: ='Ano 2026'!V74 -> 0 | D11: =B11-C11 -> 0
A12: Agosto | B12: ='Ano 2026'!Y11 -> 0 | C12: ='Ano 2026'!Y74 -> 0 | D12: =B12-C12 -> 0
A13: Setembro | B13: ='Ano 2026'!AB11 -> 0 | C13: ='Ano 2026'!AB74 -> 0 | D13: =B13-C13 -> 0
A14: Outubro | B14: ='Ano 2026'!AE11 -> 0 | C14: ='Ano 2026'!AE74 -> 0 | D14: =B14-C14 -> 0
A15: Novembro | B15: ='Ano 2026'!AH11 -> 0 | C15: ='Ano 2026'!AH74 -> 0 | D15: =B15-C15 -> 0
A16: Dezembro | B16: ='Ano 2026'!AK11 -> 0 | C16: ='Ano 2026'!AK74 -> 0 | D16: =B16-C16 -> 0
