Workbook

Sheet Página Inicial
A6: Caro usuário, | C6: Nome Esposa | E6: e | F6: Nome Esposo
A8: Essa planilha foi feita para ajudar no Controle Financeiro do Casal.
A9: Ficaremos gratos pela sua ajuda com sugestões e comentários
A10: através do Instragram @tomadeconta_
A12: Para um melhor controle e planejamento, a planilha está divida por meses e as despesas
A13: em grupos, visualizando assim o percentual desse custo em relação à despesa total.
A14: Observe também, a planilha com o comparativo entre todos os meses do Ano.
A15: Clique abaixo no mês que quiser alimentar e cuide bem do seu Controle.
B18: Janeiro | D18: Fevereiro | F18: Março | H18: Abril
B20: Maio | D20: Junho | F20: Julho | H20: Agosto
B22: Setembro | D22: Outubro | F22: Novembro | H22: Dezembro
B24: Comparativo Jan. a Dez. | F24: Orçado x Realizado Anual
F26: Gráficos Comparativos

Sheet Jan
B2: Controle - Janeiro 2026 Receitas x Despesas | D2: Orçamento | G2: Realizado | K2: Diferença | M2: Observações
B4: Discriminação dos itens | D4: Casal | E4: Total | G4: ='Página Inicial'!C6 -> Nome Esposa | H4: ='Página Inicial'!F6 -> Nome Esposo | I4: Total | K4: Casal | M4: Obs. Individual
B5: Receitas 1 | K5: =IF(D5=0,"",(D5-G5-H5)) | M5: =IF((G5+H5)=0,"",IF(D5=0,"",IF((G5+H5)<(D5*80%),"Abaixo do Orçado",IF(D5=(G5+H5),"Igual ao Orçado",IF(D5>(G5+H5),"Próximo ao Orçado","Passou do Orçado")))))
B6: Receitas 2 | K6: =IF(D6=0,"",(D6-G6-H6)) | M6: =IF((G6+H6)=0,"",IF(D6=0,"",IF((G6+H6)<(D6*80%),"Abaixo do Orçado",IF(D6=(G6+H6),"Igual ao Orçado",IF(D6>(G6+H6),"Próximo ao Orçado","Passou do Orçado")))))
B7: Receitas 3 | K7: =IF(D7=0,"",(D7-G7-H7)) | M7: =IF((G7+H7)=0,"",IF(D7=0,"",IF((G7+H7)<(D7*80%),"Abaixo do Orçado",IF(D7=(G7+H7),"Igual ao Orçado",IF(D7>(G7+H7),"Próximo ao Orçado","Passou do Orçado")))))
K8: =IF(D8=0,"",(D8-G8-H8)) | M8: =IF((G8+H8)=0,"",IF(D8=0,"",IF((G8+H8)<(D8*80%),"Abaixo do Orçado",IF(D8=(G8+H8),"Igual ao Orçado",IF(D8>(G8+H8),"Próximo ao Orçado","Passou do Orçado")))))
K9: =IF(D9=0,"",(D9-G9-H9)) | M9: =IF((G9+H9)=0,"",IF(D9=0,"",IF((G9+H9)<(D9*80%),"Abaixo do Orçado",IF(D9=(G9+H9),"Igual ao Orçado",IF(D9>(G9+H9),"Próximo ao Orçado","Passou do Orçado")))))
B10: ( - ) Impostos retidos / pagos | K10: =IF(D10=0,"",(D10-G10-H10)) | M10: =IF((G10+H10)=0,"",IF(D10=0,"",IF((G10+H10)<(D10*80%),"Abaixo do Orçado",IF(D10=(G10+H10),"Igual ao Orçado",IF(D10>(G10+H10),"Próximo ao Orçado","Passou do Orçado")))))
B11: Total Salários: | D11: =D5+D6+D7+D8+D9-D10 -> 0 | G11: =G5+G6+G7+G8+G9-G10 -> 0 | H11: =H5+H6+H7+H8+H9-H10 -> 0 | I11: =G11+H11 -> 0 | K11: =IF(D11=0,"",D11-I11)
B12: Despesas por Grupo
B13: 1) Habitação | D13: R$ | E13: Percentual despesa total | G13: =IF(I28=0,"",IF(D28=0,"Preencher coluna Orçamento para melhor funcionamento da Planilha.",IF(I28<(D28*80%),"Sinal Verde - Abaixo do Orçado",IF(D28=I28,"Sinal Amarelo - Igual ao Orçado",IF(D28>I28,"Sinal Amarelo - Próximo ao Orçado","Sinal Vermelho - Passou do Orçado"))))) | I13: Percentual despesa total | K13: R$ | M13: Obs. Individual
B14: Água e Esgoto | E14: =IF(D28=0,"",D28/D130) | I14: =IF(I28=0,"",I28/I130) | K14: =IF(D14=0,"",(D14-G14-H14)) | M14: =IF((G14+H14)=0,"",IF(D14=0,"",IF((G14+H14)<(D14*80%),"Abaixo do Orçado",IF(D14=(G14+H14),"Igual ao Orçado",IF(D14>(G14+H14),"Próximo ao Orçado","Passou do Orçado")))))
B15: Condomínio | K15: =IF(D15=0,"",(D15-G15-H15)) | M15: =IF((G15+H15)=0,"",IF(D15=0,"",IF((G15+H15)<(D15*80%),"Abaixo do Orçado",IF(D15=(G15+H15),"Igual ao Orçado",IF(D15>(G15+H15),"Próximo ao Orçado","Passou do Orçado")))))
B16: Diarista / Empregada | K16: =IF(D16=0,"",(D16-G16-H16)) | M16: =IF((G16+H16)=0,"",IF(D16=0,"",IF((G16+H16)<(D16*80%),"Abaixo do Orçado",IF(D16=(G16+H16),"Igual ao Orçado",IF(D16>(G16+H16),"Próximo ao Orçado","Passou do Orçado")))))
B17: Energia Elétrica | K17: =IF(D17=0,"",(D17-G17-H17)) | M17: =IF((G17+H17)=0,"",IF(D17=0,"",IF((G17+H17)<(D17*80%),"Abaixo do Orçado",IF(D17=(G17+H17),"Igual ao Orçado",IF(D17>(G17+H17),"Próximo ao Orçado","Passou do Orçado")))))
B18: IPTU / Outras taxas | K18: =IF(D18=0,"",(D18-G18-H18)) | M18: =IF((G18+H18)=0,"",IF(D18=0,"",IF((G18+H18)<(D18*80%),"Abaixo do Orçado",IF(D18=(G18+H18),"Igual ao Orçado",IF(D18>(G18+H18),"Próximo ao Orçado","Passou do Orçado")))))
B19: Lavagem de Roupas | K19: =IF(D19=0,"",(D19-G19-H19)) | M19: =IF((G19+H19)=0,"",IF(D19=0,"",IF((G19+H19)<(D19*80%),"Abaixo do Orçado",IF(D19=(G19+H19),"Igual ao Orçado",IF(D19>(G19+H19),"Próximo ao Orçado","Passou do Orçado")))))
B20: Manutenção Geral | K20: =IF(D20=0,"",(D20-G20-H20)) | M20: =IF((G20+H20)=0,"",IF(D20=0,"",IF((G20+H20)<(D20*80%),"Abaixo do Orçado",IF(D20=(G20+H20),"Igual ao Orçado",IF(D20>(G20+H20),"Próximo ao Orçado","Passou do Orçado")))))
B21: Prestação Apartamento / Aluguel | K21: =IF(D21=0,"",(D21-G21-H21)) | M21: =IF((G21+H21)=0,"",IF(D21=0,"",IF((G21+H21)<(D21*80%),"Abaixo do Orçado",IF(D21=(G21+H21),"Igual ao Orçado",IF(D21>(G21+H21),"Próximo ao Orçado","Passou do Orçado")))))
B22: Telefone Fixo / Internet | K22: =IF(D22=0,"",(D22-G22-H22)) | M22: =IF((G22+H22)=0,"",IF(D22=0,"",IF((G22+H22)<(D22*80%),"Abaixo do Orçado",IF(D22=(G22+H22),"Igual ao Orçado",IF(D22>(G22+H22),"Próximo ao Orçado","Passou do Orçado")))))
B23: Outros 1 - | K23: =IF(D23=0,"",(D23-G23-H23)) | M23: =IF((G23+H23)=0,"",IF(D23=0,"",IF((G23+H23)<(D23*80%),"Abaixo do Orçado",IF(D23=(G23+H23),"Igual ao Orçado",IF(D23>(G23+H23),"Próximo ao Orçado","Passou do Orçado")))))
B24: Outros 2 - | K24: =IF(D24=0,"",(D24-G24-H24)) | M24: =IF((G24+H24)=0,"",IF(D24=0,"",IF((G24+H24)<(D24*80%),"Abaixo do Orçado",IF(D24=(G24+H24),"Igual ao Orçado",IF(D24>(G24+H24),"Próximo ao Orçado","Passou do Orçado")))))
K25: =IF(D25=0,"",(D25-G25-H25)) | M25: =IF((G25+H25)=0,"",IF(D25=0,"",IF((G25+H25)<(D25*80%),"Abaixo do Orçado",IF(D25=(G25+H25),"Igual ao Orçado",IF(D25>(G25+H25),"Próximo ao Orçado","Passou do Orçado")))))
K26: =IF(D26=0,"",(D26-G26-H26)) | M26: =IF((G26+H26)=0,"",IF(D26=0,"",IF((G26+H26)<(D26*80%),"Abaixo do Orçado",IF(D26=(G26+H26),"Igual ao Orçado",IF(D26>(G26+H26),"Próximo ao Orçado","Passou do Orçado")))))
K27: =IF(D27=0,"",(D27-G27-H27)) | M27: =IF((G27+H27)=0,"",IF(D27=0,"",IF((G27+H27)<(D27*80%),"Abaixo do Orçado",IF(D27=(G27+H27),"Igual ao Orçado",IF(D27>(G27+H27),"Próximo ao Orçado","Passou do Orçado")))))
B28: Total Grupo 1: | D28: =SUM(D14:D27) -> 0 | G28: =SUM(G14:G27) -> 0 | H28: =SUM(H14:H27) -> 0 | I28: =G28+H28 -> 0 | K28: =IF(D28=0,"",D28-I28)
B30: 2) Alimentação | D30: R$ | E30: Percentual despesa total | G30: =IF(I39=0,"",IF(D39=0,"Preencher coluna Orçamento para melhor funcionamento da Planilha.",IF(I39<(D39*80%),"Sinal Verde - Abaixo do Orçado",IF(D39=I39,"Sinal Amarelo - Igual ao Orçado",IF(D39>I39,"Sinal Amarelo - Próximo ao Orçado","Sinal Vermelho - Passou do Orçado"))))) | I30: Percentual despesa total | K30: R$ | M30: Obs. Individual
B31: Refeições diárias (Almoço / Jantar, Etc) | E31: =IF(D39=0,"",D39/D130) | I31: =IF(I39=0,"",I39/I130) | K31: =IF(D31=0,"",(D31-G31-H31)) | M31: =IF((G31+H31)=0,"",IF(D31=0,"",IF((G31+H31)<(D31*80%),"Abaixo do Orçado",IF(D31=(G31+H31),"Igual ao Orçado",IF(D31>(G31+H31),"Próximo ao Orçado","Passou do Orçado")))))
B32: Supermercado - Mensal | K32: =IF(D32=0,"",(D32-G32-H32)) | M32: =IF((G32+H32)=0,"",IF(D32=0,"",IF((G32+H32)<(D32*80%),"Abaixo do Orçado",IF(D32=(G32+H32),"Igual ao Orçado",IF(D32>(G32+H32),"Próximo ao Orçado","Passou do Orçado")))))
B33: Supermercado / Padaria - Dia a dia | K33: =IF(D33=0,"",(D33-G33-H33)) | M33: =IF((G33+H33)=0,"",IF(D33=0,"",IF((G33+H33)<(D33*80%),"Abaixo do Orçado",IF(D33=(G33+H33),"Igual ao Orçado",IF(D33>(G33+H33),"Próximo ao Orçado","Passou do Orçado")))))
B34: Outros 1 - | K34: =IF(D34=0,"",(D34-G34-H34)) | M34: =IF((G34+H34)=0,"",IF(D34=0,"",IF((G34+H34)<(D34*80%),"Abaixo do Orçado",IF(D34=(G34+H34),"Igual ao Orçado",IF(D34>(G34+H34),"Próximo ao Orçado","Passou do Orçado")))))
B35: Outros 2 - | K35: =IF(D35=0,"",(D35-G35-H35)) | M35: =IF((G35+H35)=0,"",IF(D35=0,"",IF((G35+H35)<(D35*80%),"Abaixo do Orçado",IF(D35=(G35+H35),"Igual ao Orçado",IF(D35>(G35+H35),"Próximo ao Orçado","Passou do Orçado")))))
K36: =IF(D36=0,"",(D36-G36-H36)) | M36: =IF((G36+H36)=0,"",IF(D36=0,"",IF((G36+H36)<(D36*80%),"Abaixo do Orçado",IF(D36=(G36+H36),"Igual ao Orçado",IF(D36>(G36+H36),"Próximo ao Orçado","Passou do Orçado")))))
K37: =IF(D37=0,"",(D37-G37-H37)) | M37: =IF((G37+H37)=0,"",IF(D37=0,"",IF((G37+H37)<(D37*80%),"Abaixo do Orçado",IF(D37=(G37+H37),"Igual ao Orçado",IF(D37>(G37+H37),"Próximo ao Orçado","Passou do Orçado")))))
K38: =IF(D38=0,"",(D38-G38-H38)) | M38: =IF((G38+H38)=0,"",IF(D38=0,"",IF((G38+H38)<(D38*80%),"Abaixo do Orçado",IF(D38=(G38+H38),"Igual ao Orçado",IF(D38>(G38+H38),"Próximo ao Orçado","Passou do Orçado")))))
B39: Total Grupo 2: | D39: =SUM(D31:D38) -> 0 | G39: =SUM(G31:G38) -> 0 | H39: =SUM(H31:H38) -> 0 | I39: =G39+H39 -> 0 | K39: =IF(D39=0,"",D39-I39)
B41: 3) Saúde | D41: R$ | E41: Percentual despesa total | G41: =IF(I50=0,"",IF(D50=0,"Preencher coluna Orçamento para melhor funcionamento da Planilha.",IF(I50<(D50*80%),"Sinal Verde - Abaixo do Orçado",IF(D50=I50,"Sinal Amarelo - Igual ao Orçado",IF(D50>I50,"Sinal Amarelo - Próximo ao Orçado","Sinal Vermelho - Passou do Orçado"))))) | I41: Percentual despesa total | K41: R$ | M41: Obs. Individual
B42: Dentista | E42: =IF(D50=0,"",D50/D130) | I42: =IF(I50=0,"",I50/I130) | K42: =IF(D42=0,"",(D42-G42-H42)) | M42: =IF((G42+H42)=0,"",IF(D42=0,"",IF((G42+H42)<(D42*80%),"Abaixo do Orçado",IF(D42=(G42+H42),"Igual ao Orçado",IF(D42>(G42+H42),"Próximo ao Orçado","Passou do Orçado")))))
B43: Farmácia - Medicamentos | K43: =IF(D43=0,"",(D43-G43-H43)) | M43: =IF((G43+H43)=0,"",IF(D43=0,"",IF((G43+H43)<(D43*80%),"Abaixo do Orçado",IF(D43=(G43+H43),"Igual ao Orçado",IF(D43>(G43+H43),"Próximo ao Orçado","Passou do Orçado")))))
B44: Plano de Saúde | K44: =IF(D44=0,"",(D44-G44-H44)) | M44: =IF((G44+H44)=0,"",IF(D44=0,"",IF((G44+H44)<(D44*80%),"Abaixo do Orçado",IF(D44=(G44+H44),"Igual ao Orçado",IF(D44>(G44+H44),"Próximo ao Orçado","Passou do Orçado")))))
...

Sheet Fev
B2: Controle - Fevereiro 2026 Receitas x Despesas | D2: Orçamento | G2: Realizado | K2: Diferença | M2: Observações
B4: Discriminação dos itens | D4: Casal | E4: Total | G4: ='Página Inicial'!C6 -> Nome Esposa | H4: ='Página Inicial'!F6 -> Nome Esposo | I4: Total | K4: Casal | M4: Obs. Individual
B5: Receitas 1 | K5: =IF(D5=0,"",(D5-G5-H5)) | M5: =IF((G5+H5)=0,"",IF(D5=0,"",IF((G5+H5)<(D5*80%),"Abaixo do Orçado",IF(D5=(G5+H5),"Igual ao Orçado",IF(D5>(G5+H5),"Próximo ao Orçado","Passou do Orçado")))))
B6: Receitas 2 | K6: =IF(D6=0,"",(D6-G6-H6)) | M6: =IF((G6+H6)=0,"",IF(D6=0,"",IF((G6+H6)<(D6*80%),"Abaixo do Orçado",IF(D6=(G6+H6),"Igual ao Orçado",IF(D6>(G6+H6),"Próximo ao Orçado","Passou do Orçado")))))
B7: Receitas 3 | K7: =IF(D7=0,"",(D7-G7-H7)) | M7: =IF((G7+H7)=0,"",IF(D7=0,"",IF((G7+H7)<(D7*80%),"Abaixo do Orçado",IF(D7=(G7+H7),"Igual ao Orçado",IF(D7>(G7+H7),"Próximo ao Orçado","Passou do Orçado")))))
K8: =IF(D8=0,"",(D8-G8-H8)) | M8: =IF((G8+H8)=0,"",IF(D8=0,"",IF((G8+H8)<(D8*80%),"Abaixo do Orçado",IF(D8=(G8+H8),"Igual ao Orçado",IF(D8>(G8+H8),"Próximo ao Orçado","Passou do Orçado")))))
K9: =IF(D9=0,"",(D9-G9-H9)) | M9: =IF((G9+H9)=0,"",IF(D9=0,"",IF((G9+H9)<(D9*80%),"Abaixo do Orçado",IF(D9=(G9+H9),"Igual ao Orçado",IF(D9>(G9+H9),"Próximo ao Orçado","Passou do Orçado")))))
B10: ( - ) Impostos retidos / pagos | K10: =IF(D10=0,"",(D10-G10-H10)) | M10: =IF((G10+H10)=0,"",IF(D10=0,"",IF((G10+H10)<(D10*80%),"Abaixo do Orçado",IF(D10=(G10+H10),"Igual ao Orçado",IF(D10>(G10+H10),"Próximo ao Orçado","Passou do Orçado")))))
B11: Total Salários: | D11: =D5+D6+D7+D8+D9-D10 -> 0 | G11: =G5+G6+G7+G8+G9-G10 -> 0 | H11: =H5+H6+H7+H8+H9-H10 -> 0 | I11: =G11+H11 -> 0 | K11: =IF(D11=0,"",D11-I11)
B12: Despesas por Grupo
B13: 1) Habitação | D13: R$ | E13: Percentual despesa total | G13: =IF(I28=0,"",IF(D28=0,"Preencher coluna Orçamento para melhor funcionamento da Planilha.",IF(I28<(D28*80%),"Sinal Verde - Abaixo do Orçado",IF(D28=I28,"Sinal Amarelo - Igual ao Orçado",IF(D28>I28,"Sinal Amarelo - Próximo ao Orçado","Sinal Vermelho - Passou do Orçado"))))) | I13: Percentual despesa total | K13: R$ | M13: Obs. Individual
B14: Água e Esgoto | E14: =IF(D28=0,"",D28/D130) | I14: =IF(I28=0,"",I28/I130) | K14: =IF(D14=0,"",(D14-G14-H14)) | M14: =IF((G14+H14)=0,"",IF(D14=0,"",IF((G14+H14)<(D14*80%),"Abaixo do Orçado",IF(D14=(G14+H14),"Igual ao Orçado",IF(D14>(G14+H14),"Próximo ao Orçado","Passou do Orçado")))))
B15: Condomínio | K15: =IF(D15=0,"",(D15-G15-H15)) | M15: =IF((G15+H15)=0,"",IF(D15=0,"",IF((G15+H15)<(D15*80%),"Abaixo do Orçado",IF(D15=(G15+H15),"Igual ao Orçado",IF(D15>(G15+H15),"Próximo ao Orçado","Passou do Orçado")))))
B16: Diarista / Empregada | K16: =IF(D16=0,"",(D16-G16-H16)) | M16: =IF((G16+H16)=0,"",IF(D16=0,"",IF((G16+H16)<(D16*80%),"Abaixo do Orçado",IF(D16=(G16+H16),"Igual ao Orçado",IF(D16>(G16+H16),"Próximo ao Orçado","Passou do Orçado")))))
B17: Energia Elétrica | K17: =IF(D17=0,"",(D17-G17-H17)) | M17: =IF((G17+H17)=0,"",IF(D17=0,"",IF((G17+H17)<(D17*80%),"Abaixo do Orçado",IF(D17=(G17+H17),"Igual ao Orçado",IF(D17>(G17+H17),"Próximo ao Orçado","Passou do Orçado")))))
B18: IPTU / Outras taxas | K18: =IF(D18=0,"",(D18-G18-H18)) | M18: =IF((G18+H18)=0,"",IF(D18=0,"",IF((G18+H18)<(D18*80%),"Abaixo do Orçado",IF(D18=(G18+H18),"Igual ao Orçado",IF(D18>(G18+H18),"Próximo ao Orçado","Passou do Orçado")))))
B19: Lavagem de Roupas | K19: =IF(D19=0,"",(D19-G19-H19)) | M19: =IF((G19+H19)=0,"",IF(D19=0,"",IF((G19+H19)<(D19*80%),"Abaixo do Orçado",IF(D19=(G19+H19),"Igual ao Orçado",IF(D19>(G19+H19),"Próximo ao Orçado","Passou do Orçado")))))
B20: Manutenção Geral | K20: =IF(D20=0,"",(D20-G20-H20)) | M20: =IF((G20+H20)=0,"",IF(D20=0,"",IF((G20+H20)<(D20*80%),"Abaixo do Orçado",IF(D20=(G20+H20),"Igual ao Orçado",IF(D20>(G20+H20),"Próximo ao Orçado","Passou do Orçado")))))
B21: Prestação Apartamento / Aluguel | K21: =IF(D21=0,"",(D21-G21-H21)) | M21: =IF((G21+H21)=0,"",IF(D21=0,"",IF((G21+H21)<(D21*80%),"Abaixo do Orçado",IF(D21=(G21+H21),"Igual ao Orçado",IF(D21>(G21+H21),"Próximo ao Orçado","Passou do Orçado")))))
B22: Telefone Fixo / Internet | K22: =IF(D22=0,"",(D22-G22-H22)) | M22: =IF((G22+H22)=0,"",IF(D22=0,"",IF((G22+H22)<(D22*80%),"Abaixo do Orçado",IF(D22=(G22+H22),"Igual ao Orçado",IF(D22>(G22+H22),"Próximo ao Orçado","Passou do Orçado")))))
B23: Outros 1 - | K23: =IF(D23=0,"",(D23-G23-H23)) | M23: =IF((G23+H23)=0,"",IF(D23=0,"",IF((G23+H23)<(D23*80%),"Abaixo do Orçado",IF(D23=(G23+H23),"Igual ao Orçado",IF(D23>(G23+H23),"Próximo ao Orçado","Passou do Orçado")))))
B24: Outros 2 - | K24: =IF(D24=0,"",(D24-G24-H24)) | M24: =IF((G24+H24)=0,"",IF(D24=0,"",IF((G24+H24)<(D24*80%),"Abaixo do Orçado",IF(D24=(G24+H24),"Igual ao Orçado",IF(D24>(G24+H24),"Próximo ao Orçado","Passou do Orçado")))))
K25: =IF(D25=0,"",(D25-G25-H25)) | M25: =IF((G25+H25)=0,"",IF(D25=0,"",IF((G25+H25)<(D25*80%),"Abaixo do Orçado",IF(D25=(G25+H25),"Igual ao Orçado",IF(D25>(G25+H25),"Próximo ao Orçado","Passou do Orçado")))))
K26: =IF(D26=0,"",(D26-G26-H26)) | M26: =IF((G26+H26)=0,"",IF(D26=0,"",IF((G26+H26)<(D26*80%),"Abaixo do Orçado",IF(D26=(G26+H26),"Igual ao Orçado",IF(D26>(G26+H26),"Próximo ao Orçado","Passou do Orçado")))))
K27: =IF(D27=0,"",(D27-G27-H27)) | M27: =IF((G27+H27)=0,"",IF(D27=0,"",IF((G27+H27)<(D27*80%),"Abaixo do Orçado",IF(D27=(G27+H27),"Igual ao Orçado",IF(D27>(G27+H27),"Próximo ao Orçado","Passou do Orçado")))))
B28: Total Grupo 1: | D28: =SUM(D14:D27) -> 0 | G28: =SUM(G14:G27) -> 0 | H28: =SUM(H14:H27) -> 0 | I28: =G28+H28 -> 0 | K28: =IF(D28=0,"",D28-I28)
B30: 2) Alimentação | D30: R$ | E30: Percentual despesa total | G30: =IF(I39=0,"",IF(D39=0,"Preencher coluna Orçamento para melhor funcionamento da Planilha.",IF(I39<(D39*80%),"Sinal Verde - Abaixo do Orçado",IF(D39=I39,"Sinal Amarelo - Igual ao Orçado",IF(D39>I39,"Sinal Amarelo - Próximo ao Orçado","Sinal Vermelho - Passou do Orçado"))))) | I30: Percentual despesa total | K30: R$ | M30: Obs. Individual
B31: Refeições diárias (Almoço / Jantar, Etc) | E31: =IF(D39=0,"",D39/D130) | I31: =IF(I39=0,"",I39/I130) | K31: =IF(D31=0,"",(D31-G31-H31)) | M31: =IF((G31+H31)=0,"",IF(D31=0,"",IF((G31+H31)<(D31*80%),"Abaixo do Orçado",IF(D31=(G31+H31),"Igual ao Orçado",IF(D31>(G31+H31),"Próximo ao Orçado","Passou do Orçado")))))
B32: Supermercado - Mensal | K32: =IF(D32=0,"",(D32-G32-H32)) | M32: =IF((G32+H32)=0,"",IF(D32=0,"",IF((G32+H32)<(D32*80%),"Abaixo do Orçado",IF(D32=(G32+H32),"Igual ao Orçado",IF(D32>(G32+H32),"Próximo ao Orçado","Passou do Orçado")))))
B33: Supermercado / Padaria - Dia a dia | K33: =IF(D33=0,"",(D33-G33-H33)) | M33: =IF((G33+H33)=0,"",IF(D33=0,"",IF((G33+H33)<(D33*80%),"Abaixo do Orçado",IF(D33=(G33+H33),"Igual ao Orçado",IF(D33>(G33+H33),"Próximo ao Orçado","Passou do Orçado")))))
B34: Outros 1 - | K34: =IF(D34=0,"",(D34-G34-H34)) | M34: =IF((G34+H34)=0,"",IF(D34=0,"",IF((G34+H34)<(D34*80%),"Abaixo do Orçado",IF(D34=(G34+H34),"Igual ao Orçado",IF(D34>(G34+H34),"Próximo ao Orçado","Passou do Orçado")))))
B35: Outros 2 - | K35: =IF(D35=0,"",(D35-G35-H35)) | M35: =IF((G35+H35)=0,"",IF(D35=0,"",IF((G35+H35)<(D35*80%),"Abaixo do Orçado",IF(D35=(G35+H35),"Igual ao Orçado",IF(D35>(G35+H35),"Próximo ao Orçado","Passou do Orçado")))))
K36: =IF(D36=0,"",(D36-G36-H36)) | M36: =IF((G36+H36)=0,"",IF(D36=0,"",IF((G36+H36)<(D36*80%),"Abaixo do Orçado",IF(D36=(G36+H36),"Igual ao Orçado",IF(D36>(G36+H36),"Próximo ao Orçado","Passou do Orçado")))))
K37: =IF(D37=0,"",(D37-G37-H37)) | M37: =IF((G37+H37)=0,"",IF(D37=0,"",IF((G37+H37)<(D37*80%),"Abaixo do Orçado",IF(D37=(G37+H37),"Igual ao Orçado",IF(D37>(G37+H37),"Próximo ao Orçado","Passou do Orçado")))))
K38: =IF(D38=0,"",(D38-G38-H38)) | M38: =IF((G38+H38)=0,"",IF(D38=0,"",IF((G38+H38)<(D38*80%),"Abaixo do Orçado",IF(D38=(G38+H38),"Igual ao Orçado",IF(D38>(G38+H38),"Próximo ao Orçado","Passou do Orçado")))))
B39: Total Grupo 2: | D39: =SUM(D31:D38) -> 0 | G39: =SUM(G31:G38) -> 0 | H39: =SUM(H31:H38) -> 0 | I39: =G39+H39 -> 0 | K39: =IF(D39=0,"",D39-I39)
B41: 3) Saúde | D41: R$ | E41: Percentual despesa total | G41: =IF(I50=0,"",IF(D50=0,"Preencher coluna Orçamento para melhor funcionamento da Planilha.",IF(I50<(D50*80%),"Sinal Verde - Abaixo do Orçado",IF(D50=I50,"Sinal Amarelo - Igual ao Orçado",IF(D50>I50,"Sinal Amarelo - Próximo ao Orçado","Sinal Vermelho - Passou do Orçado"))))) | I41: Percentual despesa total | K41: R$ | M41: Obs. Individual
B42: Dentista | E42: =IF(D50=0,"",D50/D130) | I42: =IF(I50=0,"",I50/I130) | K42: =IF(D42=0,"",(D42-G42-H42)) | M42: =IF((G42+H42)=0,"",IF(D42=0,"",IF((G42+H42)<(D42*80%),"Abaixo do Orçado",IF(D42=(G42+H42),"Igual ao Orçado",IF(D42>(G42+H42),"Próximo ao Orçado","Passou do Orçado")))))
B43: Farmácia - Medicamentos | K43: =IF(D43=0,"",(D43-G43-H43)) | M43: =IF((G43+H43)=0,"",IF(D43=0,"",IF((G43+H43)<(D43*80%),"Abaixo do Orçado",IF(D43=(G43+H43),"Igual ao Orçado",IF(D43>(G43+H43),"Próximo ao Orçado","Passou do Orçado")))))
B44: Plano de Saúde | K44: =IF(D44=0,"",(D44-G44-H44)) | M44: =IF((G44+H44)=0,"",IF(D44=0,"",IF((G44+H44)<(D44*80%),"Abaixo do Orçado",IF(D44=(G44+H44),"Igual ao Orçado",IF(D44>(G44+H44),"Próximo ao Orçado","Passou do Orçado")))))
...

Sheet Mar
B2: Controle - Março 2026 Receitas x Despesas | D2: Orçamento | G2: Realizado | K2: Diferença | M2: Observações
B4: Discriminação dos itens | D4: Casal | E4: Total | G4: ='Página Inicial'!C6 -> Nome Esposa | H4: ='Página Inicial'!F6 -> Nome Esposo | I4: Total | K4: Casal | M4: Obs. Individual
B5: Receitas 1 | K5: =IF(D5=0,"",(D5-G5-H5)) | M5: =IF((G5+H5)=0,"",IF(D5=0,"",IF((G5+H5)<(D5*80%),"Abaixo do Orçado",IF(D5=(G5+H5),"Igual ao Orçado",IF(D5>(G5+H5),"Próximo ao Orçado","Passou do Orçado")))))
B6: Receitas 2 | K6: =IF(D6=0,"",(D6-G6-H6)) | M6: =IF((G6+H6)=0,"",IF(D6=0,"",IF((G6+H6)<(D6*80%),"Abaixo do Orçado",IF(D6=(G6+H6),"Igual ao Orçado",IF(D6>(G6+H6),"Próximo ao Orçado","Passou do Orçado")))))
B7: Receitas 3 | K7: =IF(D7=0,"",(D7-G7-H7)) | M7: =IF((G7+H7)=0,"",IF(D7=0,"",IF((G7+H7)<(D7*80%),"Abaixo do Orçado",IF(D7=(G7+H7),"Igual ao Orçado",IF(D7>(G7+H7),"Próximo ao Orçado","Passou do Orçado")))))
K8: =IF(D8=0,"",(D8-G8-H8)) | M8: =IF((G8+H8)=0,"",IF(D8=0,"",IF((G8+H8)<(D8*80%),"Abaixo do Orçado",IF(D8=(G8+H8),"Igual ao Orçado",IF(D8>(G8+H8),"Próximo ao Orçado","Passou do Orçado")))))
K9: =IF(D9=0,"",(D9-G9-H9)) | M9: =IF((G9+H9)=0,"",IF(D9=0,"",IF((G9+H9)<(D9*80%),"Abaixo do Orçado",IF(D9=(G9+H9),"Igual ao Orçado",IF(D9>(G9+H9),"Próximo ao Orçado","Passou do Orçado")))))
B10: ( - ) Impostos retidos / pagos | K10: =IF(D10=0,"",(D10-G10-H10)) | M10: =IF((G10+H10)=0,"",IF(D10=0,"",IF((G10+H10)<(D10*80%),"Abaixo do Orçado",IF(D10=(G10+H10),"Igual ao Orçado",IF(D10>(G10+H10),"Próximo ao Orçado","Passou do Orçado")))))
B11: Total Salários: | D11: =D5+D6+D7+D8+D9-D10 -> 0 | G11: =G5+G6+G7+G8+G9-G10 -> 0 | H11: =H5+H6+H7+H8+H9-H10 -> 0 | I11: =G11+H11 -> 0 | K11: =IF(D11=0,"",D11-I11)
B12: Despesas por Grupo
B13: 1) Habitação | D13: R$ | E13: Percentual despesa total | G13: =IF(I28=0,"",IF(D28=0,"Preencher coluna Orçamento para melhor funcionamento da Planilha.",IF(I28<(D28*80%),"Sinal Verde - Abaixo do Orçado",IF(D28=I28,"Sinal Amarelo - Igual ao Orçado",IF(D28>I28,"Sinal Amarelo - Próximo ao Orçado","Sinal Vermelho - Passou do Orçado"))))) | I13: Percentual despesa total | K13: R$ | M13: Obs. Individual
B14: Água e Esgoto | E14: =IF(D28=0,"",D28/D130) | I14: =IF(I28=0,"",I28/I130) | K14: =IF(D14=0,"",(D14-G14-H14)) | M14: =IF((G14+H14)=0,"",IF(D14=0,"",IF((G14+H14)<(D14*80%),"Abaixo do Orçado",IF(D14=(G14+H14),"Igual ao Orçado",IF(D14>(G14+H14),"Próximo ao Orçado","Passou do Orçado")))))
B15: Condomínio | K15: =IF(D15=0,"",(D15-G15-H15)) | M15: =IF((G15+H15)=0,"",IF(D15=0,"",IF((G15+H15)<(D15*80%),"Abaixo do Orçado",IF(D15=(G15+H15),"Igual ao Orçado",IF(D15>(G15+H15),"Próximo ao Orçado","Passou do Orçado")))))
B16: Diarista / Empregada | K16: =IF(D16=0,"",(D16-G16-H16)) | M16: =IF((G16+H16)=0,"",IF(D16=0,"",IF((G16+H16)<(D16*80%),"Abaixo do Orçado",IF(D16=(G16+H16),"Igual ao Orçado",IF(D16>(G16+H16),"Próximo ao Orçado","Passou do Orçado")))))
B17: Energia Elétrica | K17: =IF(D17=0,"",(D17-G17-H17)) | M17: =IF((G17+H17)=0,"",IF(D17=0,"",IF((G17+H17)<(D17*80%),"Abaixo do Orçado",IF(D17=(G17+H17),"Igual ao Orçado",IF(D17>(G17+H17),"Próximo ao Orçado","Passou do Orçado")))))
B18: IPTU / Outras taxas | K18: =IF(D18=0,"",(D18-G18-H18)) | M18: =IF((G18+H18)=0,"",IF(D18=0,"",IF((G18+H18)<(D18*80%),"Abaixo do Orçado",IF(D18=(G18+H18),"Igual ao Orçado",IF(D18>(G18+H18),"Próximo ao Orçado","Passou do Orçado")))))
B19: Lavagem de Roupas | K19: =IF(D19=0,"",(D19-G19-H19)) | M19: =IF((G19+H19)=0,"",IF(D19=0,"",IF((G19+H19)<(D19*80%),"Abaixo do Orçado",IF(D19=(G19+H19),"Igual ao Orçado",IF(D19>(G19+H19),"Próximo ao Orçado","Passou do Orçado")))))
B20: Manutenção Geral | K20: =IF(D20=0,"",(D20-G20-H20)) | M20: =IF((G20+H20)=0,"",IF(D20=0,"",IF((G20+H20)<(D20*80%),"Abaixo do Orçado",IF(D20=(G20+H20),"Igual ao Orçado",IF(D20>(G20+H20),"Próximo ao Orçado","Passou do Orçado")))))
B21: Prestação Apartamento / Aluguel | K21: =IF(D21=0,"",(D21-G21-H21)) | M21: =IF((G21+H21)=0,"",IF(D21=0,"",IF((G21+H21)<(D21*80%),"Abaixo do Orçado",IF(D21=(G21+H21),"Igual ao Orçado",IF(D21>(G21+H21),"Próximo ao Orçado","Passou do Orçado")))))
B22: Telefone Fixo / Internet | K22: =IF(D22=0,"",(D22-G22-H22)) | M22: =IF((G22+H22)=0,"",IF(D22=0,"",IF((G22+H22)<(D22*80%),"Abaixo do Orçado",IF(D22=(G22+H22),"Igual ao Orçado",IF(D22>(G22+H22),"Próximo ao Orçado","Passou do Orçado")))))
B23: Outros 1 - | K23: =IF(D23=0,"",(D23-G23-H23)) | M23: =IF((G23+H23)=0,"",IF(D23=0,"",IF((G23+H23)<(D23*80%),"Abaixo do Orçado",IF(D23=(G23+H23),"Igual ao Orçado",IF(D23>(G23+H23),"Próximo ao Orçado","Passou do Orçado")))))
B24: Outros 2 - | K24: =IF(D24=0,"",(D24-G24-H24)) | M24: =IF((G24+H24)=0,"",IF(D24=0,"",IF((G24+H24)<(D24*80%),"Abaixo do Orçado",IF(D24=(G24+H24),"Igual ao Orçado",IF(D24>(G24+H24),"Próximo ao Orçado","Passou do Orçado")))))
K25: =IF(D25=0,"",(D25-G25-H25)) | M25: =IF((G25+H25)=0,"",IF(D25=0,"",IF((G25+H25)<(D25*80%),"Abaixo do Orçado",IF(D25=(G25+H25),"Igual ao Orçado",IF(D25>(G25+H25),"Próximo ao Orçado","Passou do Orçado")))))
K26: =IF(D26=0,"",(D26-G26-H26)) | M26: =IF((G26+H26)=0,"",IF(D26=0,"",IF((G26+H26)<(D26*80%),"Abaixo do Orçado",IF(D26=(G26+H26),"Igual ao Orçado",IF(D26>(G26+H26),"Próximo ao Orçado","Passou do Orçado")))))
K27: =IF(D27=0,"",(D27-G27-H27)) | M27: =IF((G27+H27)=0,"",IF(D27=0,"",IF((G27+H27)<(D27*80%),"Abaixo do Orçado",IF(D27=(G27+H27),"Igual ao Orçado",IF(D27>(G27+H27),"Próximo ao Orçado","Passou do Orçado")))))
B28: Total Grupo 1: | D28: =SUM(D14:D27) -> 0 | G28: =SUM(G14:G27) -> 0 | H28: =SUM(H14:H27) -> 0 | I28: =G28+H28 -> 0 | K28: =IF(D28=0,"",D28-I28)
B30: 2) Alimentação | D30: R$ | E30: Percentual despesa total | G30: =IF(I39=0,"",IF(D39=0,"Preencher coluna Orçamento para melhor funcionamento da Planilha.",IF(I39<(D39*80%),"Sinal Verde - Abaixo do Orçado",IF(D39=I39,"Sinal Amarelo - Igual ao Orçado",IF(D39>I39,"Sinal Amarelo - Próximo ao Orçado","Sinal Vermelho - Passou do Orçado"))))) | I30: Percentual despesa total | K30: R$ | M30: Obs. Individual
B31: Refeições diárias (Almoço / Jantar, Etc) | E31: =IF(D39=0,"",D39/D130) | I31: =IF(I39=0,"",I39/I130) | K31: =IF(D31=0,"",(D31-G31-H31)) | M31: =IF((G31+H31)=0,"",IF(D31=0,"",IF((G31+H31)<(D31*80%),"Abaixo do Orçado",IF(D31=(G31+H31),"Igual ao Orçado",IF(D31>(G31+H31),"Próximo ao Orçado","Passou do Orçado")))))
B32: Supermercado - Mensal | K32: =IF(D32=0,"",(D32-G32-H32)) | M32: =IF((G32+H32)=0,"",IF(D32=0,"",IF((G32+H32)<(D32*80%),"Abaixo do Orçado",IF(D32=(G32+H32),"Igual ao Orçado",IF(D32>(G32+H32),"Próximo ao Orçado","Passou do Orçado")))))
B33: Supermercado / Padaria - Dia a dia | K33: =IF(D33=0,"",(D33-G33-H33)) | M33: =IF((G33+H33)=0,"",IF(D33=0,"",IF((G33+H33)<(D33*80%),"Abaixo do Orçado",IF(D33=(G33+H33),"Igual ao Orçado",IF(D33>(G33+H33),"Próximo ao Orçado","Passou do Orçado")))))
B34: Outros 1 - | K34: =IF(D34=0,"",(D34-G34-H34)) | M34: =IF((G34+H34)=0,"",IF(D34=0,"",IF((G34+H34)<(D34*80%),"Abaixo do Orçado",IF(D34=(G34+H34),"Igual ao Orçado",IF(D34>(G34+H34),"Próximo ao Orçado","Passou do Orçado")))))
B35: Outros 2 - | K35: =IF(D35=0,"",(D35-G35-H35)) | M35: =IF((G35+H35)=0,"",IF(D35=0,"",IF((G35+H35)<(D35*80%),"Abaixo do Orçado",IF(D35=(G35+H35),"Igual ao Orçado",IF(D35>(G35+H35),"Próximo ao Orçado","Passou do Orçado")))))
K36: =IF(D36=0,"",(D36-G36-H36)) | M36: =IF((G36+H36)=0,"",IF(D36=0,"",IF((G36+H36)<(D36*80%),"Abaixo do Orçado",IF(D36=(G36+H36),"Igual ao Orçado",IF(D36>(G36+H36),"Próximo ao Orçado","Passou do Orçado")))))
K37: =IF(D37=0,"",(D37-G37-H37)) | M37: =IF((G37+H37)=0,"",IF(D37=0,"",IF((G37+H37)<(D37*80%),"Abaixo do Orçado",IF(D37=(G37+H37),"Igual ao Orçado",IF(D37>(G37+H37),"Próximo ao Orçado","Passou do Orçado")))))
K38: =IF(D38=0,"",(D38-G38-H38)) | M38: =IF((G38+H38)=0,"",IF(D38=0,"",IF((G38+H38)<(D38*80%),"Abaixo do Orçado",IF(D38=(G38+H38),"Igual ao Orçado",IF(D38>(G38+H38),"Próximo ao Orçado","Passou do Orçado")))))
B39: Total Grupo 2: | D39: =SUM(D31:D38) -> 0 | G39: =SUM(G31:G38) -> 0 | H39: =SUM(H31:H38) -> 0 | I39: =G39+H39 -> 0 | K39: =IF(D39=0,"",D39-I39)
B41: 3) Saúde | D41: R$ | E41: Percentual despesa total | G41: =IF(I50=0,"",IF(D50=0,"Preencher coluna Orçamento para melhor funcionamento da Planilha.",IF(I50<(D50*80%),"Sinal Verde - Abaixo do Orçado",IF(D50=I50,"Sinal Amarelo - Igual ao Orçado",IF(D50>I50,"Sinal Amarelo - Próximo ao Orçado","Sinal Vermelho - Passou do Orçado"))))) | I41: Percentual despesa total | K41: R$ | M41: Obs. Individual
B42: Dentista | E42: =IF(D50=0,"",D50/D130) | I42: =IF(I50=0,"",I50/I130) | K42: =IF(D42=0,"",(D42-G42-H42)) | M42: =IF((G42+H42)=0,"",IF(D42=0,"",IF((G42+H42)<(D42*80%),"Abaixo do Orçado",IF(D42=(G42+H42),"Igual ao Orçado",IF(D42>(G42+H42),"Próximo ao Orçado","Passou do Orçado")))))
B43: Farmácia - Medicamentos | K43: =IF(D43=0,"",(D43-G43-H43)) | M43: =IF((G43+H43)=0,"",IF(D43=0,"",IF((G43+H43)<(D43*80%),"Abaixo do Orçado",IF(D43=(G43+H43),"Igual ao Orçado",IF(D43>(G43+H43),"Próximo ao Orçado","Passou do Orçado")))))
B44: Plano de Saúde | K44: =IF(D44=0,"",(D44-G44-H44)) | M44: =IF((G44+H44)=0,"",IF(D44=0,"",IF((G44+H44)<(D44*80%),"Abaixo do Orçado",IF(D44=(G44+H44),"Igual ao Orçado",IF(D44>(G44+H44),"Próximo ao Orçado","Passou do Orçado")))))
...

Sheet Abr
B2: Controle - Abril 2026 Receitas x Despesas | D2: Orçamento | G2: Realizado | K2: Diferença | M2: Observações
B4: Discriminação dos itens | D4: Casal | E4: Total | G4: ='Página Inicial'!C6 -> Nome Esposa | H4: ='Página Inicial'!F6 -> Nome Esposo | I4: Total | K4: Casal | M4: Obs. Individual
B5: Receitas 1 | K5: =IF(D5=0,"",(D5-G5-H5)) | M5: =IF((G5+H5)=0,"",IF(D5=0,"",IF((G5+H5)<(D5*80%),"Abaixo do Orçado",IF(D5=(G5+H5),"Igual ao Orçado",IF(D5>(G5+H5),"Próximo ao Orçado","Passou do Orçado")))))
B6: Receitas 2 | K6: =IF(D6=0,"",(D6-G6-H6)) | M6: =IF((G6+H6)=0,"",IF(D6=0,"",IF((G6+H6)<(D6*80%),"Abaixo do Orçado",IF(D6=(G6+H6),"Igual ao Orçado",IF(D6>(G6+H6),"Próximo ao Orçado","Passou do Orçado")))))
B7: Receitas 3 | K7: =IF(D7=0,"",(D7-G7-H7)) | M7: =IF((G7+H7)=0,"",IF(D7=0,"",IF((G7+H7)<(D7*80%),"Abaixo do Orçado",IF(D7=(G7+H7),"Igual ao Orçado",IF(D7>(G7+H7),"Próximo ao Orçado","Passou do Orçado")))))
K8: =IF(D8=0,"",(D8-G8-H8)) | M8: =IF((G8+H8)=0,"",IF(D8=0,"",IF((G8+H8)<(D8*80%),"Abaixo do Orçado",IF(D8=(G8+H8),"Igual ao Orçado",IF(D8>(G8+H8),"Próximo ao Orçado","Passou do Orçado")))))
K9: =IF(D9=0,"",(D9-G9-H9)) | M9: =IF((G9+H9)=0,"",IF(D9=0,"",IF((G9+H9)<(D9*80%),"Abaixo do Orçado",IF(D9=(G9+H9),"Igual ao Orçado",IF(D9>(G9+H9),"Próximo ao Orçado","Passou do Orçado")))))
B10: ( - ) Impostos retidos / pagos | K10: =IF(D10=0,"",(D10-G10-H10)) | M10: =IF((G10+H10)=0,"",IF(D10=0,"",IF((G10+H10)<(D10*80%),"Abaixo do Orçado",IF(D10=(G10+H10),"Igual ao Orçado",IF(D10>(G10+H10),"Próximo ao Orçado","Passou do Orçado")))))
B11: Total Salários: | D11: =D5+D6+D7+D8+D9-D10 -> 0 | G11: =G5+G6+G7+G8+G9-G10 -> 0 | H11: =H5+H6+H7+H8+H9-H10 -> 0 | I11: =G11+H11 -> 0 | K11: =IF(D11=0,"",D11-I11)
B12: Despesas por Grupo
B13: 1) Habitação | D13: R$ | E13: Percentual despesa total | G13: =IF(I28=0,"",IF(D28=0,"Preencher coluna Orçamento para melhor funcionamento da Planilha.",IF(I28<(D28*80%),"Sinal Verde - Abaixo do Orçado",IF(D28=I28,"Sinal Amarelo - Igual ao Orçado",IF(D28>I28,"Sinal Amarelo - Próximo ao Orçado","Sinal Vermelho - Passou do Orçado"))))) | I13: Percentual despesa total | K13: R$ | M13: Obs. Individual
B14: Água e Esgoto | E14: =IF(D28=0,"",D28/D130) | I14: =IF(I28=0,"",I28/I130) | K14: =IF(D14=0,"",(D14-G14-H14)) | M14: =IF((G14+H14)=0,"",IF(D14=0,"",IF((G14+H14)<(D14*80%),"Abaixo do Orçado",IF(D14=(G14+H14),"Igual ao Orçado",IF(D14>(G14+H14),"Próximo ao Orçado","Passou do Orçado")))))
B15: Condomínio | K15: =IF(D15=0,"",(D15-G15-H15)) | M15: =IF((G15+H15)=0,"",IF(D15=0,"",IF((G15+H15)<(D15*80%),"Abaixo do Orçado",IF(D15=(G15+H15),"Igual ao Orçado",IF(D15>(G15+H15),"Próximo ao Orçado","Passou do Orçado")))))
B16: Diarista / Empregada | K16: =IF(D16=0,"",(D16-G16-H16)) | M16: =IF((G16+H16)=0,"",IF(D16=0,"",IF((G16+H16)<(D16*80%),"Abaixo do Orçado",IF(D16=(G16+H16),"Igual ao Orçado",IF(D16>(G16+H16),"Próximo ao Orçado","Passou do Orçado")))))
B17: Energia Elétrica | K17: =IF(D17=0,"",(D17-G17-H17)) | M17: =IF((G17+H17)=0,"",IF(D17=0,"",IF((G17+H17)<(D17*80%),"Abaixo do Orçado",IF(D17=(G17+H17),"Igual ao Orçado",IF(D17>(G17+H17),"Próximo ao Orçado","Passou do Orçado")))))
B18: IPTU / Outras taxas | K18: =IF(D18=0,"",(D18-G18-H18)) | M18: =IF((G18+H18)=0,"",IF(D18=0,"",IF((G18+H18)<(D18*80%),"Abaixo do Orçado",IF(D18=(G18+H18),"Igual ao Orçado",IF(D18>(G18+H18),"Próximo ao Orçado","Passou do Orçado")))))
B19: Lavagem de Roupas | K19: =IF(D19=0,"",(D19-G19-H19)) | M19: =IF((G19+H19)=0,"",IF(D19=0,"",IF((G19+H19)<(D19*80%),"Abaixo do Orçado",IF(D19=(G19+H19),"Igual ao Orçado",IF(D19>(G19+H19),"Próximo ao Orçado","Passou do Orçado")))))
B20: Manutenção Geral | K20: =IF(D20=0,"",(D20-G20-H20)) | M20: =IF((G20+H20)=0,"",IF(D20=0,"",IF((G20+H20)<(D20*80%),"Abaixo do Orçado",IF(D20=(G20+H20),"Igual ao Orçado",IF(D20>(G20+H20),"Próximo ao Orçado","Passou do Orçado")))))
B21: Prestação Apartamento / Aluguel | K21: =IF(D21=0,"",(D21-G21-H21)) | M21: =IF((G21+H21)=0,"",IF(D21=0,"",IF((G21+H21)<(D21*80%),"Abaixo do Orçado",IF(D21=(G21+H21),"Igual ao Orçado",IF(D21>(G21+H21),"Próximo ao Orçado","Passou do Orçado")))))
B22: Telefone Fixo / Internet | K22: =IF(D22=0,"",(D22-G22-H22)) | M22: =IF((G22+H22)=0,"",IF(D22=0,"",IF((G22+H22)<(D22*80%),"Abaixo do Orçado",IF(D22=(G22+H22),"Igual ao Orçado",IF(D22>(G22+H22),"Próximo ao Orçado","Passou do Orçado")))))
B23: Outros 1 - | K23: =IF(D23=0,"",(D23-G23-H23)) | M23: =IF((G23+H23)=0,"",IF(D23=0,"",IF((G23+H23)<(D23*80%),"Abaixo do Orçado",IF(D23=(G23+H23),"Igual ao Orçado",IF(D23>(G23+H23),"Próximo ao Orçado","Passou do Orçado")))))
B24: Outros 2 - | K24: =IF(D24=0,"",(D24-G24-H24)) | M24: =IF((G24+H24)=0,"",IF(D24=0,"",IF((G24+H24)<(D24*80%),"Abaixo do Orçado",IF(D24=(G24+H24),"Igual ao Orçado",IF(D24>(G24+H24),"Próximo ao Orçado","Passou do Orçado")))))
K25: =IF(D25=0,"",(D25-G25-H25)) | M25: =IF((G25+H25)=0,"",IF(D25=0,"",IF((G25+H25)<(D25*80%),"Abaixo do Orçado",IF(D25=(G25+H25),"Igual ao Orçado",IF(D25>(G25+H25),"Próximo ao Orçado","Passou do Orçado")))))
K26: =IF(D26=0,"",(D26-G26-H26)) | M26: =IF((G26+H26)=0,"",IF(D26=0,"",IF((G26+H26)<(D26*80%),"Abaixo do Orçado",IF(D26=(G26+H26),"Igual ao Orçado",IF(D26>(G26+H26),"Próximo ao Orçado","Passou do Orçado")))))
K27: =IF(D27=0,"",(D27-G27-H27)) | M27: =IF((G27+H27)=0,"",IF(D27=0,"",IF((G27+H27)<(D27*80%),"Abaixo do Orçado",IF(D27=(G27+H27),"Igual ao Orçado",IF(D27>(G27+H27),"Próximo ao Orçado","Passou do Orçado")))))
B28: Total Grupo 1: | D28: =SUM(D14:D27) -> 0 | G28: =SUM(G14:G27) -> 0 | H28: =SUM(H14:H27) -> 0 | I28: =G28+H28 -> 0 | K28: =IF(D28=0,"",D28-I28)
B30: 2) Alimentação | D30: R$ | E30: Percentual despesa total | G30: =IF(I39=0,"",IF(D39=0,"Preencher coluna Orçamento para melhor funcionamento da Planilha.",IF(I39<(D39*80%),"Sinal Verde - Abaixo do Orçado",IF(D39=I39,"Sinal Amarelo - Igual ao Orçado",IF(D39>I39,"Sinal Amarelo - Próximo ao Orçado","Sinal Vermelho - Passou do Orçado"))))) | I30: Percentual despesa total | K30: R$ | M30: Obs. Individual
B31: Refeições diárias (Almoço / Jantar, Etc) | E31: =IF(D39=0,"",D39/D130) | I31: =IF(I39=0,"",I39/I130) | K31: =IF(D31=0,"",(D31-G31-H31)) | M31: =IF((G31+H31)=0,"",IF(D31=0,"",IF((G31+H31)<(D31*80%),"Abaixo do Orçado",IF(D31=(G31+H31),"Igual ao Orçado",IF(D31>(G31+H31),"Próximo ao Orçado","Passou do Orçado")))))
B32: Supermercado - Mensal | K32: =IF(D32=0,"",(D32-G32-H32)) | M32: =IF((G32+H32)=0,"",IF(D32=0,"",IF((G32+H32)<(D32*80%),"Abaixo do Orçado",IF(D32=(G32+H32),"Igual ao Orçado",IF(D32>(G32+H32),"Próximo ao Orçado","Passou do Orçado")))))
B33: Supermercado / Padaria - Dia a dia | K33: =IF(D33=0,"",(D33-G33-H33)) | M33: =IF((G33+H33)=0,"",IF(D33=0,"",IF((G33+H33)<(D33*80%),"Abaixo do Orçado",IF(D33=(G33+H33),"Igual ao Orçado",IF(D33>(G33+H33),"Próximo ao Orçado","Passou do Orçado")))))
B34: Outros 1 - | K34: =IF(D34=0,"",(D34-G34-H34)) | M34: =IF((G34+H34)=0,"",IF(D34=0,"",IF((G34+H34)<(D34*80%),"Abaixo do Orçado",IF(D34=(G34+H34),"Igual ao Orçado",IF(D34>(G34+H34),"Próximo ao Orçado","Passou do Orçado")))))
B35: Outros 2 - | K35: =IF(D35=0,"",(D35-G35-H35)) | M35: =IF((G35+H35)=0,"",IF(D35=0,"",IF((G35+H35)<(D35*80%),"Abaixo do Orçado",IF(D35=(G35+H35),"Igual ao Orçado",IF(D35>(G35+H35),"Próximo ao Orçado","Passou do Orçado")))))
K36: =IF(D36=0,"",(D36-G36-H36)) | M36: =IF((G36+H36)=0,"",IF(D36=0,"",IF((G36+H36)<(D36*80%),"Abaixo do Orçado",IF(D36=(G36+H36),"Igual ao Orçado",IF(D36>(G36+H36),"Próximo ao Orçado","Passou do Orçado")))))
K37: =IF(D37=0,"",(D37-G37-H37)) | M37: =IF((G37+H37)=0,"",IF(D37=0,"",IF((G37+H37)<(D37*80%),"Abaixo do Orçado",IF(D37=(G37+H37),"Igual ao Orçado",IF(D37>(G37+H37),"Próximo ao Orçado","Passou do Orçado")))))
K38: =IF(D38=0,"",(D38-G38-H38)) | M38: =IF((G38+H38)=0,"",IF(D38=0,"",IF((G38+H38)<(D38*80%),"Abaixo do Orçado",IF(D38=(G38+H38),"Igual ao Orçado",IF(D38>(G38+H38),"Próximo ao Orçado","Passou do Orçado")))))
B39: Total Grupo 2: | D39: =SUM(D31:D38) -> 0 | G39: =SUM(G31:G38) -> 0 | H39: =SUM(H31:H38) -> 0 | I39: =G39+H39 -> 0 | K39: =IF(D39=0,"",D39-I39)
B41: 3) Saúde | D41: R$ | E41: Percentual despesa total | G41: =IF(I50=0,"",IF(D50=0,"Preencher coluna Orçamento para melhor funcionamento da Planilha.",IF(I50<(D50*80%),"Sinal Verde - Abaixo do Orçado",IF(D50=I50,"Sinal Amarelo - Igual ao Orçado",IF(D50>I50,"Sinal Amarelo - Próximo ao Orçado","Sinal Vermelho - Passou do Orçado"))))) | I41: Percentual despesa total | K41: R$ | M41: Obs. Individual
B42: Dentista | E42: =IF(D50=0,"",D50/D130) | I42: =IF(I50=0,"",I50/I130) | K42: =IF(D42=0,"",(D42-G42-H42)) | M42: =IF((G42+H42)=0,"",IF(D42=0,"",IF((G42+H42)<(D42*80%),"Abaixo do Orçado",IF(D42=(G42+H42),"Igual ao Orçado",IF(D42>(G42+H42),"Próximo ao Orçado","Passou do Orçado")))))
B43: Farmácia - Medicamentos | K43: =IF(D43=0,"",(D43-G43-H43)) | M43: =IF((G43+H43)=0,"",IF(D43=0,"",IF((G43+H43)<(D43*80%),"Abaixo do Orçado",IF(D43=(G43+H43),"Igual ao Orçado",IF(D43>(G43+H43),"Próximo ao Orçado","Passou do Orçado")))))
B44: Plano de Saúde | K44: =IF(D44=0,"",(D44-G44-H44)) | M44: =IF((G44+H44)=0,"",IF(D44=0,"",IF((G44+H44)<(D44*80%),"Abaixo do Orçado",IF(D44=(G44+H44),"Igual ao Orçado",IF(D44>(G44+H44),"Próximo ao Orçado","Passou do Orçado")))))
...

Sheet Mai
B2: Controle - Maio 2026 Receitas x Despesas | D2: Orçamento | G2: Realizado | K2: Diferença | M2: Observações
B4: Discriminação dos itens | D4: Casal | E4: Total | G4: ='Página Inicial'!C6 -> Nome Esposa | H4: ='Página Inicial'!F6 -> Nome Esposo | I4: Total | K4: Casal | M4: Obs. Individual
B5: Receitas 1 | K5: =IF(D5=0,"",(D5-G5-H5)) | M5: =IF((G5+H5)=0,"",IF(D5=0,"",IF((G5+H5)<(D5*80%),"Abaixo do Orçado",IF(D5=(G5+H5),"Igual ao Orçado",IF(D5>(G5+H5),"Próximo ao Orçado","Passou do Orçado")))))
B6: Receitas 2 | K6: =IF(D6=0,"",(D6-G6-H6)) | M6: =IF((G6+H6)=0,"",IF(D6=0,"",IF((G6+H6)<(D6*80%),"Abaixo do Orçado",IF(D6=(G6+H6),"Igual ao Orçado",IF(D6>(G6+H6),"Próximo ao Orçado","Passou do Orçado")))))
B7: Receitas 3 | K7: =IF(D7=0,"",(D7-G7-H7)) | M7: =IF((G7+H7)=0,"",IF(D7=0,"",IF((G7+H7)<(D7*80%),"Abaixo do Orçado",IF(D7=(G7+H7),"Igual ao Orçado",IF(D7>(G7+H7),"Próximo ao Orçado","Passou do Orçado")))))
K8: =IF(D8=0,"",(D8-G8-H8)) | M8: =IF((G8+H8)=0,"",IF(D8=0,"",IF((G8+H8)<(D8*80%),"Abaixo do Orçado",IF(D8=(G8+H8),"Igual ao Orçado",IF(D8>(G8+H8),"Próximo ao Orçado","Passou do Orçado")))))
K9: =IF(D9=0,"",(D9-G9-H9)) | M9: =IF((G9+H9)=0,"",IF(D9=0,"",IF((G9+H9)<(D9*80%),"Abaixo do Orçado",IF(D9=(G9+H9),"Igual ao Orçado",IF(D9>(G9+H9),"Próximo ao Orçado","Passou do Orçado")))))
B10: ( - ) Impostos retidos / pagos | K10: =IF(D10=0,"",(D10-G10-H10)) | M10: =IF((G10+H10)=0,"",IF(D10=0,"",IF((G10+H10)<(D10*80%),"Abaixo do Orçado",IF(D10=(G10+H10),"Igual ao Orçado",IF(D10>(G10+H10),"Próximo ao Orçado","Passou do Orçado")))))
B11: Total Salários: | D11: =D5+D6+D7+D8+D9-D10 -> 0 | G11: =G5+G6+G7+G8+G9-G10 -> 0 | H11: =H5+H6+H7+H8+H9-H10 -> 0 | I11: =G11+H11 -> 0 | K11: =IF(D11=0,"",D11-I11)
B12: Despesas por Grupo
B13: 1) Habitação | D13: R$ | E13: Percentual despesa total | G13: =IF(I28=0,"",IF(D28=0,"Preencher coluna Orçamento para melhor funcionamento da Planilha.",IF(I28<(D28*80%),"Sinal Verde - Abaixo do Orçado",IF(D28=I28,"Sinal Amarelo - Igual ao Orçado",IF(D28>I28,"Sinal Amarelo - Próximo ao Orçado","Sinal Vermelho - Passou do Orçado"))))) | I13: Percentual despesa total | K13: R$ | M13: Obs. Individual
B14: Água e Esgoto | E14: =IF(D28=0,"",D28/D130) | I14: =IF(I28=0,"",I28/I130) | K14: =IF(D14=0,"",(D14-G14-H14)) | M14: =IF((G14+H14)=0,"",IF(D14=0,"",IF((G14+H14)<(D14*80%),"Abaixo do Orçado",IF(D14=(G14+H14),"Igual ao Orçado",IF(D14>(G14+H14),"Próximo ao Orçado","Passou do Orçado")))))
B15: Condomínio | K15: =IF(D15=0,"",(D15-G15-H15)) | M15: =IF((G15+H15)=0,"",IF(D15=0,"",IF((G15+H15)<(D15*80%),"Abaixo do Orçado",IF(D15=(G15+H15),"Igual ao Orçado",IF(D15>(G15+H15),"Próximo ao Orçado","Passou do Orçado")))))
B16: Diarista / Empregada | K16: =IF(D16=0,"",(D16-G16-H16)) | M16: =IF((G16+H16)=0,"",IF(D16=0,"",IF((G16+H16)<(D16*80%),"Abaixo do Orçado",IF(D16=(G16+H16),"Igual ao Orçado",IF(D16>(G16+H16),"Próximo ao Orçado","Passou do Orçado")))))
B17: Energia Elétrica | K17: =IF(D17=0,"",(D17-G17-H17)) | M17: =IF((G17+H17)=0,"",IF(D17=0,"",IF((G17+H17)<(D17*80%),"Abaixo do Orçado",IF(D17=(G17+H17),"Igual ao Orçado",IF(D17>(G17+H17),"Próximo ao Orçado","Passou do Orçado")))))
B18: IPTU / Outras taxas | K18: =IF(D18=0,"",(D18-G18-H18)) | M18: =IF((G18+H18)=0,"",IF(D18=0,"",IF((G18+H18)<(D18*80%),"Abaixo do Orçado",IF(D18=(G18+H18),"Igual ao Orçado",IF(D18>(G18+H18),"Próximo ao Orçado","Passou do Orçado")))))
B19: Lavagem de Roupas | K19: =IF(D19=0,"",(D19-G19-H19)) | M19: =IF((G19+H19)=0,"",IF(D19=0,"",IF((G19+H19)<(D19*80%),"Abaixo do Orçado",IF(D19=(G19+H19),"Igual ao Orçado",IF(D19>(G19+H19),"Próximo ao Orçado","Passou do Orçado")))))
B20: Manutenção Geral | K20: =IF(D20=0,"",(D20-G20-H20)) | M20: =IF((G20+H20)=0,"",IF(D20=0,"",IF((G20+H20)<(D20*80%),"Abaixo do Orçado",IF(D20=(G20+H20),"Igual ao Orçado",IF(D20>(G20+H20),"Próximo ao Orçado","Passou do Orçado")))))
B21: Prestação Apartamento / Aluguel | K21: =IF(D21=0,"",(D21-G21-H21)) | M21: =IF((G21+H21)=0,"",IF(D21=0,"",IF((G21+H21)<(D21*80%),"Abaixo do Orçado",IF(D21=(G21+H21),"Igual ao Orçado",IF(D21>(G21+H21),"Próximo ao Orçado","Passou do Orçado")))))
B22: Telefone Fixo / Internet | K22: =IF(D22=0,"",(D22-G22-H22)) | M22: =IF((G22+H22)=0,"",IF(D22=0,"",IF((G22+H22)<(D22*80%),"Abaixo do Orçado",IF(D22=(G22+H22),"Igual ao Orçado",IF(D22>(G22+H22),"Próximo ao Orçado","Passou do Orçado")))))
B23: Outros 1 - | K23: =IF(D23=0,"",(D23-G23-H23)) | M23: =IF((G23+H23)=0,"",IF(D23=0,"",IF((G23+H23)<(D23*80%),"Abaixo do Orçado",IF(D23=(G23+H23),"Igual ao Orçado",IF(D23>(G23+H23),"Próximo ao Orçado","Passou do Orçado")))))
B24: Outros 2 - | K24: =IF(D24=0,"",(D24-G24-H24)) | M24: =IF((G24+H24)=0,"",IF(D24=0,"",IF((G24+H24)<(D24*80%),"Abaixo do Orçado",IF(D24=(G24+H24),"Igual ao Orçado",IF(D24>(G24+H24),"Próximo ao Orçado","Passou do Orçado")))))
K25: =IF(D25=0,"",(D25-G25-H25)) | M25: =IF((G25+H25)=0,"",IF(D25=0,"",IF((G25+H25)<(D25*80%),"Abaixo do Orçado",IF(D25=(G25+H25),"Igual ao Orçado",IF(D25>(G25+H25),"Próximo ao Orçado","Passou do Orçado")))))
K26: =IF(D26=0,"",(D26-G26-H26)) | M26: =IF((G26+H26)=0,"",IF(D26=0,"",IF((G26+H26)<(D26*80%),"Abaixo do Orçado",IF(D26=(G26+H26),"Igual ao Orçado",IF(D26>(G26+H26),"Próximo ao Orçado","Passou do Orçado")))))
K27: =IF(D27=0,"",(D27-G27-H27)) | M27: =IF((G27+H27)=0,"",IF(D27=0,"",IF((G27+H27)<(D27*80%),"Abaixo do Orçado",IF(D27=(G27+H27),"Igual ao Orçado",IF(D27>(G27+H27),"Próximo ao Orçado","Passou do Orçado")))))
B28: Total Grupo 1: | D28: =SUM(D14:D27) -> 0 | G28: =SUM(G14:G27) -> 0 | H28: =SUM(H14:H27) -> 0 | I28: =G28+H28 -> 0 | K28: =IF(D28=0,"",D28-I28)
B30: 2) Alimentação | D30: R$ | E30: Percentual despesa total | G30: =IF(I39=0,"",IF(D39=0,"Preencher coluna Orçamento para melhor funcionamento da Planilha.",IF(I39<(D39*80%),"Sinal Verde - Abaixo do Orçado",IF(D39=I39,"Sinal Amarelo - Igual ao Orçado",IF(D39>I39,"Sinal Amarelo - Próximo ao Orçado","Sinal Vermelho - Passou do Orçado"))))) | I30: Percentual despesa total | K30: R$ | M30: Obs. Individual
B31: Refeições diárias (Almoço / Jantar, Etc) | E31: =IF(D39=0,"",D39/D130) | I31: =IF(I39=0,"",I39/I130) | K31: =IF(D31=0,"",(D31-G31-H31)) | M31: =IF((G31+H31)=0,"",IF(D31=0,"",IF((G31+H31)<(D31*80%),"Abaixo do Orçado",IF(D31=(G31+H31),"Igual ao Orçado",IF(D31>(G31+H31),"Próximo ao Orçado","Passou do Orçado")))))
B32: Supermercado - Mensal | K32: =IF(D32=0,"",(D32-G32-H32)) | M32: =IF((G32+H32)=0,"",IF(D32=0,"",IF((G32+H32)<(D32*80%),"Abaixo do Orçado",IF(D32=(G32+H32),"Igual ao Orçado",IF(D32>(G32+H32),"Próximo ao Orçado","Passou do Orçado")))))
B33: Supermercado / Padaria - Dia a dia | K33: =IF(D33=0,"",(D33-G33-H33)) | M33: =IF((G33+H33)=0,"",IF(D33=0,"",IF((G33+H33)<(D33*80%),"Abaixo do Orçado",IF(D33=(G33+H33),"Igual ao Orçado",IF(D33>(G33+H33),"Próximo ao Orçado","Passou do Orçado")))))
B34: Outros 1 - | K34: =IF(D34=0,"",(D34-G34-H34)) | M34: =IF((G34+H34)=0,"",IF(D34=0,"",IF((G34+H34)<(D34*80%),"Abaixo do Orçado",IF(D34=(G34+H34),"Igual ao Orçado",IF(D34>(G34+H34),"Próximo ao Orçado","Passou do Orçado")))))
B35: Outros 2 - | K35: =IF(D35=0,"",(D35-G35-H35)) | M35: =IF((G35+H35)=0,"",IF(D35=0,"",IF((G35+H35)<(D35*80%),"Abaixo do Orçado",IF(D35=(G35+H35),"Igual ao Orçado",IF(D35>(G35+H35),"Próximo ao Orçado","Passou do Orçado")))))
K36: =IF(D36=0,"",(D36-G36-H36)) | M36: =IF((G36+H36)=0,"",IF(D36=0,"",IF((G36+H36)<(D36*80%),"Abaixo do Orçado",IF(D36=(G36+H36),"Igual ao Orçado",IF(D36>(G36+H36),"Próximo ao Orçado","Passou do Orçado")))))
K37: =IF(D37=0,"",(D37-G37-H37)) | M37: =IF((G37+H37)=0,"",IF(D37=0,"",IF((G37+H37)<(D37*80%),"Abaixo do Orçado",IF(D37=(G37+H37),"Igual ao Orçado",IF(D37>(G37+H37),"Próximo ao Orçado","Passou do Orçado")))))
K38: =IF(D38=0,"",(D38-G38-H38)) | M38: =IF((G38+H38)=0,"",IF(D38=0,"",IF((G38+H38)<(D38*80%),"Abaixo do Orçado",IF(D38=(G38+H38),"Igual ao Orçado",IF(D38>(G38+H38),"Próximo ao Orçado","Passou do Orçado")))))
B39: Total Grupo 2: | D39: =SUM(D31:D38) -> 0 | G39: =SUM(G31:G38) -> 0 | H39: =SUM(H31:H38) -> 0 | I39: =G39+H39 -> 0 | K39: =IF(D39=0,"",D39-I39)
B41: 3) Saúde | D41: R$ | E41: Percentual despesa total | G41: =IF(I50=0,"",IF(D50=0,"Preencher coluna Orçamento para melhor funcionamento da Planilha.",IF(I50<(D50*80%),"Sinal Verde - Abaixo do Orçado",IF(D50=I50,"Sinal Amarelo - Igual ao Orçado",IF(D50>I50,"Sinal Amarelo - Próximo ao Orçado","Sinal Vermelho - Passou do Orçado"))))) | I41: Percentual despesa total | K41: R$ | M41: Obs. Individual
B42: Dentista | E42: =IF(D50=0,"",D50/D130) | I42: =IF(I50=0,"",I50/I130) | K42: =IF(D42=0,"",(D42-G42-H42)) | M42: =IF((G42+H42)=0,"",IF(D42=0,"",IF((G42+H42)<(D42*80%),"Abaixo do Orçado",IF(D42=(G42+H42),"Igual ao Orçado",IF(D42>(G42+H42),"Próximo ao Orçado","Passou do Orçado")))))
B43: Farmácia - Medicamentos | K43: =IF(D43=0,"",(D43-G43-H43)) | M43: =IF((G43+H43)=0,"",IF(D43=0,"",IF((G43+H43)<(D43*80%),"Abaixo do Orçado",IF(D43=(G43+H43),"Igual ao Orçado",IF(D43>(G43+H43),"Próximo ao Orçado","Passou do Orçado")))))
B44: Plano de Saúde | K44: =IF(D44=0,"",(D44-G44-H44)) | M44: =IF((G44+H44)=0,"",IF(D44=0,"",IF((G44+H44)<(D44*80%),"Abaixo do Orçado",IF(D44=(G44+H44),"Igual ao Orçado",IF(D44>(G44+H44),"Próximo ao Orçado","Passou do Orçado")))))
...

Sheet Jun
B2: Controle - Junho 2026 Receitas x Despesas | D2: Orçamento | G2: Realizado | K2: Diferença | M2: Observações
B4: Discriminação dos itens | D4: Casal | E4: Total | G4: ='Página Inicial'!C6 -> Nome Esposa | H4: ='Página Inicial'!F6 -> Nome Esposo | I4: Total | K4: Casal | M4: Obs. Individual
B5: Receitas 1 | K5: =IF(D5=0,"",(D5-G5-H5)) | M5: =IF((G5+H5)=0,"",IF(D5=0,"",IF((G5+H5)<(D5*80%),"Abaixo do Orçado",IF(D5=(G5+H5),"Igual ao Orçado",IF(D5>(G5+H5),"Próximo ao Orçado","Passou do Orçado")))))
B6: Receitas 2 | K6: =IF(D6=0,"",(D6-G6-H6)) | M6: =IF((G6+H6)=0,"",IF(D6=0,"",IF((G6+H6)<(D6*80%),"Abaixo do Orçado",IF(D6=(G6+H6),"Igual ao Orçado",IF(D6>(G6+H6),"Próximo ao Orçado","Passou do Orçado")))))
B7: Receitas 3 | K7: =IF(D7=0,"",(D7-G7-H7)) | M7: =IF((G7+H7)=0,"",IF(D7=0,"",IF((G7+H7)<(D7*80%),"Abaixo do Orçado",IF(D7=(G7+H7),"Igual ao Orçado",IF(D7>(G7+H7),"Próximo ao Orçado","Passou do Orçado")))))
K8: =IF(D8=0,"",(D8-G8-H8)) | M8: =IF((G8+H8)=0,"",IF(D8=0,"",IF((G8+H8)<(D8*80%),"Abaixo do Orçado",IF(D8=(G8+H8),"Igual ao Orçado",IF(D8>(G8+H8),"Próximo ao Orçado","Passou do Orçado")))))
K9: =IF(D9=0,"",(D9-G9-H9)) | M9: =IF((G9+H9)=0,"",IF(D9=0,"",IF((G9+H9)<(D9*80%),"Abaixo do Orçado",IF(D9=(G9+H9),"Igual ao Orçado",IF(D9>(G9+H9),"Próximo ao Orçado","Passou do Orçado")))))
B10: ( - ) Impostos retidos / pagos | K10: =IF(D10=0,"",(D10-G10-H10)) | M10: =IF((G10+H10)=0,"",IF(D10=0,"",IF((G10+H10)<(D10*80%),"Abaixo do Orçado",IF(D10=(G10+H10),"Igual ao Orçado",IF(D10>(G10+H10),"Próximo ao Orçado","Passou do Orçado")))))
B11: Total Salários: | D11: =D5+D6+D7+D8+D9-D10 -> 0 | G11: =G5+G6+G7+G8+G9-G10 -> 0 | H11: =H5+H6+H7+H8+H9-H10 -> 0 | I11: =G11+H11 -> 0 | K11: =IF(D11=0,"",D11-I11)
B12: Despesas por Grupo
B13: 1) Habitação | D13: R$ | E13: Percentual despesa total | G13: =IF(I28=0,"",IF(D28=0,"Preencher coluna Orçamento para melhor funcionamento da Planilha.",IF(I28<(D28*80%),"Sinal Verde - Abaixo do Orçado",IF(D28=I28,"Sinal Amarelo - Igual ao Orçado",IF(D28>I28,"Sinal Amarelo - Próximo ao Orçado","Sinal Vermelho - Passou do Orçado"))))) | I13: Percentual despesa total | K13: R$ | M13: Obs. Individual
B14: Água e Esgoto | E14: =IF(D28=0,"",D28/D130) | I14: =IF(I28=0,"",I28/I130) | K14: =IF(D14=0,"",(D14-G14-H14)) | M14: =IF((G14+H14)=0,"",IF(D14=0,"",IF((G14+H14)<(D14*80%),"Abaixo do Orçado",IF(D14=(G14+H14),"Igual ao Orçado",IF(D14>(G14+H14),"Próximo ao Orçado","Passou do Orçado")))))
B15: Condomínio | K15: =IF(D15=0,"",(D15-G15-H15)) | M15: =IF((G15+H15)=0,"",IF(D15=0,"",IF((G15+H15)<(D15*80%),"Abaixo do Orçado",IF(D15=(G15+H15),"Igual ao Orçado",IF(D15>(G15+H15),"Próximo ao Orçado","Passou do Orçado")))))
B16: Diarista / Empregada | K16: =IF(D16=0,"",(D16-G16-H16)) | M16: =IF((G16+H16)=0,"",IF(D16=0,"",IF((G16+H16)<(D16*80%),"Abaixo do Orçado",IF(D16=(G16+H16),"Igual ao Orçado",IF(D16>(G16+H16),"Próximo ao Orçado","Passou do Orçado")))))
B17: Energia Elétrica | K17: =IF(D17=0,"",(D17-G17-H17)) | M17: =IF((G17+H17)=0,"",IF(D17=0,"",IF((G17+H17)<(D17*80%),"Abaixo do Orçado",IF(D17=(G17+H17),"Igual ao Orçado",IF(D17>(G17+H17),"Próximo ao Orçado","Passou do Orçado")))))
B18: IPTU / Outras taxas | K18: =IF(D18=0,"",(D18-G18-H18)) | M18: =IF((G18+H18)=0,"",IF(D18=0,"",IF((G18+H18)<(D18*80%),"Abaixo do Orçado",IF(D18=(G18+H18),"Igual ao Orçado",IF(D18>(G18+H18),"Próximo ao Orçado","Passou do Orçado")))))
B19: Lavagem de Roupas | K19: =IF(D19=0,"",(D19-G19-H19)) | M19: =IF((G19+H19)=0,"",IF(D19=0,"",IF((G19+H19)<(D19*80%),"Abaixo do Orçado",IF(D19=(G19+H19),"Igual ao Orçado",IF(D19>(G19+H19),"Próximo ao Orçado","Passou do Orçado")))))
B20: Manutenção Geral | K20: =IF(D20=0,"",(D20-G20-H20)) | M20: =IF((G20+H20)=0,"",IF(D20=0,"",IF((G20+H20)<(D20*80%),"Abaixo do Orçado",IF(D20=(G20+H20),"Igual ao Orçado",IF(D20>(G20+H20),"Próximo ao Orçado","Passou do Orçado")))))
B21: Prestação Apartamento / Aluguel | K21: =IF(D21=0,"",(D21-G21-H21)) | M21: =IF((G21+H21)=0,"",IF(D21=0,"",IF((G21+H21)<(D21*80%),"Abaixo do Orçado",IF(D21=(G21+H21),"Igual ao Orçado",IF(D21>(G21+H21),"Próximo ao Orçado","Passou do Orçado")))))
B22: Telefone Fixo / Internet | K22: =IF(D22=0,"",(D22-G22-H22)) | M22: =IF((G22+H22)=0,"",IF(D22=0,"",IF((G22+H22)<(D22*80%),"Abaixo do Orçado",IF(D22=(G22+H22),"Igual ao Orçado",IF(D22>(G22+H22),"Próximo ao Orçado","Passou do Orçado")))))
B23: Outros 1 - | K23: =IF(D23=0,"",(D23-G23-H23)) | M23: =IF((G23+H23)=0,"",IF(D23=0,"",IF((G23+H23)<(D23*80%),"Abaixo do Orçado",IF(D23=(G23+H23),"Igual ao Orçado",IF(D23>(G23+H23),"Próximo ao Orçado","Passou do Orçado")))))
B24: Outros 2 - | K24: =IF(D24=0,"",(D24-G24-H24)) | M24: =IF((G24+H24)=0,"",IF(D24=0,"",IF((G24+H24)<(D24*80%),"Abaixo do Orçado",IF(D24=(G24+H24),"Igual ao Orçado",IF(D24>(G24+H24),"Próximo ao Orçado","Passou do Orçado")))))
K25: =IF(D25=0,"",(D25-G25-H25)) | M25: =IF((G25+H25)=0,"",IF(D25=0,"",IF((G25+H25)<(D25*80%),"Abaixo do Orçado",IF(D25=(G25+H25),"Igual ao Orçado",IF(D25>(G25+H25),"Próximo ao Orçado","Passou do Orçado")))))
K26: =IF(D26=0,"",(D26-G26-H26)) | M26: =IF((G26+H26)=0,"",IF(D26=0,"",IF((G26+H26)<(D26*80%),"Abaixo do Orçado",IF(D26=(G26+H26),"Igual ao Orçado",IF(D26>(G26+H26),"Próximo ao Orçado","Passou do Orçado")))))
K27: =IF(D27=0,"",(D27-G27-H27)) | M27: =IF((G27+H27)=0,"",IF(D27=0,"",IF((G27+H27)<(D27*80%),"Abaixo do Orçado",IF(D27=(G27+H27),"Igual ao Orçado",IF(D27>(G27+H27),"Próximo ao Orçado","Passou do Orçado")))))
B28: Total Grupo 1: | D28: =SUM(D14:D27) -> 0 | G28: =SUM(G14:G27) -> 0 | H28: =SUM(H14:H27) -> 0 | I28: =G28+H28 -> 0 | K28: =IF(D28=0,"",D28-I28)
B30: 2) Alimentação | D30: R$ | E30: Percentual despesa total | G30: =IF(I39=0,"",IF(D39=0,"Preencher coluna Orçamento para melhor funcionamento da Planilha.",IF(I39<(D39*80%),"Sinal Verde - Abaixo do Orçado",IF(D39=I39,"Sinal Amarelo - Igual ao Orçado",IF(D39>I39,"Sinal Amarelo - Próximo ao Orçado","Sinal Vermelho - Passou do Orçado"))))) | I30: Percentual despesa total | K30: R$ | M30: Obs. Individual
B31: Refeições diárias (Almoço / Jantar, Etc) | E31: =IF(D39=0,"",D39/D130) | I31: =IF(I39=0,"",I39/I130) | K31: =IF(D31=0,"",(D31-G31-H31)) | M31: =IF((G31+H31)=0,"",IF(D31=0,"",IF((G31+H31)<(D31*80%),"Abaixo do Orçado",IF(D31=(G31+H31),"Igual ao Orçado",IF(D31>(G31+H31),"Próximo ao Orçado","Passou do Orçado")))))
B32: Supermercado - Mensal | K32: =IF(D32=0,"",(D32-G32-H32)) | M32: =IF((G32+H32)=0,"",IF(D32=0,"",IF((G32+H32)<(D32*80%),"Abaixo do Orçado",IF(D32=(G32+H32),"Igual ao Orçado",IF(D32>(G32+H32),"Próximo ao Orçado","Passou do Orçado")))))
B33: Supermercado / Padaria - Dia a dia | K33: =IF(D33=0,"",(D33-G33-H33)) | M33: =IF((G33+H33)=0,"",IF(D33=0,"",IF((G33+H33)<(D33*80%),"Abaixo do Orçado",IF(D33=(G33+H33),"Igual ao Orçado",IF(D33>(G33+H33),"Próximo ao Orçado","Passou do Orçado")))))
B34: Outros 1 - | K34: =IF(D34=0,"",(D34-G34-H34)) | M34: =IF((G34+H34)=0,"",IF(D34=0,"",IF((G34+H34)<(D34*80%),"Abaixo do Orçado",IF(D34=(G34+H34),"Igual ao Orçado",IF(D34>(G34+H34),"Próximo ao Orçado","Passou do Orçado")))))
B35: Outros 2 - | K35: =IF(D35=0,"",(D35-G35-H35)) | M35: =IF((G35+H35)=0,"",IF(D35=0,"",IF((G35+H35)<(D35*80%),"Abaixo do Orçado",IF(D35=(G35+H35),"Igual ao Orçado",IF(D35>(G35+H35),"Próximo ao Orçado","Passou do Orçado")))))
K36: =IF(D36=0,"",(D36-G36-H36)) | M36: =IF((G36+H36)=0,"",IF(D36=0,"",IF((G36+H36)<(D36*80%),"Abaixo do Orçado",IF(D36=(G36+H36),"Igual ao Orçado",IF(D36>(G36+H36),"Próximo ao Orçado","Passou do Orçado")))))
K37: =IF(D37=0,"",(D37-G37-H37)) | M37: =IF((G37+H37)=0,"",IF(D37=0,"",IF((G37+H37)<(D37*80%),"Abaixo do Orçado",IF(D37=(G37+H37),"Igual ao Orçado",IF(D37>(G37+H37),"Próximo ao Orçado","Passou do Orçado")))))
K38: =IF(D38=0,"",(D38-G38-H38)) | M38: =IF((G38+H38)=0,"",IF(D38=0,"",IF((G38+H38)<(D38*80%),"Abaixo do Orçado",IF(D38=(G38+H38),"Igual ao Orçado",IF(D38>(G38+H38),"Próximo ao Orçado","Passou do Orçado")))))
B39: Total Grupo 2: | D39: =SUM(D31:D38) -> 0 | G39: =SUM(G31:G38) -> 0 | H39: =SUM(H31:H38) -> 0 | I39: =G39+H39 -> 0 | K39: =IF(D39=0,"",D39-I39)
B41: 3) Saúde | D41: R$ | E41: Percentual despesa total | G41: =IF(I50=0,"",IF(D50=0,"Preencher coluna Orçamento para melhor funcionamento da Planilha.",IF(I50<(D50*80%),"Sinal Verde - Abaixo do Orçado",IF(D50=I50,"Sinal Amarelo - Igual ao Orçado",IF(D50>I50,"Sinal Amarelo - Próximo ao Orçado","Sinal Vermelho - Passou do Orçado"))))) | I41: Percentual despesa total | K41: R$ | M41: Obs. Individual
B42: Dentista | E42: =IF(D50=0,"",D50/D130) | I42: =IF(I50=0,"",I50/I130) | K42: =IF(D42=0,"",(D42-G42-H42)) | M42: =IF((G42+H42)=0,"",IF(D42=0,"",IF((G42+H42)<(D42*80%),"Abaixo do Orçado",IF(D42=(G42+H42),"Igual ao Orçado",IF(D42>(G42+H42),"Próximo ao Orçado","Passou do Orçado")))))
B43: Farmácia - Medicamentos | K43: =IF(D43=0,"",(D43-G43-H43)) | M43: =IF((G43+H43)=0,"",IF(D43=0,"",IF((G43+H43)<(D43*80%),"Abaixo do Orçado",IF(D43=(G43+H43),"Igual ao Orçado",IF(D43>(G43+H43),"Próximo ao Orçado","Passou do Orçado")))))
B44: Plano de Saúde | K44: =IF(D44=0,"",(D44-G44-H44)) | M44: =IF((G44+H44)=0,"",IF(D44=0,"",IF((G44+H44)<(D44*80%),"Abaixo do Orçado",IF(D44=(G44+H44),"Igual ao Orçado",IF(D44>(G44+H44),"Próximo ao Orçado","Passou do Orçado")))))
...

Sheet Jul
B2: Controle - Junho 2026 Receitas x Despesas | D2: Orçamento | G2: Realizado | K2: Diferença | M2: Observações
B4: Discriminação dos itens | D4: Casal | E4: Total | G4: ='Página Inicial'!C6 -> Nome Esposa | H4: ='Página Inicial'!F6 -> Nome Esposo | I4: Total | K4: Casal | M4: Obs. Individual
B5: Receitas 1 | K5: =IF(D5=0,"",(D5-G5-H5)) | M5: =IF((G5+H5)=0,"",IF(D5=0,"",IF((G5+H5)<(D5*80%),"Abaixo do Orçado",IF(D5=(G5+H5),"Igual ao Orçado",IF(D5>(G5+H5),"Próximo ao Orçado","Passou do Orçado")))))
B6: Receitas 2 | K6: =IF(D6=0,"",(D6-G6-H6)) | M6: =IF((G6+H6)=0,"",IF(D6=0,"",IF((G6+H6)<(D6*80%),"Abaixo do Orçado",IF(D6=(G6+H6),"Igual ao Orçado",IF(D6>(G6+H6),"Próximo ao Orçado","Passou do Orçado")))))
B7: Receitas 3 | K7: =IF(D7=0,"",(D7-G7-H7)) | M7: =IF((G7+H7)=0,"",IF(D7=0,"",IF((G7+H7)<(D7*80%),"Abaixo do Orçado",IF(D7=(G7+H7),"Igual ao Orçado",IF(D7>(G7+H7),"Próximo ao Orçado","Passou do Orçado")))))
K8: =IF(D8=0,"",(D8-G8-H8)) | M8: =IF((G8+H8)=0,"",IF(D8=0,"",IF((G8+H8)<(D8*80%),"Abaixo do Orçado",IF(D8=(G8+H8),"Igual ao Orçado",IF(D8>(G8+H8),"Próximo ao Orçado","Passou do Orçado")))))
K9: =IF(D9=0,"",(D9-G9-H9)) | M9: =IF((G9+H9)=0,"",IF(D9=0,"",IF((G9+H9)<(D9*80%),"Abaixo do Orçado",IF(D9=(G9+H9),"Igual ao Orçado",IF(D9>(G9+H9),"Próximo ao Orçado","Passou do Orçado")))))
B10: ( - ) Impostos retidos / pagos | K10: =IF(D10=0,"",(D10-G10-H10)) | M10: =IF((G10+H10)=0,"",IF(D10=0,"",IF((G10+H10)<(D10*80%),"Abaixo do Orçado",IF(D10=(G10+H10),"Igual ao Orçado",IF(D10>(G10+H10),"Próximo ao Orçado","Passou do Orçado")))))
B11: Total Salários: | D11: =D5+D6+D7+D8+D9-D10 -> 0 | G11: =G5+G6+G7+G8+G9-G10 -> 0 | H11: =H5+H6+H7+H8+H9-H10 -> 0 | I11: =G11+H11 -> 0 | K11: =IF(D11=0,"",D11-I11)
B12: Despesas por Grupo
B13: 1) Habitação | D13: R$ | E13: Percentual despesa total | G13: =IF(I28=0,"",IF(D28=0,"Preencher coluna Orçamento para melhor funcionamento da Planilha.",IF(I28<(D28*80%),"Sinal Verde - Abaixo do Orçado",IF(D28=I28,"Sinal Amarelo - Igual ao Orçado",IF(D28>I28,"Sinal Amarelo - Próximo ao Orçado","Sinal Vermelho - Passou do Orçado"))))) | I13: Percentual despesa total | K13: R$ | M13: Obs. Individual
B14: Água e Esgoto | E14: =IF(D28=0,"",D28/D130) | I14: =IF(I28=0,"",I28/I130) | K14: =IF(D14=0,"",(D14-G14-H14)) | M14: =IF((G14+H14)=0,"",IF(D14=0,"",IF((G14+H14)<(D14*80%),"Abaixo do Orçado",IF(D14=(G14+H14),"Igual ao Orçado",IF(D14>(G14+H14),"Próximo ao Orçado","Passou do Orçado")))))
B15: Condomínio | K15: =IF(D15=0,"",(D15-G15-H15)) | M15: =IF((G15+H15)=0,"",IF(D15=0,"",IF((G15+H15)<(D15*80%),"Abaixo do Orçado",IF(D15=(G15+H15),"Igual ao Orçado",IF(D15>(G15+H15),"Próximo ao Orçado","Passou do Orçado")))))
B16: Diarista / Empregada | K16: =IF(D16=0,"",(D16-G16-H16)) | M16: =IF((G16+H16)=0,"",IF(D16=0,"",IF((G16+H16)<(D16*80%),"Abaixo do Orçado",IF(D16=(G16+H16),"Igual ao Orçado",IF(D16>(G16+H16),"Próximo ao Orçado","Passou do Orçado")))))
B17: Energia Elétrica | K17: =IF(D17=0,"",(D17-G17-H17)) | M17: =IF((G17+H17)=0,"",IF(D17=0,"",IF((G17+H17)<(D17*80%),"Abaixo do Orçado",IF(D17=(G17+H17),"Igual ao Orçado",IF(D17>(G17+H17),"Próximo ao Orçado","Passou do Orçado")))))
B18: IPTU / Outras taxas | K18: =IF(D18=0,"",(D18-G18-H18)) | M18: =IF((G18+H18)=0,"",IF(D18=0,"",IF((G18+H18)<(D18*80%),"Abaixo do Orçado",IF(D18=(G18+H18),"Igual ao Orçado",IF(D18>(G18+H18),"Próximo ao Orçado","Passou do Orçado")))))
B19: Lavagem de Roupas | K19: =IF(D19=0,"",(D19-G19-H19)) | M19: =IF((G19+H19)=0,"",IF(D19=0,"",IF((G19+H19)<(D19*80%),"Abaixo do Orçado",IF(D19=(G19+H19),"Igual ao Orçado",IF(D19>(G19+H19),"Próximo ao Orçado","Passou do Orçado")))))
B20: Manutenção Geral | K20: =IF(D20=0,"",(D20-G20-H20)) | M20: =IF((G20+H20)=0,"",IF(D20=0,"",IF((G20+H20)<(D20*80%),"Abaixo do Orçado",IF(D20=(G20+H20),"Igual ao Orçado",IF(D20>(G20+H20),"Próximo ao Orçado","Passou do Orçado")))))
B21: Prestação Apartamento / Aluguel | K21: =IF(D21=0,"",(D21-G21-H21)) | M21: =IF((G21+H21)=0,"",IF(D21=0,"",IF((G21+H21)<(D21*80%),"Abaixo do Orçado",IF(D21=(G21+H21),"Igual ao Orçado",IF(D21>(G21+H21),"Próximo ao Orçado","Passou do Orçado")))))
