Workbook

Sheet Página Inicial
A1: Controle de Receitas e Despesas
A5: A Planilha de Controle de Receitas e Despesas - Empresarial e Pessoal tem como ideia principal lhe incentivar a ter uma rotina de anotar todos os Controles de uma forma mais simples.
A6: Na mesma planilha tem o Controle da Pessoa Jurídica bem como da Pessoa Física, onde cada retirada feita pelo sócio é só digitar na opção 5 - Retiradas – Sócio, que automaticamente vai para Controle Casa.
A7: Nessa planilha dividimos em alguns Grupos, com intuito maior de você conseguir ver os valores por grupo, não estamos nesse momento preocupados com tipo de despesas diretas, indiretas, custos ou alguma outra denominação. A ideia maior é você criar o hábito de anotar tudo, e ai sim, começar a ter noção dos números, e no futuro conseguir evoluir.
A8: E finalizando, existe várias formas de analisar as números, e a adotada nessa planilha é a forma simples que achamos para lhe demostrar. : )
A9: Boa sorte !!! E #tomadeconta
B12: Controle da Empresa | E12: Fundo Fixo Empresa | H12: Investimentos Empresa
B15: Controle - Pessoal | E15: Fundo Fixo Pessoal | H15: Investimentos Pessoal
F20: www.tomadeconta.com.br

Sheet Instruções
A1: Instruções para utilização da Planilha
A5: Planilha bem simples de utilizar. Basta digitar Dia, Descrição da Receita ou da Despesa e o valor.
A6: e a parte principal digitar C para pagamentos feitos pelo Caixa e B para pagamentos feitos pelo Banco.
A7: Depois é só fazer as devidas análises. Boa Sorte !!!
F12: www.tomadeconta.com.br

Sheet -#-

Sheet Controle Empresa
A1: Planilha de Controle Mensal ( Receitas / Despesas ) - Empresa
A2: Mês: | C2: 46023 | G2: Saldo Inicial Mês - Caixa | K2: 0
G3: Saldo Inicial Mês - Banco | K3: 0
A5: Receitas | E5: Despesas - Grupo 1 | I5: Despesas - Grupo 2
A6: Dia | B6: Descrição | C6: Valor (R$) | D6: .C / B | E6: Dia | F6: Descrição | G6: Valor (R$) | H6: .C / B | I6: Dia | J6: Descrição | K6: Valor (R$) | L6: .C / B
E7: 1 - Despesas Administrativas | I7: 6 - Material de Expediente, Consumo e Limpeza
E8: % | F8: =IF(G8=0,"",G8/I67) | G8: =SUM(G9:G28) -> 0 | H8: T | I8: % | J8: =IF(K8=0,"",K8/I67) | K8: =SUM(K9:K28) -> 0 | L8: T
F9: Aluguel | J9: Material de Expediente | N9: Site do projeto:
F10: Celular Empresa | J10: Recarga Cartucho | N10: www.tomadeconta.com.br
F11: Combustível | J11: Água Mineral
F12: Condomínio | J12: Limpeza Sala
F13: E-mails | J13: Copa e cozinha
F14: Energia | J14: Material Limpeza | N14: Saldo Final - Caixa
F15: Pró-labore | J15: Farmácia
F16: Seguro de Vida | N16: =C68 -> 0
F17: Sistema Financeiro
F18: Telefone + Internet | N18: Saldo Final - Banco
F20: Tarifas Boletos | N20: =C69 -> 0
F21: Tarifas Bancárias
N22: Total:
N23: =N16+N20 -> 0
E29: 2 - Impostos | I29: 7 - Outras despesas
E30: % | F30: =IF(G30=0,"",G30/I67) | G30: =SUM(G31:G36) -> 0 | H30: T | I30: % | J30: =IF(K30=0,"",K30/I67) | K30: =SUM(K31:K36) -> 0 | L30: T
F31: Das - Simples Nacional | H31: B
H32: B
H33: B
H34: B
H35: B
H36: B
E37: 3 - Funcionários / Prestador de Serviços / Encargos | I37: 8 - Manutenção equipamentos / outras
E38: % | F38: =IF(G38=0,"",G38/I67) | G38: =SUM(G39:G51) -> 0 | H38: T | I38: % | J38: =IF(K38=0,"",K38/I67) | K38: =SUM(K39:K51) -> 0 | L38: T
F39: Salários colaboradores
F40: Vale transporte | J40: Conserto Ar Cond
F41: Vale refeição
F42: Plano de Saúde
F43: FGTS
F44: INSS
F45: Rescisões / provisões
F46: Férias / provisões
E52: 4 - Investimentos / Outros | I52: 9 -Pg contas terceiros
...

Sheet Fundo Fixo - Empresa
A1: Controle - Fundo Fixo (Despesas de Pequeno valor) - Empresa
A3: Mês: | C3: ='Controle Empresa'!C2 -> 46023
A5: Data | B5: Discriminação - Entradas Diversas não relacionadas as Receitas | G5: Valor – R$
A6: Diversos | C6: Sacado do Banco para Caixa
A7: Diversos | C7: Transferido do Caixa para o Banco
A8: Diversos | C8: Despesas de Terceiros paga no Caixa
A9: Diversos | C9: Despesas de Terceiros pago no Banco
C10: Ajuda
B11: Caixa
B12: Caixa
B13: Caixa
B14: Banco
B15: Banco
A17: Data | B17: Discriminação - Despesas | G17: Valor – R$
A51: Total Saídas: | G51: =SUM(G18:G50) -> 0

Sheet Formulas
A1: Receitas | E1: Despesas Fixas | I1: Despesas Variáveis
A2: Caixa | C2: =C69 -> 0 | E2: Caixa | G2: =G69 -> 0 | I2: Caixa | K2: =K69 -> 0
A3: Banco | C3: =C131 -> 0 | E3: Banco | G3: =G131 -> 0 | I3: Banco | K3: =K131 -> 0
B5: =ROUND('Controle Empresa'!C70,2) -> 0 | I5: Despesas Total
I6: Caixa | K6: =G2+K2 -> 0
B7: =ROUND('Controle Empresa'!K69,2) -> 0 | I7: Banco | K7: =G3+K3 -> 0
A9: Receita Caixa | E9: Despesas Fixas - Caixa | I9: Despesas Variáveis - Caixa
C10: =IF('Controle Empresa'!D7="c",'Controle Empresa'!C7,"0") -> 0 | G10: Sem numeros | K10: Sem numeros
C11: =IF('Controle Empresa'!D8="c",'Controle Empresa'!C8,"0") -> 0 | G11: Sem numeros | K11: Sem numeros
C12: =IF('Controle Empresa'!D9="c",'Controle Empresa'!C9,"0") -> 0 | G12: =IF('Controle Empresa'!H9="c",'Controle Empresa'!G9,"0") -> 0 | K12: =IF('Controle Empresa'!L9="c",'Controle Empresa'!K9,"0") -> 0
C13: =IF('Controle Empresa'!D10="c",'Controle Empresa'!C10,"0") -> 0 | G13: =IF('Controle Empresa'!H10="c",'Controle Empresa'!G10,"0") -> 0 | K13: =IF('Controle Empresa'!L10="c",'Controle Empresa'!K10,"0") -> 0
C14: =IF('Controle Empresa'!D11="c",'Controle Empresa'!C11,"0") -> 0 | G14: =IF('Controle Empresa'!H11="c",'Controle Empresa'!G11,"0") -> 0 | K14: =IF('Controle Empresa'!L11="c",'Controle Empresa'!K11,"0") -> 0
C15: =IF('Controle Empresa'!D12="c",'Controle Empresa'!C12,"0") -> 0 | G15: =IF('Controle Empresa'!H12="c",'Controle Empresa'!G12,"0") -> 0 | K15: =IF('Controle Empresa'!L12="c",'Controle Empresa'!K12,"0") -> 0
C16: =IF('Controle Empresa'!D13="c",'Controle Empresa'!C13,"0") -> 0 | G16: =IF('Controle Empresa'!H13="c",'Controle Empresa'!G13,"0") -> 0 | K16: =IF('Controle Empresa'!L13="c",'Controle Empresa'!K13,"0") -> 0
C17: =IF('Controle Empresa'!D14="c",'Controle Empresa'!C14,"0") -> 0 | G17: =IF('Controle Empresa'!H14="c",'Controle Empresa'!G14,"0") -> 0 | K17: =IF('Controle Empresa'!L14="c",'Controle Empresa'!K14,"0") -> 0
C18: =IF('Controle Empresa'!D15="c",'Controle Empresa'!C15,"0") -> 0 | G18: =IF('Controle Empresa'!H15="c",'Controle Empresa'!G15,"0") -> 0 | K18: =IF('Controle Empresa'!L15="c",'Controle Empresa'!K15,"0") -> 0
C19: =IF('Controle Empresa'!D16="c",'Controle Empresa'!C16,"0") -> 0 | G19: =IF('Controle Empresa'!H16="c",'Controle Empresa'!G16,"0") -> 0 | K19: =IF('Controle Empresa'!L16="c",'Controle Empresa'!K16,"0") -> 0
C20: =IF('Controle Empresa'!D17="c",'Controle Empresa'!C17,"0") -> 0 | G20: =IF('Controle Empresa'!H17="c",'Controle Empresa'!G17,"0") -> 0 | K20: =IF('Controle Empresa'!L17="c",'Controle Empresa'!K17,"0") -> 0
C21: =IF('Controle Empresa'!D18="c",'Controle Empresa'!C18,"0") -> 0 | G21: =IF('Controle Empresa'!H18="c",'Controle Empresa'!G18,"0") -> 0 | K21: =IF('Controle Empresa'!L18="c",'Controle Empresa'!K18,"0") -> 0
C22: =IF('Controle Empresa'!D19="c",'Controle Empresa'!C19,"0") -> 0 | G22: =IF('Controle Empresa'!H19="c",'Controle Empresa'!G19,"0") -> 0 | K22: =IF('Controle Empresa'!L19="c",'Controle Empresa'!K19,"0") -> 0
C23: =IF('Controle Empresa'!D20="c",'Controle Empresa'!C20,"0") -> 0 | G23: =IF('Controle Empresa'!H20="c",'Controle Empresa'!G20,"0") -> 0 | K23: =IF('Controle Empresa'!L20="c",'Controle Empresa'!K20,"0") -> 0
... C31: =IF('Controle Empresa'!D28="c",'Controle Empresa'!C28,"0") -> 0 | G31: =IF('Controle Empresa'!H28="c",'Controle Empresa'!G28,"0") -> 0 | K31: =IF('Controle Empresa'!L28="c",'Controle Empresa'!K28,"0") -> 0
C32: =IF('Controle Empresa'!D29="c",'Controle Empresa'!C29,"0") -> 0 | G32: Sem numeros | K32: Sem numeros
C33: =IF('Controle Empresa'!D30="c",'Controle Empresa'!C30,"0") -> 0 | G33: Sem numeros | K33: Sem numeros
C34: =IF('Controle Empresa'!D31="c",'Controle Empresa'!C31,"0") -> 0 | G34: =IF('Controle Empresa'!H31="c",'Controle Empresa'!G31,"0") -> 0 | K34: =IF('Controle Empresa'!L31="c",'Controle Empresa'!K31,"0") -> 0
C35: =IF('Controle Empresa'!D32="c",'Controle Empresa'!C32,"0") -> 0 | G35: =IF('Controle Empresa'!H32="c",'Controle Empresa'!G32,"0") -> 0 | K35: =IF('Controle Empresa'!L32="c",'Controle Empresa'!K32,"0") -> 0
C36: =IF('Controle Empresa'!D33="c",'Controle Empresa'!C33,"0") -> 0 | G36: =IF('Controle Empresa'!H33="c",'Controle Empresa'!G33,"0") -> 0 | K36: =IF('Controle Empresa'!L33="c",'Controle Empresa'!K33,"0") -> 0
C37: =IF('Controle Empresa'!D34="c",'Controle Empresa'!C34,"0") -> 0 | G37: =IF('Controle Empresa'!H34="c",'Controle Empresa'!G34,"0") -> 0 | K37: =IF('Controle Empresa'!L34="c",'Controle Empresa'!K34,"0") -> 0
C38: =IF('Controle Empresa'!D35="c",'Controle Empresa'!C35,"0") -> 0 | G38: =IF('Controle Empresa'!H35="c",'Controle Empresa'!G35,"0") -> 0 | K38: =IF('Controle Empresa'!L35="c",'Controle Empresa'!K35,"0") -> 0
C39: =IF('Controle Empresa'!D36="c",'Controle Empresa'!C36,"0") -> 0 | G39: =IF('Controle Empresa'!H36="c",'Controle Empresa'!G36,"0") -> 0 | K39: =IF('Controle Empresa'!L36="c",'Controle Empresa'!K36,"0") -> 0
C40: =IF('Controle Empresa'!D37="c",'Controle Empresa'!C37,"0") -> 0 | G40: Sem numeros | K40: Sem numeros
C41: =IF('Controle Empresa'!D38="c",'Controle Empresa'!C38,"0") -> 0 | G41: Sem numeros | K41: Sem numeros
C42: =IF('Controle Empresa'!D39="c",'Controle Empresa'!C39,"0") -> 0 | G42: =IF('Controle Empresa'!H39="c",'Controle Empresa'!G39,"0") -> 0 | K42: =IF('Controle Empresa'!L39="c",'Controle Empresa'!K39,"0") -> 0
C43: =IF('Controle Empresa'!D40="c",'Controle Empresa'!C40,"0") -> 0 | G43: =IF('Controle Empresa'!H40="c",'Controle Empresa'!G40,"0") -> 0 | K43: =IF('Controle Empresa'!L40="c",'Controle Empresa'!K40,"0") -> 0
C44: =IF('Controle Empresa'!D41="c",'Controle Empresa'!C41,"0") -> 0 | G44: =IF('Controle Empresa'!H41="c",'Controle Empresa'!G41,"0") -> 0 | K44: =IF('Controle Empresa'!L41="c",'Controle Empresa'!K41,"0") -> 0
C45: =IF('Controle Empresa'!D42="c",'Controle Empresa'!C42,"0") -> 0 | G45: =IF('Controle Empresa'!H42="c",'Controle Empresa'!G42,"0") -> 0 | K45: =IF('Controle Empresa'!L42="c",'Controle Empresa'!K42,"0") -> 0
C46: =IF('Controle Empresa'!D43="c",'Controle Empresa'!C43,"0") -> 0 | G46: =IF('Controle Empresa'!H43="c",'Controle Empresa'!G43,"0") -> 0 | K46: =IF('Controle Empresa'!L43="c",'Controle Empresa'!K43,"0") -> 0
C47: =IF('Controle Empresa'!D44="c",'Controle Empresa'!C44,"0") -> 0 | G47: =IF('Controle Empresa'!H44="c",'Controle Empresa'!G44,"0") -> 0 | K47: =IF('Controle Empresa'!L44="c",'Controle Empresa'!K44,"0") -> 0
C48: =IF('Controle Empresa'!D45="c",'Controle Empresa'!C45,"0") -> 0 | G48: =IF('Controle Empresa'!H45="c",'Controle Empresa'!G45,"0") -> 0 | K48: =IF('Controle Empresa'!L45="c",'Controle Empresa'!K45,"0") -> 0
C49: =IF('Controle Empresa'!D46="c",'Controle Empresa'!C46,"0") -> 0 | G49: =IF('Controle Empresa'!H46="c",'Controle Empresa'!G46,"0") -> 0 | K49: =IF('Controle Empresa'!L46="c",'Controle Empresa'!K46,"0") -> 0
...

Sheet Investimentos Empresa
A1: Planilha de Controle Mensal - Investimentos - Empresa
A2: Saldo Inicial Mês | J2: 0
A3: Mês: | C3: 46023
A4: Controle Saldo Banco
A5: Nome dos investimentos | G5: Acumulado | H5: =C3 -> 46023 | J5: Saldo a transferir
A6: Investimento Nubank | J6: =G6+H6 -> 0
A7: Dinheiro escondido | J7: =G7+H7 -> 0
J8: =G8+H8 -> 0
J9: =G9+H9 -> 0
J10: =G10+H10 -> 0
A11: Total 01 | G11: =SUM(G6:G10) -> 0 | H11: =SUM(H6:H10) -> 0 | J11: =SUM(J6:K10) -> 0

Sheet --#--

Sheet Controle - Pessoal
A1: Planilha de Controle Mensal ( Receitas / Despesas ) - Pessoal
A2: Mês: | C2: ='Controle Empresa'!C2:F3 -> 46023 | G2: Saldo Inicial Mês - Caixa | K2: 0 | U2: 2000
G3: Saldo Inicial Mês - Banco | K3: 0 | U3: 1500
A5: Receitas | E5: Despesas - Grupo 1 | I5: Despesas - Grupo 2 | U5: =5585.07-3500 -> 2085.07
A6: Dia | B6: Descrição | C6: Valor (R$) | D6: .C / B | E6: Dia | F6: Descrição | G6: Valor (R$) | H6: .C / B | I6: Dia | J6: Descrição | K6: Valor (R$) | L6: .C / B
A7: D | B7: Recebimento Dinheiro | C7: ='Controle Empresa'!G64 -> 0 | D7: C | E7: 1) Habitação = | I7: 5) Despesas pessoais =
W8: =IF(U9<5000,"Dentro do limite - R$ 5.585,07",IF(U9<5585.07,"Cuidado - proximo ao Limite",IF(U9=5585.07,"Limite do Orçado - R$ 5.585,07","Passou do LIMITE - BUMMM"))) -> Limite do Orçado - R$ 5.585,07
A9: D | B9: Recebimento Banco | C9: ='Controle Empresa'!G65 -> 0 | D9: B | E9: % | F9: =IF(G9=0,"",G9/I62) | G9: =SUM(G10:G21) -> 0 | H9: T | I9: % | J9: =IF(K9=0,"",K9/I62) | K9: =SUM(K10:K21) -> 0 | L9: T | N9: Site do projeto: | U9: =SUM(U2:U7) -> 5585.07
F10: Condomínio | J10: Academia / Esporte | N10: www.tomadeconta.com.br
F11: Aluguel | J11: Salão de Beleza
F12: Energia Elétrica | J12: Vestuário
F13: FGTS / INSS (Esocial) | W13: =IF(Y14<5000,"Dentro do limite - R$ 5.585,07",IF(Y14<5585.07,"Cuidado - proximo ao Limite",IF(Y14=5585.07,"Limite do Orçado - R$ 5.585,07","Passou do LIMITE - BUMMM"))) -> Dentro do limite - R$ 5.585,07
F14: Internet
F15: IPTU / Outras taxas - | N15: Saldo Final - Caixa
F16: Manutenção Geral
F17: TV Assinatura | N17: =C63 -> 0
F18: Salário
F19: 13 Salário | N19: Saldo Final - Banco
F20: VT Sindioninus
N21: =C64 -> 0
E22: 2) Alimentação = | I22: 6) Educação =
N23: Total:
E24: % | F24: =IF(G24=0,"",G24/I62) | G24: =SUM(G25:G32) -> 0 | H24: T | I24: % | J24: =IF(K24=0,"",K24/I62) | K24: =SUM(K25:K32) -> 0 | L24: T | N24: =N17+N21 -> 0
F25: Refeiç - Almoço | J25: Colégio
F26: Refeiç - Jantar | J26: Faculdade
F27: Superm - Dia a dia | J27: Inglês
F28: Superm - Mensal
F29: Carnes peixes frango
F30: Merenda / Outros
F31: Diversos Caixinha
E33: 3) Saúde = | I33: 7) Lazer =
E35: % | F35: =IF(G35=0,"",G35/I62) | G35: =SUM(G36:G41) -> 0 | H35: T | I35: % | J35: =IF(K35=0,"",K35/I62) | K35: =SUM(K36:K41) -> 0 | L35: T
F36: Dentista | J36: Lazer
F37: Farmácia | J37: Restaur. / Bares -
F38: Plano de Saúde | J38: Viagens (Hosped, etc)
E42: 4) Transporte = | I42: 8) Desp Variaveis / Outros
E44: % | F44: =IF(G44=0,"",G44/I62) | G44: =SUM(G45:G60) -> 0 | I44: % | J44: =IF(K44=0,"",K44/I62) | K44: =SUM(K45:K49) -> 0 | L44: T
F45: Estacionamento - | J45: Presentes
F46: IPVA + Seg Obrigatório | J46: Tarifas Bancárias
F47: Lavagens
...

Sheet Fundo Fixo - Pessoal
A1: Controle - Fundo Fixo (Despesas de Pequeno valor) - Pessoal
A3: Mês: | C3: ='Controle - Pessoal'!C2 -> 46023
A5: Data | B5: Discriminação - Entradas Diversas não relacionadas as Receitas | G5: Valor – R$
A6: Diversos | C6: Sacado do Banco para Caixa | G6: 0
A7: Diversos | C7: Transferido do Caixa para o Banco
A8: Diversos | C8: Despesas de Terceiros paga no Caixa
A9: Diversos | C9: Despesas de Terceiros pago no Banco
C10: Ajuda
B11: Caixa
B12: Caixa
B13: Caixa
B14: Banco
B15: Banco
A17: Data | B17: Discriminação - Despesas | G17: Valor – R$
A54: Total Saídas: | G54: =SUM(G18:G53) -> 0

Sheet (Formulas - Casa)
A1: Receitas | E1: Despesas Fixas | I1: Despesas Variáveis
A2: Caixa | C2: =C66 -> 0 | E2: Caixa | G2: =G66 -> 0 | I2: Caixa | K2: =K66 -> 0
A3: Banco | C3: =C126 -> 0 | E3: Banco | G3: =G126 -> 0 | I3: Banco | K3: =K126 -> 0
B5: =ROUND('Controle - Pessoal'!C65,2) -> 0 | I5: Despesas Total
I6: Caixa | K6: =G2+K2 -> 0
B7: =ROUND('Controle - Pessoal'!K64,2) -> 0 | I7: Banco | K7: =G3+K3 -> 0
A9: Receita Caixa | E9: Despesas Fixas - Caixa | I9: Despesas Variáveis - Caixa
C10: =IF('Controle - Pessoal'!D5="c",'Controle - Pessoal'!C5,"0") -> 0 | G10: Sem numeros | K10: Sem numeros
C11: =IF('Controle - Pessoal'!D6="c",'Controle - Pessoal'!C6,"0") -> 0 | G11: Sem numeros | K11: Sem numeros
C12: =IF('Controle - Pessoal'!D7="c",'Controle - Pessoal'!C7,"0") -> 0 | G12: Sem numeros | K12: Sem numeros
C13: =IF('Controle - Pessoal'!D8="c",'Controle - Pessoal'!C8,"0") -> 0 | G13: =IF('Controle - Pessoal'!H10="c",'Controle - Pessoal'!G10,"0") -> 0 | K13: =IF('Controle - Pessoal'!L10="c",'Controle - Pessoal'!K10,"0") -> 0
C14: =IF('Controle - Pessoal'!D9="c",'Controle - Pessoal'!C9,"0") -> 0 | G14: =IF('Controle - Pessoal'!H11="c",'Controle - Pessoal'!G11,"0") -> 0 | K14: =IF('Controle - Pessoal'!L11="c",'Controle - Pessoal'!K11,"0") -> 0
C15: =IF('Controle - Pessoal'!D10="c",'Controle - Pessoal'!C10,"0") -> 0 | G15: =IF('Controle - Pessoal'!H12="c",'Controle - Pessoal'!G12,"0") -> 0 | K15: =IF('Controle - Pessoal'!L12="c",'Controle - Pessoal'!K12,"0") -> 0
C16: =IF('Controle - Pessoal'!D11="c",'Controle - Pessoal'!C11,"0") -> 0 | G16: =IF('Controle - Pessoal'!H13="c",'Controle - Pessoal'!G13,"0") -> 0 | K16: =IF('Controle - Pessoal'!L13="c",'Controle - Pessoal'!K13,"0") -> 0
C17: =IF('Controle - Pessoal'!D12="c",'Controle - Pessoal'!C12,"0") -> 0 | G17: =IF('Controle - Pessoal'!H14="c",'Controle - Pessoal'!G14,"0") -> 0 | K17: =IF('Controle - Pessoal'!L14="c",'Controle - Pessoal'!K14,"0") -> 0
C18: =IF('Controle - Pessoal'!D13="c",'Controle - Pessoal'!C13,"0") -> 0 | G18: =IF('Controle - Pessoal'!H15="c",'Controle - Pessoal'!G15,"0") -> 0 | K18: =IF('Controle - Pessoal'!L15="c",'Controle - Pessoal'!K15,"0") -> 0
C19: =IF('Controle - Pessoal'!D14="c",'Controle - Pessoal'!C14,"0") -> 0 | G19: =IF('Controle - Pessoal'!H16="c",'Controle - Pessoal'!G16,"0") -> 0 | K19: =IF('Controle - Pessoal'!L16="c",'Controle - Pessoal'!K16,"0") -> 0
C20: =IF('Controle - Pessoal'!D15="c",'Controle - Pessoal'!C15,"0") -> 0 | G20: =IF('Controle - Pessoal'!H17="c",'Controle - Pessoal'!G17,"0") -> 0 | K20: =IF('Controle - Pessoal'!L17="c",'Controle - Pessoal'!K17,"0") -> 0
C21: =IF('Controle - Pessoal'!D16="c",'Controle - Pessoal'!C16,"0") -> 0 | G21: =IF('Controle - Pessoal'!H18="c",'Controle - Pessoal'!G18,"0") -> 0 | K21: =IF('Controle - Pessoal'!L18="c",'Controle - Pessoal'!K18,"0") -> 0
C22: =IF('Controle - Pessoal'!D17="c",'Controle - Pessoal'!C17,"0") -> 0 | G22: =IF('Controle - Pessoal'!H19="c",'Controle - Pessoal'!G19,"0") -> 0 | K22: =IF('Controle - Pessoal'!L19="c",'Controle - Pessoal'!K19,"0") -> 0
C23: =IF('Controle - Pessoal'!D18="c",'Controle - Pessoal'!C18,"0") -> 0 | G23: =IF('Controle - Pessoal'!H20="c",'Controle - Pessoal'!G20,"0") -> 0 | K23: =IF('Controle - Pessoal'!L20="c",'Controle - Pessoal'!K20,"0") -> 0
C24: =IF('Controle - Pessoal'!D19="c",'Controle - Pessoal'!C19,"0") -> 0 | G24: =IF('Controle - Pessoal'!H21="c",'Controle - Pessoal'!G21,"0") -> 0 | K24: =IF('Controle - Pessoal'!L21="c",'Controle - Pessoal'!K21,"0") -> 0
C25: =IF('Controle - Pessoal'!D20="c",'Controle - Pessoal'!C20,"0") -> 0 | G25: Sem numeros | K25: Sem numeros
C26: =IF('Controle - Pessoal'!D21="c",'Controle - Pessoal'!C21,"0") -> 0 | G26: Sem numeros | K26: Sem numeros
C27: =IF('Controle - Pessoal'!D22="c",'Controle - Pessoal'!C22,"0") -> 0 | G27: Sem numeros | K27: Sem numeros
C28: =IF('Controle - Pessoal'!D23="c",'Controle - Pessoal'!C23,"0") -> 0 | G28: =IF('Controle - Pessoal'!H25="c",'Controle - Pessoal'!G25,"0") -> 0 | K28: =IF('Controle - Pessoal'!L25="c",'Controle - Pessoal'!K25,"0") -> 0
C29: =IF('Controle - Pessoal'!D24="c",'Controle - Pessoal'!C24,"0") -> 0 | G29: =IF('Controle - Pessoal'!H26="c",'Controle - Pessoal'!G26,"0") -> 0 | K29: =IF('Controle - Pessoal'!L26="c",'Controle - Pessoal'!K26,"0") -> 0
C30: =IF('Controle - Pessoal'!D25="c",'Controle - Pessoal'!C25,"0") -> 0 | G30: =IF('Controle - Pessoal'!H27="c",'Controle - Pessoal'!G27,"0") -> 0 | K30: =IF('Controle - Pessoal'!L27="c",'Controle - Pessoal'!K27,"0") -> 0
C31: =IF('Controle - Pessoal'!D26="c",'Controle - Pessoal'!C26,"0") -> 0 | G31: =IF('Controle - Pessoal'!H28="c",'Controle - Pessoal'!G28,"0") -> 0 | K31: =IF('Controle - Pessoal'!L28="c",'Controle - Pessoal'!K28,"0") -> 0
C32: =IF('Controle - Pessoal'!D27="c",'Controle - Pessoal'!C27,"0") -> 0 | G32: =IF('Controle - Pessoal'!H29="c",'Controle - Pessoal'!G29,"0") -> 0 | K32: =IF('Controle - Pessoal'!L29="c",'Controle - Pessoal'!K29,"0") -> 0
C33: =IF('Controle - Pessoal'!D28="c",'Controle - Pessoal'!C28,"0") -> 0 | G33: =IF('Controle - Pessoal'!H30="c",'Controle - Pessoal'!G30,"0") -> 0 | K33: =IF('Controle - Pessoal'!L30="c",'Controle - Pessoal'!K30,"0") -> 0
C34: =IF('Controle - Pessoal'!D29="c",'Controle - Pessoal'!C29,"0") -> 0 | G34: =IF('Controle - Pessoal'!H31="c",'Controle - Pessoal'!G31,"0") -> 0 | K34: =IF('Controle - Pessoal'!L31="c",'Controle - Pessoal'!K31,"0") -> 0
C35: =IF('Controle - Pessoal'!D30="c",'Controle - Pessoal'!C30,"0") -> 0 | G35: =IF('Controle - Pessoal'!H32="c",'Controle - Pessoal'!G32,"0") -> 0 | K35: =IF('Controle - Pessoal'!L32="c",'Controle - Pessoal'!K32,"0") -> 0
C36: =IF('Controle - Pessoal'!D31="c",'Controle - Pessoal'!C31,"0") -> 0 | G36: Sem numeros | K36: Sem numeros
C37: =IF('Controle - Pessoal'!D32="c",'Controle - Pessoal'!C32,"0") -> 0 | G37: Sem numeros | K37: Sem numeros
C38: =IF('Controle - Pessoal'!D33="c",'Controle - Pessoal'!C33,"0") -> 0 | G38: Sem numeros | K38: Sem numeros
C39: =IF('Controle - Pessoal'!D34="c",'Controle - Pessoal'!C34,"0") -> 0 | G39: =IF('Controle - Pessoal'!H36="c",'Controle - Pessoal'!G36,"0") -> 0 | K39: =IF('Controle - Pessoal'!L36="c",'Controle - Pessoal'!K36,"0") -> 0
C40: =IF('Controle - Pessoal'!D35="c",'Controle - Pessoal'!C35,"0") -> 0 | G40: =IF('Controle - Pessoal'!H37="c",'Controle - Pessoal'!G37,"0") -> 0 | K40: =IF('Controle - Pessoal'!L37="c",'Controle - Pessoal'!K37,"0") -> 0
C41: =IF('Controle - Pessoal'!D36="c",'Controle - Pessoal'!C36,"0") -> 0 | G41: =IF('Controle - Pessoal'!H38="c",'Controle - Pessoal'!G38,"0") -> 0 | K41: =IF('Controle - Pessoal'!L38="c",'Controle - Pessoal'!K38,"0") -> 0
C42: =IF('Controle - Pessoal'!D37="c",'Controle - Pessoal'!C37,"0") -> 0 | G42: =IF('Controle - Pessoal'!H39="c",'Controle - Pessoal'!G39,"0") -> 0 | K42: =IF('Controle - Pessoal'!L39="c",'Controle - Pessoal'!K39,"0") -> 0
...

Sheet Investimentos Pessoal
A1: Planilha de Controle Mensal - Investimentos - Pessoal
A2: Saldo Inicial Mês | J2: 0
A3: Mês: | C3: Janeiro/2025
A4: Controle Saldo Banco
A5: Nome dos investimentos | G5: Acumulado | H5: =C3 -> Janeiro/2025 | J5: Saldo a transferir
A6: Investimento Nubank | J6: =G6+H6 -> 0
A7: Dinheiro debaixo do cochão | J7: =G7+H7 -> 0
J8: =G8+H8 -> 0
J9: =G9+H9 -> 0
J10: =G10+H10 -> 0
A11: Total 01 | G11: =SUM(G6:G10) -> 0 | H11: =SUM(H6:H10) -> 0 | J11: =SUM(J6:K10) -> 0
