Workbook
Name Gráficos_Comparativos: 'Página Inicial'!$F$26

Sheet Página Inicial
A6: Caro usuário, | C6: Nome Esposa | E6: e | F6: Nome Esposo
A8: Essa planilha foi feita para ajudar no Controle Financeiro do Casal.
A9: Ficaremos gratos pela sua ajuda com sugestões e comentários
A10: através do e-mail Instagram @tomadeconta_
A12: Para um melhor controle e planejamento, a planilha está divida por meses e as despesas
A13: em grupos, visualizando assim o percentual desse custo em relação à despesa total.
A14: Observe também, a planilha com o comparativo entre todos os meses do Ano.
A15: Clique abaixo no mês que quiser alimentar e Toma de Conta do seu Controle.
B18: Janeiro | D18: Fevereiro | F18: Março | H18: Abril
B20: Maio | D20: Junho | F20: Julho | H20: Agosto
B22: Setembro | D22: Outubro | F22: Novembro | H22: Dezembro
B24: Comparativo Janeiro a Dezembro
F26: Gráficos Comparativos

Sheet Jan - Fev
B2: Controle Financeiro Casal 2026 Receitas x Despesas | D2: Janeiro | H2: Fevereiro
B4: Discriminação dos itens | D4: ='Página Inicial'!C6 -> Nome Esposa | E4: ='Página Inicial'!F6 -> Nome Esposo | F4: Total | H4: =D4 -> Nome Esposa | I4: =E4 -> Nome Esposo | J4: Total
B5: Receitas 1
B6: Receitas 2
B7: Receitas 3
B10: ( - ) Impostos retidos / pagos
B11: Total Salários: | D11: =D5+D6+D7+D8+D9-D10 -> 0 | E11: =E5+E6+E7+E8+E9-E10 -> 0 | F11: =D11+E11 -> 0 | H11: =H5+H6+H7+H8+H9-H10 -> 0 | I11: =I5+I6+I7+I8+I9-I10 -> 0 | J11: =H11+I11 -> 0
B12: Despesas por Grupo
B13: 1) Habitação | D13: Despesas - R$ | F13: Percentual despesa total | H13: Despesas - R$ | J13: Percentual despesa total
B14: Água e Esgoto | F14: =IF(F28=0,"",F28/F130) | J14: =IF(J28=0,"",J28/J130)
B15: Condomínio
B16: Diarista / Empregada
B17: Energia Elétrica
B18: IPTU / Outras taxas
B19: Lavagem de Roupas
B20: Manutenção Geral
B21: Prestação Apartamento / Aluguel
B22: Telefone Fixo / Internet
B23: Outros 1 -
B24: Outros 2 -
B28: Total Grupo 1: | D28: =SUM(D14:D27) -> 0 | E28: =SUM(E14:E27) -> 0 | F28: =D28+E28 -> 0 | H28: =SUM(H14:H27) -> 0 | I28: =SUM(I14:I27) -> 0 | J28: =H28+I28 -> 0
B30: 2) Alimentação | D30: Despesas - R$ | F30: Percentual despesa total | H30: Despesas - R$ | J30: Percentual despesa total
B31: Refeições diárias (Almoço / Jantar, Etc) | F31: =IF(F39=0,"",F39/F130) | J31: =IF(J39=0,"",J39/J130)
B32: Supermercado - Mensal
B33: Supermercado / Padaria - Dia a dia
B34: Outros 1 -
B35: Outros 2 -
B39: Total Grupo 2: | D39: =SUM(D31:D38) -> 0 | E39: =SUM(E31:E38) -> 0 | F39: =D39+E39 -> 0 | H39: =SUM(H31:H38) -> 0 | I39: =SUM(I31:I38) -> 0 | J39: =H39+I39 -> 0
B41: 3) Saúde | D41: Despesas - R$ | F41: Percentual despesa total | H41: Despesas - R$ | J41: Percentual despesa total
B42: Dentista | F42: =IF(F50=0,"",F50/F130) | J42: =IF(J50=0,"",J50/J130)
B43: Farmácia - Medicamentos
B44: Plano de Saúde
B45: Outros 1 -
B46: Outros 2 -
B50: Total Grupo 3: | D50: =SUM(D42:D49) -> 0 | E50: =SUM(E42:E49) -> 0 | F50: =D50+E50 -> 0 | H50: =SUM(H42:H49) -> 0 | I50: =SUM(I42:I49) -> 0 | J50: =H50+I50 -> 0
B52: 4) Educação | D52: Despesas - R$ | F52: Percentual despesa total | H52: Despesas - R$ | J52: Percentual despesa total
B53: Colégio / Creche | F53: =IF(F62=0,"",F62/F130) | J53: =IF(J62=0,"",J62/J130)
B54: Cursos / Treinamentos
B55: Faculdade
B56: Pós-graduação
...

Sheet Mar - Abr
B2: Controle Financeiro Casal 2026 Receitas x Despesas | D2: Março | H2: Abril
B4: Discriminação dos itens | D4: ='Página Inicial'!C6 -> Nome Esposa | E4: ='Página Inicial'!F6 -> Nome Esposo | F4: Total | H4: =D4 -> Nome Esposa | I4: =E4 -> Nome Esposo | J4: Total
B5: Receitas 1
B6: Receitas 2
B7: Receitas 3
B10: ( - ) Impostos retidos / pagos
B11: Total Salários: | D11: =D5+D6+D7+D8+D9-D10 -> 0 | E11: =E5+E6+E7+E8+E9-E10 -> 0 | F11: =D11+E11 -> 0 | H11: =H5+H6+H7+H8+H9-H10 -> 0 | I11: =I5+I6+I7+I8+I9-I10 -> 0 | J11: =H11+I11 -> 0
B12: Despesas por Grupo
B13: 1) Habitação | D13: Despesas - R$ | F13: Percentual despesa total | H13: Despesas - R$ | J13: Percentual despesa total
B14: Água e Esgoto | F14: =IF(F28=0,"",F28/F130) | J14: =IF(J28=0,"",J28/J130)
B15: Condomínio
B16: Diarista / Empregada
B17: Energia Elétrica
B18: IPTU / Outras taxas
B19: Lavagem de Roupas
B20: Manutenção Geral
B21: Prestação Apartamento / Aluguel
B22: Telefone Fixo / Internet
B23: Outros 1 -
B24: Outros 2 -
B28: Total Grupo 1: | D28: =SUM(D14:D27) -> 0 | E28: =SUM(E14:E27) -> 0 | F28: =D28+E28 -> 0 | H28: =SUM(H14:H27) -> 0 | I28: =SUM(I14:I27) -> 0 | J28: =H28+I28 -> 0
B30: 2) Alimentação | D30: Despesas - R$ | F30: Percentual despesa total | H30: Despesas - R$ | J30: Percentual despesa total
B31: Refeições diárias (Almoço / Jantar, Etc) | F31: =IF(F39=0,"",F39/F130) | J31: =IF(J39=0,"",J39/J130)
B32: Supermercado - Mensal
B33: Supermercado / Padaria - Dia a dia
B34: Outros 1 -
B35: Outros 2 -
B39: Total Grupo 2: | D39: =SUM(D31:D38) -> 0 | E39: =SUM(E31:E38) -> 0 | F39: =D39+E39 -> 0 | H39: =SUM(H31:H38) -> 0 | I39: =SUM(I31:I38) -> 0 | J39: =H39+I39 -> 0
B41: 3) Saúde | D41: Despesas - R$ | F41: Percentual despesa total | H41: Despesas - R$ | J41: Percentual despesa total
B42: Dentista | F42: =IF(F50=0,"",F50/F130) | J42: =IF(J50=0,"",J50/J130)
B43: Farmácia - Medicamentos
B44: Plano de Saúde
B45: Outros 1 -
B46: Outros 2 -
B50: Total Grupo 3: | D50: =SUM(D42:D49) -> 0 | E50: =SUM(E42:E49) -> 0 | F50: =D50+E50 -> 0 | H50: =SUM(H42:H49) -> 0 | I50: =SUM(I42:I49) -> 0 | J50: =H50+I50 -> 0
B52: 4) Educação | D52: Despesas - R$ | F52: Percentual despesa total | H52: Despesas - R$ | J52: Percentual despesa total
B53: Colégio / Creche | F53: =IF(F62=0,"",F62/F130) | J53: =IF(J62=0,"",J62/J130)
B54: Cursos / Treinamentos
B55: Faculdade
B56: Pós-graduação
...

Sheet Mai - Jun
B2: Controle Financeiro Casal 2026 Receitas x Despesas | D2: Maio | H2: Junho
B4: Discriminação dos itens | D4: ='Página Inicial'!C6 -> Nome Esposa | E4: ='Página Inicial'!F6 -> Nome Esposo | F4: Total | H4: =D4 -> Nome Esposa | I4: =E4 -> Nome Esposo | J4: Total
B5: Receitas 1
B6: Receitas 2
B7: Receitas 3
B10: ( - ) Impostos retidos / pagos
B11: Total Salários: | D11: =D5+D6+D7+D8+D9-D10 -> 0 | E11: =E5+E6+E7+E8+E9-E10 -> 0 | F11: =D11+E11 -> 0 | H11: =H5+H6+H7+H8+H9-H10 -> 0 | I11: =I5+I6+I7+I8+I9-I10 -> 0 | J11: =H11+I11 -> 0
B12: Despesas por Grupo
B13: 1) Habitação | D13: Despesas - R$ | F13: Percentual despesa total | H13: Despesas - R$ | J13: Percentual despesa total
B14: Água e Esgoto | F14: =IF(F28=0,"",F28/F130) | J14: =IF(J28=0,"",J28/J130)
B15: Condomínio
B16: Diarista / Empregada
B17: Energia Elétrica
B18: IPTU / Outras taxas
B19: Lavagem de Roupas
B20: Manutenção Geral
B21: Prestação Apartamento / Aluguel
B22: Telefone Fixo / Internet
B23: Outros 1 -
B24: Outros 2 -
B28: Total Grupo 1: | D28: =SUM(D14:D27) -> 0 | E28: =SUM(E14:E27) -> 0 | F28: =D28+E28 -> 0 | H28: =SUM(H14:H27) -> 0 | I28: =SUM(I14:I27) -> 0 | J28: =H28+I28 -> 0
B30: 2) Alimentação | D30: Despesas - R$ | F30: Percentual despesa total | H30: Despesas - R$ | J30: Percentual despesa total
B31: Refeições diárias (Almoço / Jantar, Etc) | F31: =IF(F39=0,"",F39/F130) | J31: =IF(J39=0,"",J39/J130)
B32: Supermercado - Mensal
B33: Supermercado / Padaria - Dia a dia
B34: Outros 1 -
B35: Outros 2 -
B39: Total Grupo 2: | D39: =SUM(D31:D38) -> 0 | E39: =SUM(E31:E38) -> 0 | F39: =D39+E39 -> 0 | H39: =SUM(H31:H38) -> 0 | I39: =SUM(I31:I38) -> 0 | J39: =H39+I39 -> 0
B41: 3) Saúde | D41: Despesas - R$ | F41: Percentual despesa total | H41: Despesas - R$ | J41: Percentual despesa total
B42: Dentista | F42: =IF(F50=0,"",F50/F130) | J42: =IF(J50=0,"",J50/J130)
B43: Farmácia - Medicamentos
B44: Plano de Saúde
B45: Outros 1 -
B46: Outros 2 -
B50: Total Grupo 3: | D50: =SUM(D42:D49) -> 0 | E50: =SUM(E42:E49) -> 0 | F50: =D50+E50 -> 0 | H50: =SUM(H42:H49) -> 0 | I50: =SUM(I42:I49) -> 0 | J50: =H50+I50 -> 0
B52: 4) Educação | D52: Despesas - R$ | F52: Percentual despesa total | H52: Despesas - R$ | J52: Percentual despesa total
B53: Colégio / Creche | F53: =IF(F62=0,"",F62/F130) | J53: =IF(J62=0,"",J62/J130)
B54: Cursos / Treinamentos
B55: Faculdade
B56: Pós-graduação
...

Sheet Jul - Ago
B2: Controle Financeiro Casal 2026 Receitas x Despesas | D2: Julho | H2: Agosto
B4: Discriminação dos itens | D4: ='Página Inicial'!C6 -> Nome Esposa | E4: ='Página Inicial'!F6 -> Nome Esposo | F4: Total | H4: =D4 -> Nome Esposa | I4: =E4 -> Nome Esposo | J4: Total
B5: Receitas 1
B6: Receitas 2
B7: Receitas 3
B10: ( - ) Impostos retidos / pagos
B11: Total Salários: | D11: =D5+D6+D7+D8+D9-D10 -> 0 | E11: =E5+E6+E7+E8+E9-E10 -> 0 | F11: =D11+E11 -> 0 | H11: =H5+H6+H7+H8+H9-H10 -> 0 | I11: =I5+I6+I7+I8+I9-I10 -> 0 | J11: =H11+I11 -> 0
B12: Despesas por Grupo
B13: 1) Habitação | D13: Despesas - R$ | F13: Percentual despesa total | H13: Despesas - R$ | J13: Percentual despesa total
B14: Água e Esgoto | F14: =IF(F28=0,"",F28/F130) | J14: =IF(J28=0,"",J28/J130)
B15: Condomínio
B16: Diarista / Empregada
B17: Energia Elétrica
B18: IPTU / Outras taxas
B19: Lavagem de Roupas
B20: Manutenção Geral
B21: Prestação Apartamento / Aluguel
B22: Telefone Fixo / Internet
B23: Outros 1 -
B24: Outros 2 -
B28: Total Grupo 1: | D28: =SUM(D14:D27) -> 0 | E28: =SUM(E14:E27) -> 0 | F28: =D28+E28 -> 0 | H28: =SUM(H14:H27) -> 0 | I28: =SUM(I14:I27) -> 0 | J28: =H28+I28 -> 0
B30: 2) Alimentação | D30: Despesas - R$ | F30: Percentual despesa total | H30: Despesas - R$ | J30: Percentual despesa total
B31: Refeições diárias (Almoço / Jantar, Etc) | F31: =IF(F39=0,"",F39/F130) | J31: =IF(J39=0,"",J39/J130)
B32: Supermercado - Mensal
B33: Supermercado / Padaria - Dia a dia
B34: Outros 1 -
B35: Outros 2 -
B39: Total Grupo 2: | D39: =SUM(D31:D38) -> 0 | E39: =SUM(E31:E38) -> 0 | F39: =D39+E39 -> 0 | H39: =SUM(H31:H38) -> 0 | I39: =SUM(I31:I38) -> 0 | J39: =H39+I39 -> 0
B41: 3) Saúde | D41: Despesas - R$ | F41: Percentual despesa total | H41: Despesas - R$ | J41: Percentual despesa total
B42: Dentista | F42: =IF(F50=0,"",F50/F130) | J42: =IF(J50=0,"",J50/J130)
B43: Farmácia - Medicamentos
B44: Plano de Saúde
B45: Outros 1 -
B46: Outros 2 -
B50: Total Grupo 3: | D50: =SUM(D42:D49) -> 0 | E50: =SUM(E42:E49) -> 0 | F50: =D50+E50 -> 0 | H50: =SUM(H42:H49) -> 0 | I50: =SUM(I42:I49) -> 0 | J50: =H50+I50 -> 0
B52: 4) Educação | D52: Despesas - R$ | F52: Percentual despesa total | H52: Despesas - R$ | J52: Percentual despesa total
B53: Colégio / Creche | F53: =IF(F62=0,"",F62/F130) | J53: =IF(J62=0,"",J62/J130)
B54: Cursos / Treinamentos
B55: Faculdade
B56: Pós-graduação
...

Sheet Set - Out
B2: Controle Financeiro Casal 2026 Receitas x Despesas | D2: Setembro | H2: Outubro
B4: Discriminação dos itens | D4: ='Página Inicial'!C6 -> Nome Esposa | E4: ='Página Inicial'!F6 -> Nome Esposo | F4: Total | H4: =D4 -> Nome Esposa | I4: =E4 -> Nome Esposo | J4: Total
B5: Receitas 1
B6: Receitas 2
B7: Receitas 3
B10: ( - ) Impostos retidos / pagos
B11: Total Salários: | D11: =D5+D6+D7+D8+D9-D10 -> 0 | E11: =E5+E6+E7+E8+E9-E10 -> 0 | F11: =D11+E11 -> 0 | H11: =H5+H6+H7+H8+H9-H10 -> 0 | I11: =I5+I6+I7+I8+I9-I10 -> 0 | J11: =H11+I11 -> 0
B12: Despesas por Grupo
B13: 1) Habitação | D13: Despesas - R$ | F13: Percentual despesa total | H13: Despesas - R$ | J13: Percentual despesa total
B14: Água e Esgoto | F14: =IF(F28=0,"",F28/F130) | J14: =IF(J28=0,"",J28/J130)
B15: Condomínio
B16: Diarista / Empregada
B17: Energia Elétrica
B18: IPTU / Outras taxas
B19: Lavagem de Roupas
B20: Manutenção Geral
B21: Prestação Apartamento / Aluguel
B22: Telefone Fixo / Internet
B23: Outros 1 -
B24: Outros 2 -
B28: Total Grupo 1: | D28: =SUM(D14:D27) -> 0 | E28: =SUM(E14:E27) -> 0 | F28: =D28+E28 -> 0 | H28: =SUM(H14:H27) -> 0 | I28: =SUM(I14:I27) -> 0 | J28: =H28+I28 -> 0
B30: 2) Alimentação | D30: Despesas - R$ | F30: Percentual despesa total | H30: Despesas - R$ | J30: Percentual despesa total
B31: Refeições diárias (Almoço / Jantar, Etc) | F31: =IF(F39=0,"",F39/F130) | J31: =IF(J39=0,"",J39/J130)
B32: Supermercado - Mensal
B33: Supermercado / Padaria - Dia a dia
B34: Outros 1 -
B35: Outros 2 -
B39: Total Grupo 2: | D39: =SUM(D31:D38) -> 0 | E39: =SUM(E31:E38) -> 0 | F39: =D39+E39 -> 0 | H39: =SUM(H31:H38) -> 0 | I39: =SUM(I31:I38) -> 0 | J39: =H39+I39 -> 0
B41: 3) Saúde | D41: Despesas - R$ | F41: Percentual despesa total | H41: Despesas - R$ | J41: Percentual despesa total
B42: Dentista | F42: =IF(F50=0,"",F50/F130) | J42: =IF(J50=0,"",J50/J130)
B43: Farmácia - Medicamentos
B44: Plano de Saúde
B45: Outros 1 -
B46: Outros 2 -
B50: Total Grupo 3: | D50: =SUM(D42:D49) -> 0 | E50: =SUM(E42:E49) -> 0 | F50: =D50+E50 -> 0 | H50: =SUM(H42:H49) -> 0 | I50: =SUM(I42:I49) -> 0 | J50: =H50+I50 -> 0
B52: 4) Educação | D52: Despesas - R$ | F52: Percentual despesa total | H52: Despesas - R$ | J52: Percentual despesa total
B53: Colégio / Creche | F53: =IF(F62=0,"",F62/F130) | J53: =IF(J62=0,"",J62/J130)
B54: Cursos / Treinamentos
B55: Faculdade
B56: Pós-graduação
...

Sheet Nov - Dez
B2: Controle Financeiro Casal 2026 Receitas x Despesas | D2: Novembro | H2: Dezembro
B4: Discriminação dos itens | D4: ='Página Inicial'!C6 -> Nome Esposa | E4: ='Página Inicial'!F6 -> Nome Esposo | F4: Total | H4: =D4 -> Nome Esposa | I4: =E4 -> Nome Esposo | J4: Total
B5: Receitas 1
B6: Receitas 2
B7: Receitas 3
B10: ( - ) Impostos retidos / pagos
B11: Total Salários: | D11: =D5+D6+D7+D8+D9-D10 -> 0 | E11: =E5+E6+E7+E8+E9-E10 -> 0 | F11: =D11+E11 -> 0 | H11: =H5+H6+H7+H8+H9-H10 -> 0 | I11: =I5+I6+I7+I8+I9-I10 -> 0 | J11: =H11+I11 -> 0
B12: Despesas por Grupo
B13: 1) Habitação | D13: Despesas - R$ | F13: Percentual despesa total | H13: Despesas - R$ | J13: Percentual despesa total
B14: Água e Esgoto | F14: =IF(F28=0,"",F28/F130) | J14: =IF(J28=0,"",J28/J130)
B15: Condomínio
B16: Diarista / Empregada
B17: Energia Elétrica
B18: IPTU / Outras taxas
B19: Lavagem de Roupas
B20: Manutenção Geral
B21: Prestação Apartamento / Aluguel
B22: Telefone Fixo / Internet
B23: Outros 1 -
B24: Outros 2 -
B28: Total Grupo 1: | D28: =SUM(D14:D27) -> 0 | E28: =SUM(E14:E27) -> 0 | F28: =D28+E28 -> 0 | H28: =SUM(H14:H27) -> 0 | I28: =SUM(I14:I27) -> 0 | J28: =H28+I28 -> 0
B30: 2) Alimentação | D30: Despesas - R$ | F30: Percentual despesa total | H30: Despesas - R$ | J30: Percentual despesa total
B31: Refeições diárias (Almoço / Jantar, Etc) | F31: =IF(F39=0,"",F39/F130) | J31: =IF(J39=0,"",J39/J130)
B32: Supermercado - Mensal
B33: Supermercado / Padaria - Dia a dia
B34: Outros 1 -
B35: Outros 2 -
B39: Total Grupo 2: | D39: =SUM(D31:D38) -> 0 | E39: =SUM(E31:E38) -> 0 | F39: =D39+E39 -> 0 | H39: =SUM(H31:H38) -> 0 | I39: =SUM(I31:I38) -> 0 | J39: =H39+I39 -> 0
B41: 3) Saúde | D41: Despesas - R$ | F41: Percentual despesa total | H41: Despesas - R$ | J41: Percentual despesa total
B42: Dentista | F42: =IF(F50=0,"",F50/F130) | J42: =IF(J50=0,"",J50/J130)
B43: Farmácia - Medicamentos
B44: Plano de Saúde
B45: Outros 1 -
B46: Outros 2 -
B50: Total Grupo 3: | D50: =SUM(D42:D49) -> 0 | E50: =SUM(E42:E49) -> 0 | F50: =D50+E50 -> 0 | H50: =SUM(H42:H49) -> 0 | I50: =SUM(I42:I49) -> 0 | J50: =H50+I50 -> 0
B52: 4) Educação | D52: Despesas - R$ | F52: Percentual despesa total | H52: Despesas - R$ | J52: Percentual despesa total
B53: Colégio / Creche | F53: =IF(F62=0,"",F62/F130) | J53: =IF(J62=0,"",J62/J130)
B54: Cursos / Treinamentos
B55: Faculdade
B56: Pós-graduação
...

Sheet Gráficos
A1: Planilha com Gráficos Comparativos - Ano 2026
A4: Meses | B4: Receitas | C4: Despesas | D4: Diferença
A5: Janeiro | B5: ='Jan - Fev'!$D$137 | C5: ='Jan - Fev'!$D$138 | D5: =B5-C5 -> #VALUE!
A6: Fevereiro | B6: ='Jan - Fev'!$H$137 | C6: ='Jan - Fev'!$H$138 | D6: =B6-C6 -> #VALUE!
A7: Março | B7: ='Mar - Abr'!$D$137 | C7: ='Mar - Abr'!$D$138 | D7: =B7-C7 -> #VALUE!
A8: Abril | B8: ='Mar - Abr'!$H$137 | C8: ='Mar - Abr'!$H$138 | D8: =B8-C8 -> #VALUE!
A9: Maio | B9: ='Mai - Jun'!$D$137 | C9: ='Mai - Jun'!$D$138 | D9: =B9-C9 -> #VALUE!
A10: Junho | B10: ='Mai - Jun'!$H$137 | C10: ='Mai - Jun'!$H$138 | D10: =B10-C10 -> #VALUE!
A11: Julho | B11: ='Jul - Ago'!$D$137 | C11: ='Jul - Ago'!$D$138 | D11: =B11-C11 -> #VALUE!
A12: Agosto | B12: ='Jul - Ago'!$H$137 | C12: ='Jul - Ago'!$H$138 | D12: =B12-C12 -> #VALUE!
A13: Setembro | B13: ='Set - Out'!$D$137 | C13: ='Set - Out'!$D$138 | D13: =B13-C13 -> #VALUE!
A14: Outubro | B14: ='Set - Out'!$H$137 | C14: ='Set - Out'!$H$138 | D14: =B14-C14 -> #VALUE!
A15: Novembro | B15: ='Nov - Dez'!$D$137 | C15: ='Nov - Dez'!$D$138 | D15: =B15-C15 -> #VALUE!
A16: Dezembro | B16: ='Nov - Dez'!$H$137 | C16: ='Nov - Dez'!$H$138 | D16: =B16-C16 -> #VALUE!

Sheet Jan a Dez
A1: Comparativo 2026 - Receitas x Despesas | C1: Janeiro | E1: Fevereiro | G1: Março | I1: Abril | K1: Maio | M1: Junho | O1: Julho | Q1: Agosto | S1: Setembro | U1: Outubro | W1: Novembro | Y1: Dezembro | AC1: Total Ano | AE1: Média Mensal Ano
A3: Discriminação dos itens | C3: Casal | E3: Casal | G3: Casal | I3: Casal | K3: Casal | M3: Casal | O3: Casal | Q3: Casal | S3: Casal | U3: Casal | W3: Casal | Y3: Casal | AC3: Casal | AE3: Casal
A5: Total Receitas | C5: ='Jan - Fev'!$F$11 -> 0 | E5: ='Jan - Fev'!$J$11 -> 0 | G5: ='Mar - Abr'!$F$11 -> 0 | I5: ='Mar - Abr'!$J$11 -> 0 | K5: ='Mai - Jun'!$F$11 -> 0 | M5: ='Mai - Jun'!$J$11 -> 0 | O5: ='Jul - Ago'!$F$11 -> 0 | Q5: ='Jul - Ago'!$J$11 -> 0 | S5: ='Set - Out'!$F$11 -> 0 | U5: ='Set - Out'!$J$11 -> 0 | W5: ='Nov - Dez'!$F$11 -> 0 | Y5: ='Nov - Dez'!$J$11 -> 0 | AC5: =SUM(C5:Z5) -> 0 | AE5: =AC5/12 -> 0
A6: Despesas por Grupos | C6: Despesas - R$ | E6: Despesas - R$ | G6: Despesas - R$ | I6: Despesas - R$ | K6: Despesas - R$ | M6: Despesas - R$ | O6: Despesas - R$ | Q6: Despesas - R$ | S6: Despesas - R$ | U6: Despesas - R$ | W6: Despesas - R$ | Y6: Despesas - R$ | AC6: Despesas - R$ | AE6: Despesas - R$
A7: 1) Habitação | C7: ='Jan - Fev'!$F$28 -> 0 | E7: ='Jan - Fev'!$J$28 -> 0 | G7: ='Mar - Abr'!$F$28 -> 0 | I7: ='Mar - Abr'!$J$28 -> 0 | K7: ='Mai - Jun'!$F$28 -> 0 | M7: ='Mai - Jun'!$J$28 -> 0 | O7: ='Jul - Ago'!$F$28 -> 0 | Q7: ='Jul - Ago'!$J$28 -> 0 | S7: ='Set - Out'!$F$28 -> 0 | U7: ='Set - Out'!$J$28 -> 0 | W7: ='Nov - Dez'!$F$28 -> 0 | Y7: ='Nov - Dez'!$J$28 -> 0 | AC7: =SUM(C7:Z7) -> 0 | AE7: =AC7/12 -> 0
A8: Percentuais | C8: ='Jan - Fev'!$F$14 | E8: ='Jan - Fev'!$J$14 | G8: ='Mar - Abr'!$F$14 | I8: ='Mar - Abr'!$J$14 | K8: ='Mai - Jun'!$F$14 | M8: ='Mai - Jun'!$J$14 | O8: ='Jul - Ago'!$F$14 | Q8: ='Jul - Ago'!$J$14 | S8: ='Set - Out'!$F$14 | U8: ='Set - Out'!$J$14 | W8: ='Nov - Dez'!$F$14 | Y8: ='Nov - Dez'!$J$14 | AC8: =IF(AC7<=0,"",AC7/AC26) | AE8: =IF(AC7<=0,"",AE7/AE26)
A9: 2) Alimentação | C9: ='Jan - Fev'!$F$39 -> 0 | E9: ='Jan - Fev'!$J$39 -> 0 | G9: ='Mar - Abr'!$F$39 -> 0 | I9: ='Mar - Abr'!$J$39 -> 0 | K9: ='Mai - Jun'!$F$39 -> 0 | M9: ='Mai - Jun'!$J$39 -> 0 | O9: ='Jul - Ago'!$F$39 -> 0 | Q9: ='Jul - Ago'!$J$39 -> 0 | S9: ='Set - Out'!$F$39 -> 0 | U9: ='Set - Out'!$J$39 -> 0 | W9: ='Nov - Dez'!$F$39 -> 0 | Y9: ='Nov - Dez'!$J$39 -> 0 | AC9: =SUM(C9:Z9) -> 0 | AE9: =AC9/12 -> 0
A10: Percentuais | C10: ='Jan - Fev'!$F$31 | E10: ='Jan - Fev'!$J$31 | G10: ='Mar - Abr'!$F$31 | I10: ='Mar - Abr'!$J$31 | K10: ='Mai - Jun'!$F$31 | M10: ='Mai - Jun'!$J$31 | O10: ='Jul - Ago'!$F$31 | Q10: ='Jul - Ago'!$J$31 | S10: ='Set - Out'!$F$31 | U10: ='Set - Out'!$J$31 | W10: ='Nov - Dez'!$F$31 | Y10: ='Nov - Dez'!$J$31 | AC10: =IF(AC9<=0,"",AC9/AC26) | AE10: =IF(AC9<=0,"",AE9/AE26)
A11: 3) Saúde | C11: ='Jan - Fev'!$F$50 -> 0 | E11: ='Jan - Fev'!$J$50 -> 0 | G11: ='Mar - Abr'!$F$50 -> 0 | I11: ='Mar - Abr'!$J$50 -> 0 | K11: ='Mai - Jun'!$F$50 -> 0 | M11: ='Mai - Jun'!$J$50 -> 0 | O11: ='Jul - Ago'!$F$50 -> 0 | Q11: ='Jul - Ago'!$J$50 -> 0 | S11: ='Set - Out'!$F$50 -> 0 | U11: ='Set - Out'!$J$50 -> 0 | W11: ='Nov - Dez'!$F$50 -> 0 | Y11: ='Nov - Dez'!$J$50 -> 0 | AC11: =SUM(C11:Z11) -> 0 | AE11: =AC11/12 -> 0
A12: Percentuais | C12: ='Jan - Fev'!$F$42 | E12: ='Jan - Fev'!$J$42 | G12: ='Mar - Abr'!$F$42 | I12: ='Mar - Abr'!$J$42 | K12: ='Mai - Jun'!$F$42 | M12: ='Mai - Jun'!$J$42 | O12: ='Jul - Ago'!$F$42 | Q12: ='Jul - Ago'!$J$42 | S12: ='Set - Out'!$F$42 | U12: ='Set - Out'!$J$42 | W12: ='Nov - Dez'!$F$42 | Y12: ='Nov - Dez'!$J$42 | AC12: =IF(AC11<=0,"",AC11/AC26) | AE12: =IF(AC7<=0,"",AE11/AE26)
A13: 4) Educação | C13: ='Jan - Fev'!$F$62 -> 0 | E13: ='Jan - Fev'!$J$62 -> 0 | G13: ='Mar - Abr'!$F$62 -> 0 | I13: ='Mar - Abr'!$J$62 -> 0 | K13: ='Mai - Jun'!$F$62 -> 0 | M13: ='Mai - Jun'!$J$62 -> 0 | O13: ='Jul - Ago'!$F$62 -> 0 | Q13: ='Jul - Ago'!$J$62 -> 0 | S13: ='Set - Out'!$F$62 -> 0 | U13: ='Set - Out'!$J$62 -> 0 | W13: ='Nov - Dez'!$F$62 -> 0 | Y13: ='Nov - Dez'!$J$62 -> 0 | AC13: =SUM(C13:Z13) -> 0 | AE13: =AC13/12 -> 0
A14: Percentuais | C14: ='Jan - Fev'!$F$53 | E14: ='Jan - Fev'!$J$53 | G14: ='Mar - Abr'!$F$53 | I14: ='Mar - Abr'!$J$53 | K14: ='Mai - Jun'!$F$53 | M14: ='Mai - Jun'!$J$53 | O14: ='Jul - Ago'!$F$53 | Q14: ='Jul - Ago'!$J$53 | S14: ='Set - Out'!$F$53 | U14: ='Set - Out'!$J$53 | W14: ='Nov - Dez'!$F$53 | Y14: ='Nov - Dez'!$J$53 | AC14: =IF(AC13<=0,"",AC13/AC26) | AE14: =IF(AC7<=0,"",AE13/AE26)
A15: 5) Despesas Pessoais | C15: ='Jan - Fev'!$F$74 -> 0 | E15: ='Jan - Fev'!$J$74 -> 0 | G15: ='Mar - Abr'!$F$74 -> 0 | I15: ='Mar - Abr'!$J$74 -> 0 | K15: ='Mai - Jun'!$F$74 -> 0 | M15: ='Mai - Jun'!$J$74 -> 0 | O15: ='Jul - Ago'!$F$74 -> 0 | Q15: ='Jul - Ago'!$J$74 -> 0 | S15: ='Set - Out'!$F$74 -> 0 | U15: ='Set - Out'!$J$74 -> 0 | W15: ='Nov - Dez'!$F$74 -> 0 | Y15: ='Nov - Dez'!$J$74 -> 0 | AC15: =SUM(C15:Z15) -> 0 | AE15: =AC15/12 -> 0
A16: Percentuais | C16: ='Jan - Fev'!$F$65 | E16: ='Jan - Fev'!$J$65 | G16: ='Mar - Abr'!$F$65 | I16: ='Mar - Abr'!$J$65 | K16: ='Mai - Jun'!$F$65 | M16: ='Mai - Jun'!$J$65 | O16: ='Jul - Ago'!$F$65 | Q16: ='Jul - Ago'!$J$65 | S16: ='Set - Out'!$F$65 | U16: ='Set - Out'!$J$65 | W16: ='Nov - Dez'!$F$65 | Y16: ='Nov - Dez'!$J$65 | AC16: =IF(AC15<=0,"",AC15/AC26) | AE16: =IF(AC7<=0,"",AE15/AE26)
A17: 6) Transporte | C17: ='Jan - Fev'!$F$89 -> 0 | E17: ='Jan - Fev'!$J$89 -> 0 | G17: ='Mar - Abr'!$F$89 -> 0 | I17: ='Mar - Abr'!$J$89 -> 0 | K17: ='Mai - Jun'!$F$89 -> 0 | M17: ='Mai - Jun'!$J$89 -> 0 | O17: ='Jul - Ago'!$F$89 -> 0 | Q17: ='Jul - Ago'!$J$89 -> 0 | S17: ='Set - Out'!$F$89 -> 0 | U17: ='Set - Out'!$J$89 -> 0 | W17: ='Nov - Dez'!$F$89 -> 0 | Y17: ='Nov - Dez'!$J$89 -> 0 | AC17: =SUM(C17:Z17) -> 0 | AE17: =AC17/12 -> 0
A18: Percentuais | C18: ='Jan - Fev'!$F$77 | E18: ='Jan - Fev'!$J$77 | G18: ='Mar - Abr'!$F$77 | I18: ='Mar - Abr'!$J$77 | K18: ='Mai - Jun'!$F$77 | M18: ='Mai - Jun'!$J$77 | O18: ='Jul - Ago'!$F$77 | Q18: ='Jul - Ago'!$J$77 | S18: ='Set - Out'!$F$77 | U18: ='Set - Out'!$J$77 | W18: ='Nov - Dez'!$F$77 | Y18: ='Nov - Dez'!$J$77 | AC18: =IF(AC17<=0,"",AC17/AC26) | AE18: =IF(AC7<=0,"",AE17/AE26)
A19: 7) Lazer | C19: ='Jan - Fev'!$F$100 -> 0 | E19: ='Jan - Fev'!$J$100 -> 0 | G19: ='Mar - Abr'!$F$100 -> 0 | I19: ='Mar - Abr'!$J$100 -> 0 | K19: ='Mai - Jun'!$F$100 -> 0 | M19: ='Mai - Jun'!$J$100 -> 0 | O19: ='Jul - Ago'!$F$100 -> 0 | Q19: ='Jul - Ago'!$J$100 -> 0 | S19: ='Set - Out'!$F$100 -> 0 | U19: ='Set - Out'!$J$100 -> 0 | W19: ='Nov - Dez'!$F$100 -> 0 | Y19: ='Nov - Dez'!$J$100 -> 0 | AC19: =SUM(C19:Z19) -> 0 | AE19: =AC19/12 -> 0
A20: Percentuais | C20: ='Jan - Fev'!$F$92 | E20: ='Jan - Fev'!$J$92 | G20: ='Mar - Abr'!$F$92 | I20: ='Mar - Abr'!$J$92 | K20: ='Mai - Jun'!$F$92 | M20: ='Mai - Jun'!$J$92 | O20: ='Jul - Ago'!$F$92 | Q20: ='Jul - Ago'!$J$92 | S20: ='Set - Out'!$F$92 | U20: ='Set - Out'!$J$92 | W20: ='Nov - Dez'!$F$92 | Y20: ='Nov - Dez'!$J$92 | AC20: =IF(AC19<=0,"",AC19/AC26) | AE20: =IF(AC7<=0,"",AE19/AE26)
A21: 8) Outras Despesas / Variáveis | C21: ='Jan - Fev'!$F$114 -> 0 | E21: ='Jan - Fev'!$J$114 -> 0 | G21: ='Mar - Abr'!$F$114 -> 0 | I21: ='Mar - Abr'!$J$114 -> 0 | K21: ='Mai - Jun'!$F$114 -> 0 | M21: ='Mai - Jun'!$J$114 -> 0 | O21: ='Jul - Ago'!$F$114 -> 0 | Q21: ='Jul - Ago'!$J$114 -> 0 | S21: ='Set - Out'!$F$114 -> 0 | U21: ='Set - Out'!$J$114 -> 0 | W21: ='Nov - Dez'!$F$114 -> 0 | Y21: ='Nov - Dez'!$J$114 -> 0 | AC21: =SUM(C21:Z21) -> 0 | AE21: =AC21/12 -> 0
A22: Percentuais | C22: ='Jan - Fev'!$F$103 | E22: ='Jan - Fev'!$J$103 | G22: ='Mar - Abr'!$F$103 | I22: ='Mar - Abr'!$J$103 | K22: ='Mai - Jun'!$F$103 | M22: ='Mai - Jun'!$J$103 | O22: ='Jul - Ago'!$F$103 | Q22: ='Jul - Ago'!$J$103 | S22: ='Set - Out'!$F$103 | U22: ='Set - Out'!$J$103 | W22: ='Nov - Dez'!$F$103 | Y22: ='Nov - Dez'!$J$103 | AC22: =IF(AC21<=0,"",AC21/AC26) | AE22: =IF(AC7<=0,"",AE21/AE26)
A23: 9) Despesas Extraordinárias | C23: ='Jan - Fev'!$F$128 -> 0 | E23: ='Jan - Fev'!$J$128 -> 0 | G23: ='Mar - Abr'!$F$128 -> 0 | I23: ='Mar - Abr'!$J$128 -> 0 | K23: ='Mai - Jun'!$F$128 -> 0 | M23: ='Mai - Jun'!$J$128 -> 0 | O23: ='Jul - Ago'!$F$128 -> 0 | Q23: ='Jul - Ago'!$J$128 -> 0 | S23: ='Set - Out'!$F$128 -> 0 | U23: ='Set - Out'!$J$128 -> 0 | W23: ='Nov - Dez'!$F$128 -> 0 | Y23: ='Nov - Dez'!$J$128 -> 0 | AC23: =SUM(C23:Z23) -> 0 | AE23: =AC23/12 -> 0
A24: Percentuais | C24: ='Jan - Fev'!$F$117 | E24: ='Jan - Fev'!$J$117 | G24: ='Mar - Abr'!$F$117 | I24: ='Mar - Abr'!$J$117 | K24: ='Mai - Jun'!$F$117 | M24: ='Mai - Jun'!$J$117 | O24: ='Jul - Ago'!$F$117 | Q24: ='Jul - Ago'!$J$117 | S24: ='Set - Out'!$F$117 | U24: ='Set - Out'!$J$117 | W24: ='Nov - Dez'!$F$117 | Y24: ='Nov - Dez'!$J$117 | AC24: =IF(AC23<=0,"",AC23/AC26) | AE24: =IF(AC9<=0,"",AE23/AE26)
A26: Total Despesas: | C26: =C7+C9+C11+C13+C15+C17+C19+C21+C23 -> 0 | E26: =E7+E9+E11+E13+E15+E17+E19+E21+E23 -> 0 | G26: =G7+G9+G11+G13+G15+G17+G19+G21+G23 -> 0 | I26: =I7+I9+I11+I13+I15+I17+I19+I21+I23 -> 0 | K26: =K7+K9+K11+K13+K15+K17+K19+K21+K23 -> 0 | M26: =M7+M9+M11+M13+M15+M17+M19+M21+M23 -> 0 | O26: =O7+O9+O11+O13+O15+O17+O19+O21+O23 -> 0 | Q26: =Q7+Q9+Q11+Q13+Q15+Q17+Q19+Q21+Q23 -> 0 | S26: =S7+S9+S11+S13+S15+S17+S19+S21+S23 -> 0 | U26: =U7+U9+U11+U13+U15+U17+U19+U21+U23 -> 0 | W26: =W7+W9+W11+W13+W15+W17+W19+W21+W23 -> 0 | Y26: =Y7+Y9+Y11+Y13+Y15+Y17+Y19+Y21+Y23 -> 0 | AC26: =AC7+AC9+AC11+AC13+AC15+AC17+AC19+AC21+AC23 -> 0 | AE26: =AE7+AE9+AE11+AE13+AE15+AE17+AE19+AE21+AE23 -> 0
A28: Valor Disponível final: | C28: =C5-C26 -> 0 | E28: =E5-E26 -> 0 | G28: =G5-G26 -> 0 | I28: =I5-I26 -> 0 | K28: =K5-K26 -> 0 | M28: =M5-M26 -> 0 | O28: =O5-O26 -> 0 | Q28: =Q5-Q26 -> 0 | S28: =S5-S26 -> 0 | U28: =U5-U26 -> 0 | W28: =W5-W26 -> 0 | Y28: =Y5-Y26 -> 0 | AC28: =AC5-AC26 -> 0 | AE28: =AE5-AE26 -> 0
A30: Comparativo - Mês
A31: Soma Marido e Esposa - Receitas | C31: ='Jan - Fev'!$D$137 | E31: ='Jan - Fev'!$H$137 | G31: ='Mar - Abr'!$D$137 | I31: ='Mar - Abr'!$H$137 | K31: ='Mai - Jun'!$D$137 | M31: ='Mai - Jun'!$H$137 | O31: ='Jul - Ago'!$D$137 | Q31: ='Jul - Ago'!$H$137 | S31: ='Set - Out'!$D$137 | U31: ='Set - Out'!$H$137 | W31: ='Nov - Dez'!$D$137 | Y31: ='Nov - Dez'!$H$137 | AC31: =SUM(C31:Z31) -> 0 | AE31: =AC31/12 -> 0
A32: Soma Marido e Esposa - Despesas | C32: ='Jan - Fev'!$D$138 | E32: ='Jan - Fev'!$H$138 | G32: ='Mar - Abr'!$D$138 | I32: ='Mar - Abr'!$H$138 | K32: ='Mai - Jun'!$D$138 | M32: ='Mai - Jun'!$H$138 | O32: ='Jul - Ago'!$D$138 | Q32: ='Jul - Ago'!$H$138 | S32: ='Set - Out'!$D$138 | U32: ='Set - Out'!$H$138 | W32: ='Nov - Dez'!$D$138 | Y32: ='Nov - Dez'!$H$138 | AC32: =SUM(C32:Z32) -> 0 | AE32: =AC32/12 -> 0
A33: Diferença - Receitas X Despesas | C33: =IF(C31="",0,IF(C32="",0,C31-C32)) -> 0 | E33: =IF(E31="",0,IF(E32="",0,E31-E32)) -> 0 | G33: =IF(G31="",0,IF(G32="",0,G31-G32)) -> 0 | I33: =IF(I31="",0,IF(I32="",0,I31-I32)) -> 0 | K33: =IF(K31="",0,IF(K32="",0,K31-K32)) -> 0 | M33: =IF(M31="",0,IF(M32="",0,M31-M32)) -> 0 | O33: =IF(O31="",0,IF(O32="",0,O31-O32)) -> 0 | Q33: =IF(Q31="",0,IF(Q32="",0,Q31-Q32)) -> 0 | S33: =IF(S31="",0,IF(S32="",0,S31-S32)) -> 0 | U33: =IF(U31="",0,IF(U32="",0,U31-U32)) -> 0 | W33: =IF(W31="",0,IF(W32="",0,W31-W32)) -> 0 | Y33: =IF(Y31="",0,IF(Y32="",0,Y31-Y32)) -> 0 | AC33: =AC31-AC32 -> 0 | AE33: =AE31-AE32 -> 0
A35: Valor aplicado no Mês em percentual | C35: ='Jan - Fev'!$D$154 -> 0 | E35: ='Jan - Fev'!$H$154 -> 0 | G35: ='Mar - Abr'!$D$154 -> 0 | I35: ='Mar - Abr'!$H$154 -> 0 | K35: ='Mai - Jun'!$D$154 -> 0 | M35: ='Mai - Jun'!$H$154 -> 0 | O35: ='Jul - Ago'!$D$154 -> 0 | Q35: ='Jul - Ago'!$H$154 -> 0 | S35: ='Set - Out'!$D$154 -> 0 | U35: ='Set - Out'!$H$154 -> 0 | W35: ='Nov - Dez'!$D$154 -> 0 | Y35: ='Nov - Dez'!$H$154 -> 0 | AC35: =C35+E35+G35+I35+K35+M35+O35+Q35+S35+U35+W35+Y35 -> 0 | AE35: =AC35/12 -> 0
A37: Resumo Aplicação Financeira / Reserva
A38: Esposa - Resumo | C38: ='Jan - Fev'!$D$177+'Jan - Fev'!$D$179-'Jan - Fev'!$D$178 -> 0 | E38: ='Jan - Fev'!$H$177+'Jan - Fev'!$H$179-'Jan - Fev'!$H$178 -> 0 | G38: ='Mar - Abr'!$D$177+'Mar - Abr'!$D$179-'Mar - Abr'!$D$178 -> 0 | I38: ='Mar - Abr'!$H$177+'Mar - Abr'!$H$179-'Mar - Abr'!$H$178 -> 0 | K38: ='Mai - Jun'!$D$177+'Mai - Jun'!$D$179-'Mai - Jun'!$D$178 -> 0 | M38: ='Mai - Jun'!$H$177+'Mai - Jun'!$H$179-'Mai - Jun'!$H$178 -> 0 | O38: ='Jul - Ago'!$D$177+'Jul - Ago'!$D$179-'Jul - Ago'!$D$178 -> 0 | Q38: ='Jul - Ago'!$H$177+'Jul - Ago'!$H$179-'Jul - Ago'!$H$178 -> 0 | S38: ='Set - Out'!$D$177+'Set - Out'!$D$179-'Set - Out'!$D$178 -> 0 | U38: ='Set - Out'!$H$177+'Set - Out'!$H$179-'Set - Out'!$H$178 -> 0 | W38: ='Nov - Dez'!$D$177+'Nov - Dez'!$D$179-'Nov - Dez'!$D$178 -> 0 | Y38: ='Nov - Dez'!$H$177+'Nov - Dez'!$H$179-'Nov - Dez'!$H$178 -> 0 | AC38: =SUM(C38:Z38) -> 0 | AE38: =AC38/12 -> 0
A39: Marido - Resumo | C39: ='Jan - Fev'!$E$177+'Jan - Fev'!$E$179-'Jan - Fev'!$E$178 -> 0 | E39: ='Jan - Fev'!$I$177+'Jan - Fev'!$I$179-'Jan - Fev'!$I$178 -> 0 | G39: ='Mar - Abr'!$E$177+'Mar - Abr'!$E$179-'Mar - Abr'!$E$178 -> 0 | I39: ='Mar - Abr'!$I$177+'Mar - Abr'!$I$179-'Mar - Abr'!$I$178 -> 0 | K39: ='Mai - Jun'!$E$177+'Mai - Jun'!$E$179-'Mai - Jun'!$E$178 -> 0 | M39: ='Mai - Jun'!$I$177+'Mai - Jun'!$I$179-'Mai - Jun'!$I$178 -> 0 | O39: ='Jul - Ago'!$E$177+'Jul - Ago'!$E$179-'Jul - Ago'!$E$178 -> 0 | Q39: ='Jul - Ago'!$I$177+'Jul - Ago'!$I$179-'Jul - Ago'!$I$178 -> 0 | S39: ='Set - Out'!$E$177+'Set - Out'!$E$179-'Set - Out'!$E$178 -> 0 | U39: ='Set - Out'!$I$177+'Set - Out'!$I$179-'Set - Out'!$I$178 -> 0 | W39: ='Nov - Dez'!$E$177+'Nov - Dez'!$E$179-'Nov - Dez'!$E$178 -> 0 | Y39: ='Nov - Dez'!$I$177+'Nov - Dez'!$I$179-'Nov - Dez'!$I$178 -> 0 | AC39: =SUM(C39:Z39) -> 0 | AE39: =AC39/12 -> 0
A40: Total 1 | C40: =C38+C39 -> 0 | E40: =E38+E39 -> 0 | G40: =G38+G39 -> 0 | I40: =I38+I39 -> 0 | K40: =K38+K39 -> 0 | M40: =M38+M39 -> 0 | O40: =O38+O39 -> 0 | Q40: =Q38+Q39 -> 0 | S40: =S38+S39 -> 0 | U40: =U38+U39 -> 0 | W40: =W38+W39 -> 0 | Y40: =Y38+Y39 -> 0 | AC40: =AC38+AC39 -> 0 | AE40: =AE38+AE39 -> 0
A42: Resumo Investimento 3
A43: Esposa - Resumo | C43: ='Jan - Fev'!$D$186+'Jan - Fev'!$D$188-'Jan - Fev'!$D$187 -> 0 | E43: ='Jan - Fev'!$H$186+'Jan - Fev'!$H$188-'Jan - Fev'!$H$187 -> 0 | G43: ='Mar - Abr'!$D$186+'Mar - Abr'!$D$188-'Mar - Abr'!$D$187 -> 0 | I43: ='Mar - Abr'!$H$186+'Mar - Abr'!$H$188-'Mar - Abr'!$H$187 -> 0 | K43: ='Mai - Jun'!$D$186+'Mai - Jun'!$D$188-'Mai - Jun'!$D$187 -> 0 | M43: ='Mai - Jun'!$H$186+'Mai - Jun'!$H$188-'Mai - Jun'!$H$187 -> 0 | O43: ='Jul - Ago'!$D$186+'Jul - Ago'!$D$188-'Jul - Ago'!$D$187 -> 0 | Q43: ='Jul - Ago'!$H$186+'Jul - Ago'!$H$188-'Jul - Ago'!$H$187 -> 0 | S43: ='Set - Out'!$D$186+'Set - Out'!$D$188-'Set - Out'!$D$187 -> 0 | U43: ='Set - Out'!$H$186+'Set - Out'!$H$188-'Set - Out'!$H$187 -> 0 | W43: ='Nov - Dez'!$D$186+'Nov - Dez'!$D$188-'Nov - Dez'!$D$187 -> 0 | Y43: ='Nov - Dez'!$H$186+'Nov - Dez'!$H$188-'Nov - Dez'!$H$187 -> 0 | AC43: =SUM(C43:Z43) -> 0 | AE43: =AC43/12 -> 0
A44: Marido - Resumo | C44: ='Jan - Fev'!$E$186+'Jan - Fev'!$E$188-'Jan - Fev'!$E$187 -> 0 | E44: ='Jan - Fev'!$I$186+'Jan - Fev'!$I$188-'Jan - Fev'!$I$187 -> 0 | G44: ='Mar - Abr'!$E$186+'Mar - Abr'!$E$188-'Mar - Abr'!$E$187 -> 0 | I44: ='Mar - Abr'!$I$186+'Mar - Abr'!$I$188-'Mar - Abr'!$I$187 -> 0 | K44: ='Mai - Jun'!$E$186+'Mai - Jun'!$E$188-'Mai - Jun'!$E$187 -> 0 | M44: ='Mai - Jun'!$I$186+'Mai - Jun'!$I$188-'Mai - Jun'!$I$187 -> 0 | O44: ='Jul - Ago'!$E$186+'Jul - Ago'!$E$188-'Jul - Ago'!$E$187 -> 0 | Q44: ='Jul - Ago'!$I$186+'Jul - Ago'!$I$188-'Jul - Ago'!$I$187 -> 0 | S44: ='Set - Out'!$E$186+'Set - Out'!$E$188-'Set - Out'!$E$187 -> 0 | U44: ='Set - Out'!$I$186+'Set - Out'!$I$188-'Set - Out'!$I$187 -> 0 | W44: ='Nov - Dez'!$E$186+'Nov - Dez'!$E$188-'Nov - Dez'!$E$187 -> 0 | Y44: ='Nov - Dez'!$I$186+'Nov - Dez'!$I$188-'Nov - Dez'!$I$187 -> 0 | AC44: =SUM(C44:Z44) -> 0 | AE44: =AC44/12 -> 0
A45: Total 3 | C45: =C43+C44 -> 0 | E45: =E43+E44 -> 0 | G45: =G43+G44 -> 0 | I45: =I43+I44 -> 0 | K45: =K43+K44 -> 0 | M45: =M43+M44 -> 0 | O45: =O43+O44 -> 0 | Q45: =Q43+Q44 -> 0 | S45: =S43+S44 -> 0 | U45: =U43+U44 -> 0 | W45: =W43+W44 -> 0 | Y45: =Y43+Y44 -> 0 | AC45: =AC43+AC44 -> 0 | AE45: =AE43+AE44 -> 0
A47: Total Geral - Investimentos | C47: =C40+C45 -> 0 | E47: =E40+E45 -> 0 | G47: =G40+G45 -> 0 | I47: =I40+I45 -> 0 | K47: =K40+K45 -> 0 | M47: =M40+M45 -> 0 | O47: =O40+O45 -> 0 | Q47: =Q40+Q45 -> 0 | S47: =S40+S45 -> 0 | U47: =U40+U45 -> 0 | W47: =W40+W45 -> 0 | Y47: =Y40+Y45 -> 0 | AC47: =AC40+AC45 -> 0 | AE47: =AE40+AE45 -> 0
